BEGIN:VCALENDAR
VERSION:2.0
PRODID:-//Kunstleben Berlin - das Kunstmagazin - ECPv4.9.13//NONSGML v1.0//EN
CALSCALE:GREGORIAN
METHOD:PUBLISH
X-WR-CALNAME:Kunstleben Berlin - das Kunstmagazin
X-ORIGINAL-URL:https://www.kunstleben-berlin.de
X-WR-CALDESC:Veranstaltungen im Kunstleben Berlin - das Kunstmagazin
BEGIN:VTIMEZONE
TZID:Europe/Berlin
BEGIN:DAYLIGHT
TZOFFSETFROM:+0100
TZOFFSETTO:+0200
TZNAME:CEST
DTSTART:20180325T010000
END:DAYLIGHT
BEGIN:STANDARD
TZOFFSETFROM:+0200
TZOFFSETTO:+0100
TZNAME:CET
DTSTART:20181028T010000
END:STANDARD
END:VTIMEZONE
BEGIN:VEVENT
DTSTART;VALUE=DATE:20180305
DTEND;VALUE=DATE:20180307
DTSTAMP:20260423T152113
CREATED:20180220T160345Z
LAST-MODIFIED:20230807T103813Z
UID:72067-1520208000-1520312399@www.kunstleben-berlin.de
SUMMARY:05.03.\, 19 Uhr: Artist Talk “Indigenous Contemporary” mit Nici Cumpston und John Mawurndjul
DESCRIPTION:Moderiert von Silke Hohmann (Redakteurin\, Monopol – Magazin für Kunst und Leben) werden Inhalte\, Motive und Ausdrucksweisen von zeitgenössischen indigenen KünstlerInnen Australiens erörtert. \nTalk in englischer Sprache.\nEintritt zum Talk frei.\nAnmeldung unter: registration@me-berlin.com \nBis 19 Uhr haben Sie die Möglichkeit auch die Ausstellung zu besichtigen (Eintritt: regulär 8€ / ermäßigt 4€).\nDas me Café bleibt bis zum Veranstaltungsende für Sie geöffnet. \nBis 17. März 2018 sind darüber hinaus Arbeiten von Nici Cumpston in der Ausstellung “Calling In” in der Michael Reid Gallery\, Berlin zu sehen. \n
URL:https://www.kunstleben-berlin.de/event/05-03-19-uhr-artist-talk-indigenous-contemporary-mit-nici-cumpston-und-john-mawurndjul/
LOCATION:me Collectors Room / Stiftung Olbricht\, Auguststraße 68\, Berlin\, 10117\, Deutschland
CATEGORIES:Begleitprogramm zur Ausstellung
GEO:52.5270397;13.3951427
X-APPLE-STRUCTURED-LOCATION;VALUE=URI;X-ADDRESS=me Collectors Room / Stiftung Olbricht Auguststraße 68 Berlin 10117 Deutschland;X-APPLE-RADIUS=500;X-TITLE=Auguststraße 68:geo:13.3951427,52.5270397
END:VEVENT
END:VCALENDAR