BEGIN:VCALENDAR
VERSION:2.0
PRODID:-//Kunstleben Berlin - das Kunstmagazin - ECPv4.9.13//NONSGML v1.0//EN
CALSCALE:GREGORIAN
METHOD:PUBLISH
X-WR-CALNAME:Kunstleben Berlin - das Kunstmagazin
X-ORIGINAL-URL:https://www.kunstleben-berlin.de
X-WR-CALDESC:Veranstaltungen im Kunstleben Berlin - das Kunstmagazin
BEGIN:VTIMEZONE
TZID:Europe/Berlin
BEGIN:DAYLIGHT
TZOFFSETFROM:+0100
TZOFFSETTO:+0200
TZNAME:CEST
DTSTART:20250330T010000
END:DAYLIGHT
BEGIN:STANDARD
TZOFFSETFROM:+0200
TZOFFSETTO:+0100
TZNAME:CET
DTSTART:20251026T010000
END:STANDARD
END:VTIMEZONE
BEGIN:VEVENT
DTSTART;VALUE=DATE:20250704
DTEND;VALUE=DATE:20250803
DTSTAMP:20260423T183328
CREATED:20250514T101921Z
LAST-MODIFIED:20250523T124350Z
UID:112701-1751587200-1754179199@www.kunstleben-berlin.de
SUMMARY:494h 29m 53s
DESCRIPTION:Das Projekt 494h 29m 53s von Karin Sander zeigt die 1254 Videofilme aus dem Sammlungsbestand des Video-Forums des Neuen Berliner Kunstvereins (n.b.k.) im Studio der Akademie der Künste sortiert nach Laufzeit. Die digitalisierten Videofilme von 574 Künstler*innen und Künstler*innengruppen werden – von den kürzesten bis zu den längsten – in einem 494-stündigen Langzeitscreening hintereinander abgespielt. Das Programm im Studio folgt einem strukturierten Ablauf mit täglich 12-stündigen\, am Wochenende 24-stündigen Projektionen und findet ab dem 3. Juli 2025 an 31 Tagen statt. \n494h 29m 53s gibt einen Überblick über mehr als 50 Jahre internationale Videokunst und zeigt alle Künstler*innen unabhängig von Herkunft\, Geschlecht und Wirkungszeitraum gleichwertig nach- und nebeneinander. In einem von Anordnung\, Ablauf und Zeit geprägten einzigartigen Erlebnis entstehen neue und unerwartete Gegenüberstellungen. \nDie Besucher*innen können an den Vorführungen nach eigenem Ermessen jederzeit teilnehmen und sie zu jedem Zeitpunkt auch wieder verlassen. Ein Programmheft unterstützt die Orientierung mit konkreten Angaben zu Künstler*innen\, Filmen und Zeitabläufen. Eine Sommerbar im Innenhof der Akademie der Künste lädt zu Getränken und Snacks ein. \nLaufzeit: 4.7. – 2.8.2025\nFilmvorführungen: Mo – Fr 12 – 24 Uhr\, Sa / So durchgehend \nOrt: Akademie der Künste\, Hanseatenweg 10\, 10557 Berlin \nGefördert durch den Hauptstadtkulturfonds \n
URL:https://www.kunstleben-berlin.de/event/494h-29m-53s/
LOCATION:Neuer Berliner Kunstverein (n.b.k.)\, Chausseestrasse 128 / 129\, Berlin\, 10115\, Deutschland
CATEGORIES:Ausstellung
ATTACH;FMTTYPE=image/jpeg:https://www.kunstleben-berlin.de/wp-content/uploads/2025/05/nbk-Einladungen-AprilMai_2025_AdK_web.jpg
GEO:52.5279246;13.3860624
X-APPLE-STRUCTURED-LOCATION;VALUE=URI;X-ADDRESS=Neuer Berliner Kunstverein (n.b.k.) Chausseestrasse 128 / 129 Berlin 10115 Deutschland;X-APPLE-RADIUS=500;X-TITLE=Chausseestrasse 128 / 129:geo:13.3860624,52.5279246
END:VEVENT
END:VCALENDAR