BEGIN:VCALENDAR
VERSION:2.0
PRODID:-//Kunstleben Berlin - das Kunstmagazin - ECPv4.9.13//NONSGML v1.0//EN
CALSCALE:GREGORIAN
METHOD:PUBLISH
X-WR-CALNAME:Kunstleben Berlin - das Kunstmagazin
X-ORIGINAL-URL:https://www.kunstleben-berlin.de
X-WR-CALDESC:Veranstaltungen im Kunstleben Berlin - das Kunstmagazin
BEGIN:VTIMEZONE
TZID:Europe/Berlin
BEGIN:DAYLIGHT
TZOFFSETFROM:+0100
TZOFFSETTO:+0200
TZNAME:CEST
DTSTART:20250330T010000
END:DAYLIGHT
BEGIN:STANDARD
TZOFFSETFROM:+0200
TZOFFSETTO:+0100
TZNAME:CET
DTSTART:20251026T010000
END:STANDARD
BEGIN:DAYLIGHT
TZOFFSETFROM:+0100
TZOFFSETTO:+0200
TZNAME:CEST
DTSTART:20260329T010000
END:DAYLIGHT
BEGIN:STANDARD
TZOFFSETFROM:+0200
TZOFFSETTO:+0100
TZNAME:CET
DTSTART:20261025T010000
END:STANDARD
END:VTIMEZONE
BEGIN:VEVENT
DTSTART;VALUE=DATE:20251213
DTEND;VALUE=DATE:20260125
DTSTAMP:20260423T195704
CREATED:20251205T152937Z
LAST-MODIFIED:20251228T074654Z
UID:114567-1765584000-1769299199@www.kunstleben-berlin.de
SUMMARY:Alexandra Deutsch - Wüstenblumen
DESCRIPTION:Formen und Farbigkeit der fragilen Papierobjekte von Alexandra Deutsch wie auch ihrer Monotypien entstammen organischen und anorganischen Welten\, erinnern an exotische Pflanzen\, Fossilien oder Gesteinsformationen. Inspiriert sind sie von Aufenthalten in der Mauretanischen Wüste und sind doch abstrakt\, sprechen eine eigene Formensprache. Objekte von raumgreifender Plastizität wachsen an den Wänden entlang. Ihre Oberflächen sind durch Lamellen oder Faltungen strukturiert\, Tentakeln und Linien dehnen sich in den Raum aus. Mit schwach gebundenen Pigmenten bemalt\, haben sie eine stark leuchtende Farbigkeit und lassen einen Eintauchen in eine ferne Welt. \nAlexandra Deutsch (*1968 in Karlsruhe) lebt und arbeitet in Wiesbaden. \n
URL:https://www.kunstleben-berlin.de/event/alexandra-deutsch-wuestenblumen-2/
LOCATION:Wichtendahl Galerie\, Carmerstr. 10\, Berlin\, 10623\, Deutschland
CATEGORIES:Ausstellung
ATTACH;FMTTYPE=image/jpeg:https://www.kunstleben-berlin.de/wp-content/uploads/2025/12/AD_PO_64.001.M.jpg
GEO:52.5066397;13.3238402
X-APPLE-STRUCTURED-LOCATION;VALUE=URI;X-ADDRESS=Wichtendahl Galerie Carmerstr. 10 Berlin 10623 Deutschland;X-APPLE-RADIUS=500;X-TITLE=Carmerstr. 10:geo:13.3238402,52.5066397
END:VEVENT
END:VCALENDAR