BEGIN:VCALENDAR
VERSION:2.0
PRODID:-//Kunstleben Berlin - das Kunstmagazin - ECPv4.9.13//NONSGML v1.0//EN
CALSCALE:GREGORIAN
METHOD:PUBLISH
X-WR-CALNAME:Kunstleben Berlin - das Kunstmagazin
X-ORIGINAL-URL:https://www.kunstleben-berlin.de
X-WR-CALDESC:Veranstaltungen im Kunstleben Berlin - das Kunstmagazin
BEGIN:VTIMEZONE
TZID:Europe/Berlin
BEGIN:DAYLIGHT
TZOFFSETFROM:+0100
TZOFFSETTO:+0200
TZNAME:CEST
DTSTART:20260329T010000
END:DAYLIGHT
BEGIN:STANDARD
TZOFFSETFROM:+0200
TZOFFSETTO:+0100
TZNAME:CET
DTSTART:20261025T010000
END:STANDARD
END:VTIMEZONE
BEGIN:VEVENT
DTSTART;VALUE=DATE:20260117
DTEND;VALUE=DATE:20260208
DTSTAMP:20260423T215926
CREATED:20251208T130725Z
LAST-MODIFIED:20251208T130725Z
UID:114570-1768608000-1770422400@www.kunstleben-berlin.de
SUMMARY:Am Puls der Zeit – Gedanken zur Klimakrise
DESCRIPTION:Deutschland wird die Klimaziele für 2030 nach Angaben eines Fachgremiums nicht erreichen. Wie der Expert*innenrat für Klimafragen der Regierung mitteilte\, wird das Vorhaben verfehlt\, den Ausstoß von Treibhausgasen bis zum Jahr 2030 um 65 Prozent zu reduzieren.\nEs  gibt aber unzählige einzelne Personen und Initiativen\, die weltweit ununterbrochen daran arbeiten\, Konditionen zu verbessern.\nIn der Ausstellung „Am Puls der Zeit – Gedanken zur Klimakrise“ stellen Künstler*innen Werke aus\, die sich mit der Umwelt\, dem sich verändernden Klima\, Naturkatastrophen\, dem Aussterben der Arten und der Verschmutzung der Ozeane sowie Flüsse auseinandersetzen … Suchen sie nach Lösungen oder fühlen sie sich hilflos? Gibt es einen poetischen Ansatz oder ist dieser reale Aspekt zu überwältigend? Hat die Kunst eine Verantwortung\, den Klimawandel anzusprechen? Setzt sich der Underground mit dieser Thematik künstlerisch auseinander?\nDie Ausstellung wird von der Künstlerin Danielle de Picciotto kuratiert. Ihre Motivation: „In den 1980ern war es radikal\, Kunst und Musikstile zu hinterfragen\, in den 1990ern ging es um radikal neue Technologien\, um das Digitale Zeitalter. Heute gibt es nichts Radikaleres\, als sich dem Klimawandel zu stellen und alles Gewohnte umzudenken. Ich fühle mich immer wieder dazu berufen\, Projekte anzustoßen\, die unsere Realität\, die Regeln und Vorschriften\, an die wir uns halten\, zu hinterfragen. Lange Zeit war der Underground mein Hauptthema – die Frage\, wie Profit unsere Zivilisation beherrscht. Dann begann ich\, Geschlechternormen und Diskriminierung in diesem Bereich zu hinterfragen und das Bewusstsein für Underground-Künstler*innen zu stärken. In den letzten Jahren ist der Klimawandel zu einem Thema geworden\, dass mir immer wichtiger wurde. Sex\, Drogen und Rock ’n’ Roll wirken angesichts dieser enormen Bedrohung\, der wir gegenüberstehen\, altmodisch und reaktionär. Deshalb habe ich beschlossen\, dieses Thema in meinem Umfeld und in meine Kunst zu integrieren. Ich fühle mich verantwortlich\, meinen Teil dazu beizutragen. Die Kunst kann Visionen\, Denkansätze und kreative neue Wege einschlagen\, um andere zu inspirieren. Die Imagination kann Welten versetzen. Diese Ausstellung soll einen positiven Ansatz in diese Richtung anstoßen. Die Künstler*innen kommen aus sehr unterschiedlichen Ländern. Es war mir ein Anliegen\, eine internationale Vision vorzustellen\, um zu demonstrieren wie global dieses Thema behandelt wird. Wir können nicht mehr die lokale Froschperspektive aufrechterhalten\, es geht um das Ganze\, das Ganzheitliche. Wir müssen lernen\, an einem Strang zu ziehen.” \nKünstler*innen\nNina Backman\, Finland | Maroula Blades\, Berlin/London\nGam Bodenhausen\, The Netherlands | Seda Gazioğlu\, Istanbul/London\nVibeke Jensen & Santiago De Waele aka DE JENZ\, Norway/Belgium\nk.u.n.s.t.s.p.i.e.l.e.r.i.n.n.e.n\, Berlin/Barcelona | Mary Muszynski\, San Francisco\nNaeemeh Naeemaei\, Chicago/Tehran | Danielle de Picciotto\, Berlin/NYC | Carola Schmidt\, Berlin\nGuido Schulz\, Berlin | Olga Volchkova\, Oregon \nAusstellungsprogramm\nSamstag\, 17.01.2026\, 18 Uhr\, Vernissage im Neurotitan\n• Interaktives Spiel mit k.u.n.s.t.s.p.i.e.l.e.r.i.n.n.e.n\n• Kleiner musikalischer Auftritt von Danielle de Picciotto\, 19 Uhr \nAftershow\, 21 Uhr im Eschschloraque Rümschrümp\n„SUMMER. ZWEITE RUNDE“\, Video- & Musikperformance von Sonae\nSonae ist Produzentin\, Live-Performerin und DJ der experimentellen elektronischen Musik.\nSie ist Teil des Label-Kollektivs Monika Werkstatt.\nDer Klimawandel und seine Folgen für Mensch und Natur waren bereits Thema des Werks „Summer“ (2021)\, einem Album von Sonae für das französische Konzeptlabel la a p s and a. Mit ihrer AV-Performance „Summer. Zweite Runde“ zur Eröffnung greift Sonae das Thema erneut auf und entwickelt es weiter – genau so\, wie es die Verantwortlichen zu brauchen scheinen\, bis schließlich gehandelt wird. \nMittwoch\, 21.01.2026\, 18 Uhr im Neurotitan\n• Panel und Diskussionsrunde mit den Künstler*innen zum Thema:\n„Unser Verhältnis zur Natur und unterschiedliche Möglichkeiten eines Umdenkens\, um dem Klimawandel positiv und kreativ entgegenzutreten“\n1) Vibeke Jensen\, Norway (Professorin in Bergen/Künstlerin)\n2) Olga Volchkova\, Oregon/Moscow (Ikonenmalerin und Landschaftsarchitektin aus Oregon USA/Moscow)\n3) Mary Muszynski\, San Francisco (Landschaftsarchitektin und Sustainable Land Artist)\nModeration: Danielle de Picciotto\nDas Panel findet auf English statt \n
URL:https://www.kunstleben-berlin.de/event/am-puls-der-zeit-gedanken-zur-klimakrise/
LOCATION:Neurotitan Galerie\, Rosenthaler Straße 39\, Berlin\, 10178\, Deutschland
CATEGORIES:Ausstellung
ATTACH;FMTTYPE=image/jpeg:https://www.kunstleben-berlin.de/wp-content/uploads/2025/12/Banner_Am-Puls-der-Zeit.jpg
GEO:52.5242301;13.4026456
X-APPLE-STRUCTURED-LOCATION;VALUE=URI;X-ADDRESS=Neurotitan Galerie Rosenthaler Straße 39 Berlin 10178 Deutschland;X-APPLE-RADIUS=500;X-TITLE=Rosenthaler Straße 39:geo:13.4026456,52.5242301
END:VEVENT
END:VCALENDAR