BEGIN:VCALENDAR
VERSION:2.0
PRODID:-//Kunstleben Berlin - das Kunstmagazin - ECPv4.9.13//NONSGML v1.0//EN
CALSCALE:GREGORIAN
METHOD:PUBLISH
X-WR-CALNAME:Kunstleben Berlin - das Kunstmagazin
X-ORIGINAL-URL:https://www.kunstleben-berlin.de
X-WR-CALDESC:Veranstaltungen im Kunstleben Berlin - das Kunstmagazin
BEGIN:VTIMEZONE
TZID:Europe/Berlin
BEGIN:DAYLIGHT
TZOFFSETFROM:+0100
TZOFFSETTO:+0200
TZNAME:CEST
DTSTART:20170326T010000
END:DAYLIGHT
BEGIN:STANDARD
TZOFFSETFROM:+0200
TZOFFSETTO:+0100
TZNAME:CET
DTSTART:20171029T010000
END:STANDARD
END:VTIMEZONE
BEGIN:VEVENT
DTSTART;VALUE=DATE:20170912
DTEND;VALUE=DATE:20170919
DTSTAMP:20260423T144628
CREATED:20170908T101619Z
LAST-MODIFIED:20230810T053749Z
UID:70824-1505174400-1505710799@www.kunstleben-berlin.de
SUMMARY:AND BEYOND von WHITECONCEPTS PROJECTS
DESCRIPTION:\n\n\nBERLIN ART WEEK 2017 \nWHITECONCEPTS PROJECTS zeigt AND BEYOND\, eine Gruppenausstellung mit aktuellen figurativen und abstrakten Arbeiten von vier Berliner Künstlern: Jenny Keuter\, Beate Baumholzer-Fetzer\, Robert Niemann und Jan Ziegler. \nAND BEYOND erforscht den Begriff der Tiefe – die Suche nach dem\, was vor\, hinter oder zwischen einem Bild und seinem Betrachter liegt. Die gezeigten Werke thematisieren die eher unsichtbaren oder kaum wahrnehmbaren Aspekte der Kunst\, wie Intuition\, Emotion und Deutungstiefe. In malerischen Arbeiten und Zeichnungen erforschen die Künstler diese Thematik aus verschiedenen Perspektiven. \nBeate Baumholzers Porträts verkörpern Momente von Intimität und sinnlicher Schönheit\, die in sachlich wirkenden Bildern dargestellt werden. Jenny Keuters dynamische graphische Arbeiten oszillieren zwischen Rasanz und Präzision\, während Robert Niemanns Zeichnungen menschliche Situationen einfangen\, die von ihrem räumlichen Umfeld gelöst sind – Momente\, die Reflexion und Kontemplation ausdrücken. Jan Ziegler nutzt skizzenhafte Umrisse\, die in nasse Farbe gekratzt werden\, um in seinen abstrahierenden Portraits Momente von Anmut einzufangen. \nDie Ausstellung läuft im Rahmen der Berlin Art Week vom 12. bis 17. September 2017. ERÖFFNUNG: Dienstag 12. September 2017\, 19–22 Uhr \nAUSSTELLUNG: Dienstag 12. – Sonntag 17. September 2017\, 13–21 Uhr\, Sonntag 13– 17 Uhr \nWHITECONCEPTS PROJECTS\nAuguststrasse 35\, 10119 Berlin \n\n\n\n
URL:https://www.kunstleben-berlin.de/event/and-beyond-von/
ATTACH;FMTTYPE=image/png:https://www.kunstleben-berlin.de/wp-content/uploads/2017/09/flyer-front.png
END:VEVENT
END:VCALENDAR