BEGIN:VCALENDAR
VERSION:2.0
PRODID:-//Kunstleben Berlin - das Kunstmagazin - ECPv4.9.13//NONSGML v1.0//EN
CALSCALE:GREGORIAN
METHOD:PUBLISH
X-WR-CALNAME:Kunstleben Berlin - das Kunstmagazin
X-ORIGINAL-URL:https://www.kunstleben-berlin.de
X-WR-CALDESC:Veranstaltungen im Kunstleben Berlin - das Kunstmagazin
BEGIN:VTIMEZONE
TZID:Europe/Berlin
BEGIN:DAYLIGHT
TZOFFSETFROM:+0100
TZOFFSETTO:+0200
TZNAME:CEST
DTSTART:20180325T010000
END:DAYLIGHT
BEGIN:STANDARD
TZOFFSETFROM:+0200
TZOFFSETTO:+0100
TZNAME:CET
DTSTART:20181028T010000
END:STANDARD
END:VTIMEZONE
BEGIN:VEVENT
DTSTART;VALUE=DATE:20180930
DTEND;VALUE=DATE:20181002
DTSTAMP:20260424T000451
CREATED:20180930T010000Z
LAST-MODIFIED:20260313T101849Z
UID:73761-1538265600-1538369999@www.kunstleben-berlin.de
SUMMARY:Art Week Special - "Sonnennaht" Konzert mit Klara Li - Inselgalerie
DESCRIPTION:Klara Li ist Musikerin\, Sängerin\, Bildende- und Lebens-Künstlerin. Ihre Wohnung im Prenzlauer Berg ist zugleich Atelier\, Galerie und Bühne. Klara Li stellte ihre Kalligraphien bereits in der Inselgalerie aus und spielte auf Vernissagen. Wir freuen uns\, dass sie während der Art Week bei uns zu Gast ist. \n
URL:https://www.kunstleben-berlin.de/event/art-week-special-sonnennaht-konzert-mit-klara-li/
LOCATION:INSELGALERIE Berlin\, Petersburger Straße 76 A\, Berlin\, 10249\, Deutschland
CATEGORIES:Begleitprogramm zur Ausstellung
GEO:52.51883;13.45213
X-APPLE-STRUCTURED-LOCATION;VALUE=URI;X-ADDRESS=INSELGALERIE Berlin Petersburger Straße 76 A Berlin 10249 Deutschland;X-APPLE-RADIUS=500;X-TITLE=Petersburger Straße 76 A:geo:13.45213,52.51883
END:VEVENT
END:VCALENDAR