BEGIN:VCALENDAR
VERSION:2.0
PRODID:-//Kunstleben Berlin - das Kunstmagazin - ECPv4.9.13//NONSGML v1.0//EN
CALSCALE:GREGORIAN
METHOD:PUBLISH
X-WR-CALNAME:Kunstleben Berlin - das Kunstmagazin
X-ORIGINAL-URL:https://www.kunstleben-berlin.de
X-WR-CALDESC:Veranstaltungen im Kunstleben Berlin - das Kunstmagazin
BEGIN:VTIMEZONE
TZID:Europe/Berlin
BEGIN:DAYLIGHT
TZOFFSETFROM:+0100
TZOFFSETTO:+0200
TZNAME:CEST
DTSTART:20260329T010000
END:DAYLIGHT
BEGIN:STANDARD
TZOFFSETFROM:+0200
TZOFFSETTO:+0100
TZNAME:CET
DTSTART:20261025T010000
END:STANDARD
END:VTIMEZONE
BEGIN:VEVENT
DTSTART;VALUE=DATE:20260430
DTEND;VALUE=DATE:20260516
DTSTAMP:20260423T125816
CREATED:20260420T113948Z
LAST-MODIFIED:20260420T113948Z
UID:116510-1777507200-1778803200@www.kunstleben-berlin.de
SUMMARY:Artist Prize 2026 Exhibition
DESCRIPTION:11TH EDITION OF THE BBA ARTIST PRIZE: OVER A DECADE OF DISCOVERY DURING GALLERY WEEKEND BERLIN\nIn 2015\, BBA set out with an ambitious vision that\, over a decade later\, operates as a key cultural touchstone for the contemporary art landscape in Berlin. As the city prepares for the prestigious Gallery Weekend Berlin\, the 11th annual BBA Artist Prize exhibition arrives at BBA Gallery as the centrepiece of a hallmark summer programme. This milestone edition continues a long-standing tradition of bridging the gap between hidden talent and global visibility\, cementing the gallery’s reputation for identifying the most compelling artistic voices of the next generation.\nThis year’s exhibition features fifteen selected shortlist finalists from around the world\, bringing together a truly international cohort from China and the USA to Germany. The curated selection debuts bold new works that span the breadth of contemporary practice\, encompassing painting\, sculpture\, installation\, and video art. By providing a platform for such diverse mediums\, the prize highlights the evolving nature of the international art scene and offers a unique opportunity for the public to discover the „artists of tomorrow“ within the heart of Berlin.\nEntering 2026 after a decade of the BBA Prizes brings a clear mission to the fore. We observe that this year’s submissions prove the hunger for authentic storytelling remains stronger than ever. The gallery does not view the event merely as a competition but as a vital launchpad for the next generation of artistic voices\, ensuring that emerging talent receives the global recognition it deserves. Visitors are invited to experience these fifteen international finalists as they debut their work during one of the most significant weekends in the global art calendar. \n
URL:https://www.kunstleben-berlin.de/event/artist-prize-2026-exhibition/
LOCATION:BBA Gallery\, Köpenickerstrasse 96\, Berlin\, 10179\, Deutschland
CATEGORIES:Ausstellung
ATTACH;FMTTYPE=image/jpeg:https://www.kunstleben-berlin.de/wp-content/uploads/2026/04/Prize-Weeks-AP-Exhibition-KV-16_9.jpg
GEO:52.5111633;13.4149853
X-APPLE-STRUCTURED-LOCATION;VALUE=URI;X-ADDRESS=BBA Gallery Köpenickerstrasse 96 Berlin 10179 Deutschland;X-APPLE-RADIUS=500;X-TITLE=Köpenickerstrasse 96:geo:13.4149853,52.5111633
END:VEVENT
END:VCALENDAR