BEGIN:VCALENDAR
VERSION:2.0
PRODID:-//Kunstleben Berlin - das Kunstmagazin - ECPv4.9.13//NONSGML v1.0//EN
CALSCALE:GREGORIAN
METHOD:PUBLISH
X-WR-CALNAME:Kunstleben Berlin - das Kunstmagazin
X-ORIGINAL-URL:https://www.kunstleben-berlin.de
X-WR-CALDESC:Veranstaltungen im Kunstleben Berlin - das Kunstmagazin
BEGIN:VTIMEZONE
TZID:Europe/Berlin
BEGIN:DAYLIGHT
TZOFFSETFROM:+0100
TZOFFSETTO:+0200
TZNAME:CEST
DTSTART:20210328T010000
END:DAYLIGHT
BEGIN:STANDARD
TZOFFSETFROM:+0200
TZOFFSETTO:+0100
TZNAME:CET
DTSTART:20211031T010000
END:STANDARD
END:VTIMEZONE
BEGIN:VEVENT
DTSTART;VALUE=DATE:20211112
DTEND;VALUE=DATE:20211114
DTSTAMP:20260423T114537
CREATED:20211101T094125Z
LAST-MODIFIED:20260313T102126Z
UID:89478-1636675200-1636761600@www.kunstleben-berlin.de
SUMMARY:Artist Talk at HdP: Jana Schumacher & Drew Matott
DESCRIPTION: Jana Schumacher und Drew Matott sind Kunstschaffende\, Papiermeister und Projektentwickler mit einer großen Liebe für Papier\, die ansteckt! Die Hamburger Zeichnerin und Bildhauerin Jana Schumacher spricht über ihre Paper Residency Erfahrung von 2020 und über die Arbeit mit Papier als experimentellem künstlerischem Medium. Drew Matott ist der Gründer des international agierenden Peace Paper Project. In seiner Heimat\, den USA\, ist er längst als Papiermeister etabliert. Zusammen sprechen die beiden über die Kunst des Papierschöpfens und stellen das Peace Paper Project vor\, eine Community-Arts-Initiative\, die traditionelle Papierherstellung als Vehikel für soziales Engagement und gemeinschaftlichen Aktivismus einsetzt. „papermaking as storytelling.“ \nTeilnahme mit verbindlicher Anmeldung.\nAlle Infos unter https://www.hausdespapiers.com/events \n
URL:https://www.kunstleben-berlin.de/event/artist-talk-at-hdp-jana-schumacher-drew-matott/
LOCATION:Haus des Papiers\, Seydelstraße 30\, Berlin\, 10117\, Deutschland
CATEGORIES:Begleitprogramm zur Ausstellung
ATTACH;FMTTYPE=image/jpeg:https://www.kunstleben-berlin.de/wp-content/uploads/2021/11/jd2-Foto©PeacePaperProject.jpg
GEO:52.51051;13.40354
X-APPLE-STRUCTURED-LOCATION;VALUE=URI;X-ADDRESS=Haus des Papiers Seydelstraße 30 Berlin 10117 Deutschland;X-APPLE-RADIUS=500;X-TITLE=Seydelstraße 30:geo:13.40354,52.51051
END:VEVENT
END:VCALENDAR