BEGIN:VCALENDAR
VERSION:2.0
PRODID:-//Kunstleben Berlin - das Kunstmagazin - ECPv4.9.13//NONSGML v1.0//EN
CALSCALE:GREGORIAN
METHOD:PUBLISH
X-WR-CALNAME:Kunstleben Berlin - das Kunstmagazin
X-ORIGINAL-URL:https://www.kunstleben-berlin.de
X-WR-CALDESC:Veranstaltungen im Kunstleben Berlin - das Kunstmagazin
BEGIN:VTIMEZONE
TZID:Europe/Berlin
BEGIN:DAYLIGHT
TZOFFSETFROM:+0100
TZOFFSETTO:+0200
TZNAME:CEST
DTSTART:20220327T010000
END:DAYLIGHT
BEGIN:STANDARD
TZOFFSETFROM:+0200
TZOFFSETTO:+0100
TZNAME:CET
DTSTART:20221030T010000
END:STANDARD
END:VTIMEZONE
BEGIN:VEVENT
DTSTART;VALUE=DATE:20220429
DTEND;VALUE=DATE:20220502
DTSTAMP:20260423T202658
CREATED:20220410T220444Z
LAST-MODIFIED:20221116T084257Z
UID:91457-1651190400-1651449599@www.kunstleben-berlin.de
SUMMARY:Ausstellung "Anton Henning - Zukunft und Anmut\, No.1" in der Galerie Michael Haas
DESCRIPTION:Anton Henning ist der Meister der Widersprüchlichkeit\, dessen besonderes Interesse der Moderne gilt. In der Ausstellung „Zukunft und Anmut\, No. 1“ verbindet er mit Gemälden\, Skulpturen und Mobiliar den Entwurf zum schöneren Wohnen mit der Vergeblichkeit von Idee und Zukunft in einer extra auf die Räume der Galerie Michael Haas zugeschnittenen Komposition. Sie ist eine vielschichtige\, intelligent-sinnliche Demonstration des vom Künstler seit den frühen Neunzigerjahren entwickelten\, sich stetig verdichtenden autopoietischen Systems. Die Ausstellung ist die permanente Erweiterung und Konzentration eines sich auf sich selbst und die Moderne beziehenden Ismen-Geflechts und dessen (durch Dogmen) verpasste Möglichkeiten. \nBei aller Nachdenklichkeit strahlt die raumgreifende Inszenierung der ausgestellten Werke eine erfrischende Leichtigkeit aus: Anton Hennings Schaffen ist Herausforderung und Inspiration zugleich. Nicht zuletzt die zahlreichen internationalen öffentlichen und privaten Sammlungen\, in denen er vertreten ist\, sprechen dafür. \nParallel zur Ausstellung in der Galerie Michael Haas zeigt die Galerie Sexauer in ihrem Showroom in der Grolmannstraße das rund um die Uhr einsehbare Interieur „Zukunft und Anmut\, No. 2“ \nAußerdem wird mit „Der Antonyme Salon“\, der am Samstag\, den 30. April\, in der Giesebrechtstraße 5 mit einer Begrüßung durch Jana Noritsch und einer kurzen Einführung durch Prof. Wolfgang Ullrich seine Pforten öffnet\, die Ausstellung „Der Antonyme Salon\, No. 1 – Anton Henning: Unverkäuflich anmutige Antiphrasen“ zu sehen sein. \nBeitragsbild: Anton Henning\, Interieur mit Blumenstilleben und Früchten\, No. 5\, 2020\, Galerie Michael Haas\, Gallery Weekend 2022 \nAnton Henning – Zukunft und Anmut\, No.1\n29.04. – 01.05.2022 \nEröffnung zum Gallery Weekend Berlin: Freitag\, 29. April 2022 – 18:00 bis 21:00 Uhr \nGalerie Michael Haas \n
URL:https://www.kunstleben-berlin.de/event/ausstellung-anton-henning-zukunft-und-anmut-no-1-in-der-galerie-michael-haas/
LOCATION:Galerie Michael Haas\, Niebuhrstraße 5\, Berlin\, 10629\, Deutschland
CATEGORIES:Ausstellung
ATTACH;FMTTYPE=image/jpeg:https://www.kunstleben-berlin.de/wp-content/uploads/2022/04/Galerie_Michael_Haas_-_Anton_Henning_-_Gallery_Weekend_2022.jpg
GEO:52.5043913;13.3179203
X-APPLE-STRUCTURED-LOCATION;VALUE=URI;X-ADDRESS=Galerie Michael Haas Niebuhrstraße 5 Berlin 10629 Deutschland;X-APPLE-RADIUS=500;X-TITLE=Niebuhrstraße 5:geo:13.3179203,52.5043913
END:VEVENT
END:VCALENDAR