BEGIN:VCALENDAR
VERSION:2.0
PRODID:-//Kunstleben Berlin - das Kunstmagazin - ECPv4.9.13//NONSGML v1.0//EN
CALSCALE:GREGORIAN
METHOD:PUBLISH
X-WR-CALNAME:Kunstleben Berlin - das Kunstmagazin
X-ORIGINAL-URL:https://www.kunstleben-berlin.de
X-WR-CALDESC:Veranstaltungen im Kunstleben Berlin - das Kunstmagazin
BEGIN:VTIMEZONE
TZID:Europe/Berlin
BEGIN:DAYLIGHT
TZOFFSETFROM:+0100
TZOFFSETTO:+0200
TZNAME:CEST
DTSTART:20230326T010000
END:DAYLIGHT
BEGIN:STANDARD
TZOFFSETFROM:+0200
TZOFFSETTO:+0100
TZNAME:CET
DTSTART:20231029T010000
END:STANDARD
END:VTIMEZONE
BEGIN:VEVENT
DTSTART;VALUE=DATE:20230426
DTEND;VALUE=DATE:20230813
DTSTAMP:20260423T211553
CREATED:20230422T204255Z
LAST-MODIFIED:20260312T175053Z
UID:98754-1682467200-1691884799@www.kunstleben-berlin.de
SUMMARY:Ausstellung "Der Tiger im Käfig. Die Neuen Wilden im Berlin der 70er und 80er Jahre" in der Galerie Deschler
DESCRIPTION:In der Gruppenausstellung „Der Tiger im Käfig. Die Neuen Wilden im Berlin der 1970er und 80er Jahre“ zeigt die Galerie Deschler Gemälde von acht Künstler:innen\, die zu den heraus­ragendsten Vertretern der Neuen Wilden und ihrem Umkreis gehörten. Sie waren Teil einer Bewegung\, die sich gegen die als zu intellektuell und abstrakt empfundene Kunst der 1960er Jahre auflehnte\, insbesondere die vorherrschende Konzept- und Minimal-Art. Inspiriert von Pop Art und Punk\, schufen sie eine figurative\, gestisch expressive und oft provokative Kunst\, die von kräftigen Farben und energiegeladenen\, dynamischen Formen geprägt war. In ver­schiedenen Medien wie Malerei\, Skulptur\, Installationen\, Fotografie und Performance-Kunst griffen sie politische und soziale Themen auf und sprengten die Grenzen zwischen High und Low Culture. Anfang der 80er Jahre erlebten sie durch mehrere Ausstellungen ihren inter­nationalen Durchbruch: 1980 „Heftige Malerei“ im Haus am Waldsee in Berlin\, 1981 „A New Spirit in Painting“ an der Royal Academy of Arts in London\, und 1982 „Zeitgeist“ im Martin-Gropius-Bau in Berlin und die von Rudi Fuchs kuratierte documenta 7 in Kassel.\n \nDie Neuen Wilden und ihnen nahestehende Künstler:innen lebten und arbeiteten in den Stadttei­len Kreuzberg und Neukölln und nutzten ihre unmittelbare Umgebung als Inspiration. Sie präsen­tierten ihre Werke oft in besetzten Häusern und alternativen Galerien und Ausstel­lungsräumen\, wie der selbstgegründeten Galerie am Moritzplatz\, und es war hier\, dass sie sich als Gruppe zusammenfanden und ihre Kunst einem breiteren Publikum vorstellten. Sie wurden sowohl von der Subkultur als auch von der etablierten Kunstszene in Berlin als Sym­bole für die lebendige und rebellische Kunstszene der Stadt gefeiert. Ihr Einfluss war nicht nur in Deutsch­land\, son­dern auch international zu spüren und erstreckte sich auch auf andere Bereiche wie Mode und Musik. Damit trugen sie wesentlich zur Entwicklung Berlins als Zen­trum für zeitge­nössische Kunst bei. \n \nDas Titelbild von K. H. Hödicke\, Der Tiger in seinem Käfig von 1989\, eines aus einer Serie von Bildern mit diesem Thema und gleichzeitig das chronologisch letzte der ausgestellten Werke\, symbolisiert hervorragend die ungebändigte Energie der einge­schlossenen Stadt. Der Fall der Berliner Mauer im gleichen Jahr läutete das Ende dieser Periode und den Beginn einer neuen Ära ein. Doch obwohl die Neuen Wilden als Gruppe nur kurzlebig bestand\, inspirier­ten sie eine ganze Generation von Künstler:innen. Viele der Vertreter:innen der Gruppe wur­den interna­tional bekannt\, ihre Werke sind heute weltweit in wichtigen Sammlungen und Museen zu sehen. \n\nBeitragsbild: K.H.Hödicke\, Der Tiger in seinem Käfig\, 1989. Kunstharz auf Leinwand\, 200 x 300 cm\nDer Tiger im Käfig. Die Neuen Wilden im Berlin der 70er und 80er Jahre\nElvira Bach\, Luciano Castelli\, Rainer Fetting\, Karl Horst Hödicke\, Helmut Middendorf\, Stefan Roloff\, Salomé\, Bernd Zimmer\n\n26. April 2023 – 12. August 2023\n\n\nEröffnung:\n\nMittwoch\, 26. April 2023\, 19-21 Uhr\n\n\nSonderöffnungszeiten während des Gallery Weekends: \nDonnerstag\, 27. April: 11-20 Uhr\n\n\nFreitag\, 28. April: 11-20 Uhr\nSamstag\, 29. April: 11-20 Uhr\nSonntag\, 30. April: 11-18 Uhr\n\n\n\n\nGalerie Deschler\n
URL:https://www.kunstleben-berlin.de/event/ausstellung-der-tiger-im-kaefig-die-neuen-wilden-im-berlin-der-70er-und-80er-jahre-in-der-galerie-deschler/
LOCATION:Galerie Deschler\, Auguststraße 61\, Berlin\, 10117
CATEGORIES:Ausstellung
ATTACH;FMTTYPE=image/jpeg:https://www.kunstleben-berlin.de/wp-content/uploads/2023/04/d1523b5959834076-1.jpg
GEO:52.5273392;13.3975097
X-APPLE-STRUCTURED-LOCATION;VALUE=URI;X-ADDRESS=Galerie Deschler Auguststraße 61 Berlin 10117;X-APPLE-RADIUS=500;X-TITLE=Auguststraße 61:geo:13.3975097,52.5273392
END:VEVENT
END:VCALENDAR