BEGIN:VCALENDAR
VERSION:2.0
PRODID:-//Kunstleben Berlin - das Kunstmagazin - ECPv4.9.13//NONSGML v1.0//EN
CALSCALE:GREGORIAN
METHOD:PUBLISH
X-WR-CALNAME:Kunstleben Berlin - das Kunstmagazin
X-ORIGINAL-URL:https://www.kunstleben-berlin.de
X-WR-CALDESC:Veranstaltungen im Kunstleben Berlin - das Kunstmagazin
BEGIN:VTIMEZONE
TZID:Europe/Berlin
BEGIN:DAYLIGHT
TZOFFSETFROM:+0100
TZOFFSETTO:+0200
TZNAME:CEST
DTSTART:20220327T010000
END:DAYLIGHT
BEGIN:STANDARD
TZOFFSETFROM:+0200
TZOFFSETTO:+0100
TZNAME:CET
DTSTART:20221030T010000
END:STANDARD
END:VTIMEZONE
BEGIN:VEVENT
DTSTART;VALUE=DATE:20220429
DTEND;VALUE=DATE:20220717
DTSTAMP:20260424T000616
CREATED:20220416T214713Z
LAST-MODIFIED:20221116T084258Z
UID:91557-1651190400-1658015999@www.kunstleben-berlin.de
SUMMARY:Ausstellung "Die Neuen Wilden im Berlin der 80er Jahre" in der Galerie Deschler
DESCRIPTION:„Die Neuen Wilden im Berlin der 80er Jahre“ — 40 Jahre nach der legendären Zeitgeist-Ausstellung 1982\, mit Schwerpunkt Malerei\, insbesondere der „Heftigen Malerei“\, im seinerzeit nur notdürftig sanierten und direkt an der Berliner Mauer gelegenen Martin-Gropius-Bau\, wirft die Ausstellung in der Galerie Deschler noch einmal einen Fokus auf die so lebendige Kunstszene der 1980er Jahre in Berlin. Rainer Fetting\, Salomé und Helmut Middendorf\, die an der Zeitgeist-Ausstellung teilnahmen\, waren zusammen mit u.a. Bernd Zimmer Mitbegründer der Galerie am Moritzplatz und Teil der Berliner „Neuen Wilden“ (auch als „Junge Wilde“ bekannt). \nMit ihren großformatigen\, in starken Farben und gestischen Pinselstrichen ausgeführten Gemälden revoltierten sie mit ungezähmter Lebenslust und Punkattitüde gegen die vorherrschenden Kunstströmungen\, wie der Konzeptkunst und dem Minimalismus. \nZu dem Umkreis zählte auch der Schweizer Künstler Luciano Castelli\, der mit Rainer Fetting und Salomé Gemeinschaftsbilder malte und mit Salomé im Berliner Club Dschungel die schrille Punkband „Geile Tiere“ gründete. \nEin Pendant zu den von Männern dominierten „Moritzboys“\, bildete Elvira Bach mit ihrer stark auf Weiblichkeit fokussierten Malerei. 1982 war auch für sie ein bedeutendes Jahr\, da sie an der documenta 7 in Kassel (wie auch Salomé) ihren internationalen Durchbruch feiern konnte. \n„Indianer\, Toreros und Nachteulen — Die Neuen Wilden im Berlin der 80er Jahre“\nGezeigt werden: Elvira Bach\, Luciano Castelli\, Rainer Fetting\, Helmut Middendorf\, Salomé und Bernd Zimmer\n29.04.2022 – 16.07.2022 \nVernissage:\nDonnerstag\, 28. April 2022\, 19-21 Uhr\nGalerie Deschler \n
URL:https://www.kunstleben-berlin.de/event/ausstellung-die-neuen-wilden-im-berlin-der-80er-jahre-in-der-galerie-deschler/
LOCATION:Galerie Deschler\, Auguststraße 61\, Berlin\, 10117
CATEGORIES:Ausstellung
ATTACH;FMTTYPE=image/jpeg:https://www.kunstleben-berlin.de/wp-content/uploads/2022/04/1e4cd330-d305-a1e9-4c3c-2c26e68e8f4e-1.jpg
GEO:52.5273392;13.3975097
X-APPLE-STRUCTURED-LOCATION;VALUE=URI;X-ADDRESS=Galerie Deschler Auguststraße 61 Berlin 10117;X-APPLE-RADIUS=500;X-TITLE=Auguststraße 61:geo:13.3975097,52.5273392
END:VEVENT
END:VCALENDAR