BEGIN:VCALENDAR
VERSION:2.0
PRODID:-//Kunstleben Berlin - das Kunstmagazin - ECPv4.9.13//NONSGML v1.0//EN
CALSCALE:GREGORIAN
METHOD:PUBLISH
X-WR-CALNAME:Kunstleben Berlin - das Kunstmagazin
X-ORIGINAL-URL:https://www.kunstleben-berlin.de
X-WR-CALDESC:Veranstaltungen im Kunstleben Berlin - das Kunstmagazin
BEGIN:VTIMEZONE
TZID:Europe/Berlin
BEGIN:DAYLIGHT
TZOFFSETFROM:+0100
TZOFFSETTO:+0200
TZNAME:CEST
DTSTART:20220327T010000
END:DAYLIGHT
BEGIN:STANDARD
TZOFFSETFROM:+0200
TZOFFSETTO:+0100
TZNAME:CET
DTSTART:20221030T010000
END:STANDARD
END:VTIMEZONE
BEGIN:VEVENT
DTSTART;VALUE=DATE:20221027
DTEND;VALUE=DATE:20221028
DTSTAMP:20260423T114532
CREATED:20221014T142902Z
LAST-MODIFIED:20221117T062333Z
UID:94342-1666828800-1666828800@www.kunstleben-berlin.de
SUMMARY:Ausstellungseröffnung Waterfalls and Spirit
DESCRIPTION:Die neue Ausstellung „Waterfalls and Spirit“ zeigt neben den diesjährigen Paper Residency!-Stipendiatinnen Harriet Groß\, Ines Schaikowski\, Jessica Maria Toliver und Rachel de Joode neue Werke zeitgenössischer Künstlerinnen wie Jorinde Voigt und Monica Bonvicini.  \nDie eindrucksvollen Arbeiten der diesjährigen Paper Residency!-Stipendiatinnen setzen den thematischen Rahmen der Ausstellung. Harriet Groß entreißt Wasserfälle der Schwerkraft\, sie kreisen\, werden zu Augen. Während die fließenden\, farbgewaltigen Formen von Rachel de Joode räumliche Irritationen hervorrufen\, drängen in Ines Schaikowskis Arbeit strenge\, erstarrte Linien in den Raum. Jessica Maria Toliver nutzt das Wasser als Informationsträger\, um intime Geschichten von Flüssen\, Städten und Körpern in Papier zu speichern. \nAußerdem neu in der Ausstellung vertreten sind Arbeiten von Jenny Michel und Justine Laeufer. Darüber hinaus bietet die Ausstellung Sichtbarkeit für das praxisorientierte Forschen am Material Papier. Studierende der Kunsthochschule Weißensee stellen Textil- sowie Keramikobjekte aus recycelter Zellulose aus großstädtischen Abwässern vor\, die im Rahmen des Forschungslabors greenlab entwickelt wurden. Sie zeigen damit Materialmöglichkeiten auf und hinterfragen zugleich die persönlichen und gesellschaftlichen Grenzen.  \nDie Ausstellung zeigt skulpturale Papierkunst von insgesamt 32 aufstrebenden sowie bereits international etablierten Kunstschaffenden.  \n
URL:https://www.kunstleben-berlin.de/event/ausstellungseroeffnung-waterfalls-and-spirit/
LOCATION:Haus des Papiers\, Seydelstraße 30\, Berlin\, 10117\, Deutschland
CATEGORIES:Ausstellung,Vernissage
ATTACH;FMTTYPE=image/jpeg:https://www.kunstleben-berlin.de/wp-content/uploads/2022/10/Harriet-Gross_ohne-Titel_©Harriet-Gross_FotoHarriet-Gross.jpg
GEO:52.51051;13.40354
X-APPLE-STRUCTURED-LOCATION;VALUE=URI;X-ADDRESS=Haus des Papiers Seydelstraße 30 Berlin 10117 Deutschland;X-APPLE-RADIUS=500;X-TITLE=Seydelstraße 30:geo:13.40354,52.51051
END:VEVENT
END:VCALENDAR