BEGIN:VCALENDAR
VERSION:2.0
PRODID:-//Kunstleben Berlin - das Kunstmagazin - ECPv4.9.13//NONSGML v1.0//EN
CALSCALE:GREGORIAN
METHOD:PUBLISH
X-WR-CALNAME:Kunstleben Berlin - das Kunstmagazin
X-ORIGINAL-URL:https://www.kunstleben-berlin.de
X-WR-CALDESC:Veranstaltungen im Kunstleben Berlin - das Kunstmagazin
BEGIN:VTIMEZONE
TZID:Europe/Berlin
BEGIN:DAYLIGHT
TZOFFSETFROM:+0100
TZOFFSETTO:+0200
TZNAME:CEST
DTSTART:20170326T010000
END:DAYLIGHT
BEGIN:STANDARD
TZOFFSETFROM:+0200
TZOFFSETTO:+0100
TZNAME:CET
DTSTART:20171029T010000
END:STANDARD
END:VTIMEZONE
BEGIN:VEVENT
DTSTART;TZID=Europe/Berlin:20170819T160000
DTEND;TZID=Europe/Berlin:20170819T180000
DTSTAMP:20260423T200859
CREATED:20170814T161135Z
LAST-MODIFIED:20230810T053825Z
UID:70468-1503158400-1503165600@www.kunstleben-berlin.de
SUMMARY:Ausstellungsrundgang mit Tina Berning in der CWC GALLERY
DESCRIPTION:Wir laden Sie herzlich am Samstag\, dem 19. August 2017\, um 16 Uhr zu einem Rundgang mit Tina Berning durch die Ausstellung »Me and I: Part 2« in die CWC GALLERY ein. Tina Berning wird die Arbeitsweise der komplexen Werke erläutern und mit Ihnen gemeinsam die Bedeutung des in der Kunst oft verwendeten Begriffs der Schönheit hinterfragen. Darüber hinaus wird Tina Berning die spannende Zusammenarbeit mit dem Fotokünstler Michelangelo Di Battista erklären. \n
URL:https://www.kunstleben-berlin.de/event/ausstellungsrundgang-mit-tina-berning-in-der-cwc-gallery/
CATEGORIES:Ausstellung
ATTACH;FMTTYPE=image/jpeg:https://www.kunstleben-berlin.de/wp-content/uploads/2017/05/TINA-BERNING-UND-MICHELANGELO-DI-BATTISTA-ANABEL-2016.jpg
END:VEVENT
END:VCALENDAR