BEGIN:VCALENDAR
VERSION:2.0
PRODID:-//Kunstleben Berlin - das Kunstmagazin - ECPv4.9.13//NONSGML v1.0//EN
CALSCALE:GREGORIAN
METHOD:PUBLISH
X-WR-CALNAME:Kunstleben Berlin - das Kunstmagazin
X-ORIGINAL-URL:https://www.kunstleben-berlin.de
X-WR-CALDESC:Veranstaltungen im Kunstleben Berlin - das Kunstmagazin
BEGIN:VTIMEZONE
TZID:Europe/Berlin
BEGIN:DAYLIGHT
TZOFFSETFROM:+0100
TZOFFSETTO:+0200
TZNAME:CEST
DTSTART:20230326T010000
END:DAYLIGHT
BEGIN:STANDARD
TZOFFSETFROM:+0200
TZOFFSETTO:+0100
TZNAME:CET
DTSTART:20231029T010000
END:STANDARD
END:VTIMEZONE
BEGIN:VEVENT
DTSTART;VALUE=DATE:20230913
DTEND;VALUE=DATE:20230918
DTSTAMP:20260424T010301
CREATED:20230608T151207Z
LAST-MODIFIED:20230611T111526Z
UID:99654-1694563200-1694995199@www.kunstleben-berlin.de
SUMMARY:Berlin Art Week 2023
DESCRIPTION:Im September präsentiert die Berlin Art Week traditionell die Vielfalt der zeitgenössischen Berliner Kunstszene in all ihren Facetten. Auch in diesem Jahr läutet die Festivalwoche vom 13—17 September und damit bereits zum 12. Mal den Kunstherbst ein. Erstmals wird sie dabei von der Berliner Volksbank unterstützt – und das sogleich als neue Hauptsponsorin mit einem auf drei Jahre vereinbarten Engagement. \nSie ist ein Projekt von Kulturprojekte Berlin\, die für die Steuerung\, Koordination und Kommunikation verantwortlich sind. Im Rahmen der Berlin Art Week präsentieren renommierte Institutionen der Berliner Gegenwartskunst\, eine Kunstmesse und zahlreiche Berliner Galerien\, Berliner Privatsammler*innen sowie ausgewählte Projekträume ein vielfältiges Programm mit Ausstellungseröffnungen\, Veranstaltungen und Sonderprojekten. Als Festivaltreffpunkt realisiert die Berlin Art Week an einem temporären Pop-Up-Ort eine zentrale Anlaufstelle während der Kunstwoche\, der durch ein umfangreiches Veranstaltungs- und Vermittlungsprogramm Besucher*innen zum Austauschen\, Entdecken und Mitgestalten einlädt. \nUferhallen\, BAW Opening\, 2022 © Clemens Porikys\nBerlin Art Week 2023\n13—17 September 2023 \nBerlin Art Week \n
URL:https://www.kunstleben-berlin.de/event/berlin-art-week-2023/
CATEGORIES:Kunst- und Kulturfestival
ATTACH;FMTTYPE=image/jpeg:https://www.kunstleben-berlin.de/wp-content/uploads/2023/06/1beededf-d3b7-3013-cf53-6fb36b43c8c9.png.jpg
END:VEVENT
END:VCALENDAR