BEGIN:VCALENDAR
VERSION:2.0
PRODID:-//Kunstleben Berlin - das Kunstmagazin - ECPv4.9.13//NONSGML v1.0//EN
CALSCALE:GREGORIAN
METHOD:PUBLISH
X-WR-CALNAME:Kunstleben Berlin - das Kunstmagazin
X-ORIGINAL-URL:https://www.kunstleben-berlin.de
X-WR-CALDESC:Veranstaltungen im Kunstleben Berlin - das Kunstmagazin
BEGIN:VTIMEZONE
TZID:Europe/Berlin
BEGIN:DAYLIGHT
TZOFFSETFROM:+0100
TZOFFSETTO:+0200
TZNAME:CEST
DTSTART:20250330T010000
END:DAYLIGHT
BEGIN:STANDARD
TZOFFSETFROM:+0200
TZOFFSETTO:+0100
TZNAME:CET
DTSTART:20251026T010000
END:STANDARD
END:VTIMEZONE
BEGIN:VEVENT
DTSTART;VALUE=DATE:20250910
DTEND;VALUE=DATE:20250915
DTSTAMP:20260423T211352
CREATED:20250713T213943Z
LAST-MODIFIED:20260223T154036Z
UID:113150-1757462400-1757894399@www.kunstleben-berlin.de
SUMMARY:Berlin Art Week 2025
DESCRIPTION:Bevor die vollständige Programmübersicht der Berlin Art Week 2025 veröffentlicht wird\, steht bereits die Auswahl der Sektion „Featured“ fest. Aus 197 Einreichungen wurden 25 besondere Projekte ausgewählt\, die die Vielfalt und Relevanz der freien Kunstszene Berlins widerspiegeln – von temporären Initiativen über Community Spaces bis hin zu etablierten Institutionen. \nDie diesjährige Jury – bestehend aus Marie-Therese Bruglacher\, Anna Gritz\, Kito Nedo und Mona Stehle – sieht die Auswahl als Zeichen der Anerkennung und Ermutigung\, gerade angesichts aktueller Kürzungen im Kulturbereich. \n»Die Berliner Kulturlandschaft zeichnet sich durch eine über Jahre gewachsene\, außergewöhnliche Vielfalt aus. Diese Vielfalt ist derzeit auf unterschiedliche Weise bedroht – nicht zuletzt durch die drastischen Kürzungen\, mit denen die Berliner Kulturwelt aktuell konfrontiert ist. In diesem Kontext soll die Auswahl in der Sektion Featured auch zu einem Zeichen der Anerkennung und Ermutigung werden. Das Selection Comittee hat sich daher bemüht\, diese Diversität der Kunstszene in ihrer Entscheidung sichtbar zu machen und den langjährigen Partner*innen eine Auswahl zur Seite zu stellen\, die von temporären künstlerischen Initiativen und kleinsten Community Spaces bis hin zu sich seit vielen Jahren etablierenden und etablierten Institutionen reicht.« Zum diesjährigen Selection Comittee gehören Marie-Therese Bruglacher (Kuratorin)\, Anna Gritz (Direktorin\, Haus am Waldsee)\, Kito Nedo (Journalist und Autor\, Chefredakteur Museumsjournal) und Mona Stehle (Künstlerische Leitung\, Berlin Art Week). \nDiese 25 Initiativen\, Projekte und Räume der freien Szene wurden für die diesjährige Sektion FEATURED der Berlin Art Week ausgewählt: \n\n\nBetween Bridges \n\n\nCCA Berlin – Center for Contemporary Arts \n\n\nDie Möglichkeit einer Insel \n\n\nFlutgraben | Fortuna \n\n\nGalerie Wedding – Raum für zeitgenössische Kunst \n\n\nGrotto \n\n\nHaus der Visionäre | Anahita Sadighi \n\n\nHaus des Papiers | A TRANS \n\n\nKunstraum Potsdamer Straße \n\n\nKVOST – Kunstverein Ost \n\n\nNeun Kelche \n\n\nNumber 1 Main Road \n\n\nPaint Shop \n\n\nPassage Art | Funkhaus \n\n\nPickle Bar | Soft Power \n\n\nRefuge Worldwide \n\n\nRemise im Wrangelkiez \n\n\nRyan Mendoza Studio \n\n\nS27 – Falscher Fisch \n\n\nScherben \n\n\nSİNEMA Transtopia \n\n\nSpoiler Aktionsraum \n\n\nStiftung St. Matthäus \n\n\nStudio DB \n\n\nTrauma \n\n\nEVENT-HIGHLIGHT: FEATURED NIGHT 2025\nAm Freitagabend\, 12 SEP\, lockt die Featured Night 18—22 mit verlängerten Öffnungszeiten\, Events und Sonderprogrammen der ausgewählten Projekte in ganz Berlin. Halten Sie sich den Abend also frei und bleiben Sie über unseren Newsletter über den detaillierten Verlauf der Featured Night informiert. \nBerlin Art Week 2025\n10.09.2025 – 14.09.2025 \n
URL:https://www.kunstleben-berlin.de/event/berlin-art-week-2025/
LOCATION:NADAN\, Wilhelmsaue 1\, Berlin\, 10715\, Deutschland
CATEGORIES:Ausstellung
ATTACH;FMTTYPE=image/gif:https://www.kunstleben-berlin.de/wp-content/uploads/2025/07/d18b981c-afad-1983-e700-5ec286dc6302.gif
GEO:52.5200066;13.404954
X-APPLE-STRUCTURED-LOCATION;VALUE=URI;X-ADDRESS=NADAN Wilhelmsaue 1 Berlin 10715 Deutschland;X-APPLE-RADIUS=500;X-TITLE=Wilhelmsaue 1:geo:13.404954,52.5200066
END:VEVENT
END:VCALENDAR