BEGIN:VCALENDAR
VERSION:2.0
PRODID:-//Kunstleben Berlin - das Kunstmagazin - ECPv4.9.13//NONSGML v1.0//EN
CALSCALE:GREGORIAN
METHOD:PUBLISH
X-WR-CALNAME:Kunstleben Berlin - das Kunstmagazin
X-ORIGINAL-URL:https://www.kunstleben-berlin.de
X-WR-CALDESC:Veranstaltungen im Kunstleben Berlin - das Kunstmagazin
BEGIN:VTIMEZONE
TZID:Europe/Berlin
BEGIN:DAYLIGHT
TZOFFSETFROM:+0100
TZOFFSETTO:+0200
TZNAME:CEST
DTSTART:20210328T010000
END:DAYLIGHT
BEGIN:STANDARD
TZOFFSETFROM:+0200
TZOFFSETTO:+0100
TZNAME:CET
DTSTART:20211031T010000
END:STANDARD
BEGIN:DAYLIGHT
TZOFFSETFROM:+0100
TZOFFSETTO:+0200
TZNAME:CEST
DTSTART:20220327T010000
END:DAYLIGHT
BEGIN:STANDARD
TZOFFSETFROM:+0200
TZOFFSETTO:+0100
TZNAME:CET
DTSTART:20221030T010000
END:STANDARD
END:VTIMEZONE
BEGIN:VEVENT
DTSTART;VALUE=DATE:20211127
DTEND;VALUE=DATE:20220130
DTSTAMP:20260424T003042
CREATED:20211120T234615Z
LAST-MODIFIED:20221116T084111Z
UID:89688-1637971200-1643500799@www.kunstleben-berlin.de
SUMMARY:BERLIN – NEW YORK: Birgit Fechner – Maria Maier
DESCRIPTION:Die Galerie Sievi zeigt anlässlich des 20. Jahrestages der Anschläge vom 11. September in New York die Fotoarbeiten von Maria Maier aus dem Werkkomplex New York\, ihre Entwürfe zu dem Triptychon „Zeitraum New York – Twin Towers“ sowie expressive\, abstrahierte Malerei von der Berliner Künstlerin Birgit Fechner. \nAnmerkungen zum Werkkomplex ZEITRAUM NY\n„…Eine weitere Serie bezeichnet „ZEITRAUM NY – Twin Towers“ von 2001. Als diese Werke entstanden\, lag die Katastrophe des 11. Septembers 2001 noch in weiter Ferne. Die Künstlerin machte die Aufnahmen der Türme des World Trade Centers im September 2000. Maria Maier war hier vor allen Dingen von der klaren Form und der großen Vielschichtigkeit der Ansichten der architektonischen Gliederung fasziniert. Am Boden liegend und nach oben fotografierend nahm sie etliche Abbilder der Fassade mit der Kamera auf. Die später daraus entstandenen Fotocollagen\, in denen sie die Elemente vervielfachte und so in eine kaleidoskopartige Struktur zusammenfasste\, stellte sie im Juni/Juli 2001 in drei je 9-teiligen Arbeiten fertig. Sie realisierte dabei – fast prophetisch – ein altarartiges Triptychon mit zersplitterten und gleichzeitig decollagierenden Elementen der Darstellung…“ \nDr. Gabriele Uelsberg in „Maria Maier – ORTsZEIT“;\nSchweinfurter Museumsschriften 108/2003; S. 16 \nBirgit Fechner\nBirgit Fechner schöpft die Inspirationen für ihre Gemälde\, Papierarbeiten und Keramikobjekte aus der Natur\, Musik und Poesie\, aus ihren Erinnerungen und dem Alltag. Sie schafft imaginäre Räume\, die auf den ersten Blick wie abstrahierte Landschaften wirken. Beim genauen Hinsehen wird deutlich\, dass sie aus einer Fülle von biomorphen Formen und mehreren Schichten bestehen. Sie scheinen allmählich durch\, laden ein\, das unter der Oberfläche Verborgene zu ergründen. Ihre kraftvollen Gebilde sind eine Mischung aus gestischer Malerei und Collage\, für die sie häufig Fragmente von gemusterten Stoffen\, Pflanzen und Fotografien sowie Textfragmente benutzt. Mit einem zarten Geflecht aus Linien\, Strukturen und Texturen bedeckt\, scheinen ihre Bilder stets in Bewegung zu sein. Sie vibrieren und pulsieren\, ihre Elemente verschmelzen zu einem Ganzen\, um sich im nächsten Augenblick in Einzelteile aufzulösen. Sie zeigt\, dass die Welt immer mehr zerfällt und nur in Bruchstücken wahrgenommen werden kann. \nBirgit Fechners Bildvokabular ist zugleich expressiv und introspektiv\, reduziert und üppig\, lyrisch und lebensnah\, subtil und farbenfroh. Werden und Vergehen\, Moment und Ewigkeit\, Melancholie und Lust\, Harmonie und Chaos\, Stillstand und Dynamik sind Spannungsfelder\, zwischen denen ihre Arbeiten oszillieren. \nUrszula Usakowska-Wolff \nBERLIN – NEW YORK: Birgit Fechner – Maria Maier\n27. November 2021 – 29. Januar 2022 \nGalerie Sievi \n
URL:https://www.kunstleben-berlin.de/event/berlin-new-york-birgit-fechner-maria-maier/
LOCATION:Galerie Sievi\, Gneisenaustrasse 112\, Berlin\, 10961\, Deutschland
CATEGORIES:Ausstellung
ATTACH;FMTTYPE=image/jpeg:https://www.kunstleben-berlin.de/wp-content/uploads/2021/11/Sievi.jpg
GEO:52.4929399;13.3892226
X-APPLE-STRUCTURED-LOCATION;VALUE=URI;X-ADDRESS=Galerie Sievi Gneisenaustrasse 112 Berlin 10961 Deutschland;X-APPLE-RADIUS=500;X-TITLE=Gneisenaustrasse 112:geo:13.3892226,52.4929399
END:VEVENT
END:VCALENDAR