BEGIN:VCALENDAR
VERSION:2.0
PRODID:-//Kunstleben Berlin - das Kunstmagazin - ECPv4.9.13//NONSGML v1.0//EN
CALSCALE:GREGORIAN
METHOD:PUBLISH
X-WR-CALNAME:Kunstleben Berlin - das Kunstmagazin
X-ORIGINAL-URL:https://www.kunstleben-berlin.de
X-WR-CALDESC:Veranstaltungen im Kunstleben Berlin - das Kunstmagazin
BEGIN:VTIMEZONE
TZID:Europe/Berlin
BEGIN:DAYLIGHT
TZOFFSETFROM:+0100
TZOFFSETTO:+0200
TZNAME:CEST
DTSTART:20170326T010000
END:DAYLIGHT
BEGIN:STANDARD
TZOFFSETFROM:+0200
TZOFFSETTO:+0100
TZNAME:CET
DTSTART:20171029T010000
END:STANDARD
END:VTIMEZONE
BEGIN:VEVENT
DTSTART;VALUE=DATE:20170915
DTEND;VALUE=DATE:20170919
DTSTAMP:20260423T163127
CREATED:20170907T160040Z
LAST-MODIFIED:20230810T053735Z
UID:70788-1505433600-1505710799@www.kunstleben-berlin.de
SUMMARY:Berliner Liste 2017
DESCRIPTION:Parallel zur Berlin Art Week findet die BERLINER LISTE vom 15. bis 17. September 2017 auf 4.000 Quadratmetern im Postbahnhof am Ostbahnhof statt. Zum vierzehnten Mal präsentiert die Entdeckermesse ein breites Spektrum internationaler zeitgenössischer Kunst zu erschwinglichen Preisen. Mehr als 90 Aussteller aus insgesamt 34 Ländern und fünf Kontinenten präsentieren ihre neusten Arbeiten und aktuellen Programme. Damit ist die Edition 2017 die internationalste LISTE aller Zeiten. \nHIGHLIGHTS\nFreuen Sie sich auf ein interdisziplinäres Messeerlebnis: „The Temple“\, ein Gesamtkunstwerk der Künstler Vera Kochubey und Mischa Fanghaenel in Kollaboration mit AP Entertainment. Zum Eröffnungsabend\, Donnerstag 14. September präsentiert „The Temple“ eine audiovisuelle Licht- und Kunstinstallation mit Live Painting und Contemporary Dance Performance des russischen Tänzers und Choreografen Valentin Tszin musikalisch begleitet von der Berghain-Ikonen DJ Rødhåd und Kobosil. \nDie Urban Art Section der Messe präsentiert eine große Solo Show des international bekannten Street-Art Künstlers Jim Avignon. Wenige Meter von seinem großen Wandbild am Mauerstreifen der East Side Galerie entfernt. \nBERLINER LISTE EDITION\nSie möchten für wenig Geld ein Original erstehen? Nach der erfolgreichen Premiere im Rahmen der KÖLNER LISTE gibt es in diesem Jahr erstmals auch zur Berlin Art Week eine limitierte BERLINER LISTE Edition. \nBERLINER LISTE – Die Entdeckermesse für zeitgenössische Kunst\n15. – 17. September 2017 | Opening Donnerstag 14. September 2017\, 18:00 – 22:00 Uhr\,\nAfter-Show Party ab 22:00 Uhr \nÖffnungszeiten: Freitag – Samstag: 13:00 bis 22:00 Uhr | Sonntag 11.00 bis 19:00 Uhr\nPostbahnhof am Ostbahnhof | Straße der Pariser Kommune 8 | 10243 Berlin\nEintritt: Tagesticket 13 €\, Tagesticket ermäßigt 9 €\, beides inkl. Katalog\nZum Opening am Donnerstag\, 14. September\, 18.00 – 22:00 Uhr\, ist der Eintritt frei. \nBeitragsbild: Foto: © Berliner Liste \n
URL:https://www.kunstleben-berlin.de/event/berliner-liste/
ATTACH;FMTTYPE=image/jpeg:https://www.kunstleben-berlin.de/wp-content/uploads/2017/09/Berliner-Liste-kunstleben-berlin-1-von-1.jpg
END:VEVENT
END:VCALENDAR