BEGIN:VCALENDAR
VERSION:2.0
PRODID:-//Kunstleben Berlin - das Kunstmagazin - ECPv4.9.13//NONSGML v1.0//EN
CALSCALE:GREGORIAN
METHOD:PUBLISH
X-WR-CALNAME:Kunstleben Berlin - das Kunstmagazin
X-ORIGINAL-URL:https://www.kunstleben-berlin.de
X-WR-CALDESC:Veranstaltungen im Kunstleben Berlin - das Kunstmagazin
BEGIN:VTIMEZONE
TZID:Europe/Berlin
BEGIN:DAYLIGHT
TZOFFSETFROM:+0100
TZOFFSETTO:+0200
TZNAME:CEST
DTSTART:20250330T010000
END:DAYLIGHT
BEGIN:STANDARD
TZOFFSETFROM:+0200
TZOFFSETTO:+0100
TZNAME:CET
DTSTART:20251026T010000
END:STANDARD
END:VTIMEZONE
BEGIN:VEVENT
DTSTART;VALUE=DATE:20250601
DTEND;VALUE=DATE:20251001
DTSTAMP:20260423T095855
CREATED:20250526T105714Z
LAST-MODIFIED:20250530T062439Z
UID:112761-1748736000-1759276799@www.kunstleben-berlin.de
SUMMARY:Blaue Kaskaden | Tanz der Farben – Gemälde von Joanna Gleich
DESCRIPTION:„Meine Bilder beginnen mit dem\, was ich sehe – aber sie enden nie dort. Farbe ist für mich Erinnerung\, Gefühl\, Gegenwart und Möglichkeit zugleich. Ich verstehe Malerei als eine Sprache jenseits des Gegenstands: Sie eröffnet Räume\, die nicht abbilden\, sondern nachwirken.“ – Joanna Gleich \nWie ein Wasserfall brechen leuchtende Farben aus den Gemälden von Joanna Gleich hervor. Jeder einzelne Pinselstrich ist Teil einer Symphonie\, die mit mutiger Hand dirigiert wird. Innerhalb der vier klar umrissenen Ränder der Leinwand formt jede Farbe eine Perspektive. Ihre Werke wirken wie pulsierende Räume – ständig in Schwingung\, ständig in Veränderung.\nIhre Malweise erinnert an die Wahrnehmung der Materie durch die Augen des österreichischen Physikers Fritjof Capra. In einem seiner Bücher beschreibt er\, wie er die Welt um sich herum beobachtet\, während er an einem Spätsommernachmittag am Meer sitzt. Er wurde sich bewusst\, dass seine ganze Umgebung Teil eines gewaltigen kosmischen Tanzes war. Als Hochenergiephysiker wusste er\, dass alles um uns herum aus vibrierenden Molekülen und Atomen besteht\, aus Energiekaskaden\, die aus dem Weltall herabströmen\, um an dem gewaltigen kosmischen Tanz teilzunehmen. \nIn den Bildern von Joanna Gleich kann man diese Art von Bewegung spüren. Im kreativen Prozess konfrontiert die Künstlerin die Betrachtenden durch die ungegenständliche Ausdrucksweise mit ihrer kreativen Aktivität. Die Forderung nach extremer Konzentration\, ist verwoben mit einer Kaskade spontaner Entscheidungen\, einer sorgfältigen Beobachtung des Prozesses\, einer fortwährenden Wachsamkeit. Der magnetische Sog von Gleichs Gemälden ist erfüllt von ihrer schöpferischen Präsenz. Ihre Bilder sind Einladungen zum inneren Tanz – voller Energie\, Tiefe und Poesie. \n
URL:https://www.kunstleben-berlin.de/event/blaue-kaskaden-tanz-der-farben-gemaelde-von-joanna-gleich/
LOCATION:artloft.berlin\, Gerichtstraße 23\, Berlin\, 13347
CATEGORIES:Vernissage
ATTACH;FMTTYPE=image/jpeg:https://www.kunstleben-berlin.de/wp-content/uploads/2025/05/Joanna-Gleich-Blau-2023-©-Photo-Lukas-Dostal-scaled.jpg
GEO:52.5442927;13.3724375
X-APPLE-STRUCTURED-LOCATION;VALUE=URI;X-ADDRESS=artloft.berlin Gerichtstraße 23 Berlin 13347;X-APPLE-RADIUS=500;X-TITLE=Gerichtstraße 23:geo:13.3724375,52.5442927
END:VEVENT
END:VCALENDAR