BEGIN:VCALENDAR
VERSION:2.0
PRODID:-//Kunstleben Berlin - das Kunstmagazin - ECPv4.9.13//NONSGML v1.0//EN
CALSCALE:GREGORIAN
METHOD:PUBLISH
X-WR-CALNAME:Kunstleben Berlin - das Kunstmagazin
X-ORIGINAL-URL:https://www.kunstleben-berlin.de
X-WR-CALDESC:Veranstaltungen im Kunstleben Berlin - das Kunstmagazin
BEGIN:VTIMEZONE
TZID:Europe/Berlin
BEGIN:DAYLIGHT
TZOFFSETFROM:+0100
TZOFFSETTO:+0200
TZNAME:CEST
DTSTART:20170326T010000
END:DAYLIGHT
BEGIN:STANDARD
TZOFFSETFROM:+0200
TZOFFSETTO:+0100
TZNAME:CET
DTSTART:20171029T010000
END:STANDARD
END:VTIMEZONE
BEGIN:VEVENT
DTSTART;TZID=Europe/Berlin:20170907T180000
DTEND;TZID=Europe/Berlin:20170930T180000
DTSTAMP:20260423T213122
CREATED:20170809T125209Z
LAST-MODIFIED:20230810T053808Z
UID:70356-1504807200-1506794400@www.kunstleben-berlin.de
SUMMARY:Casey McKee – Robber Barons
DESCRIPTION:„Robber Barons“ – artfein GALLERY zeigt die neue Ausstellung von Casey McKee \nDer us-amerikanische Künstler\, der in den vergangenen zehn Jahr bekannt wurde durch seine finanzmarkt- und gesellschaftskritischen Themen\, stellt bei uns erstmals seine neue Werkreihe der „Robber Barrons“ vor. Ein Begriff\, der sich vom deutschen Raubritter ableitet. Casey McKee sieht in den Wirtschaftslenkern unserer Zeit die neuen Raubritter. Geld und Erfolg sind zum Sinnbild eines glücklichen Lebens in unserer Gesellschaft geworden. \nDeswegen ist es nicht überraschend\, dass uns aus nicht wenigen Portraits ein zufriedenes Lächeln entgegen strahlt. Die Kombination aus Fotografie und Malerei verleiht den Werken Casey McKees eine besondere realistische Haptik. Den dadurch entstehenden Realismus konterkariert er\, indem er das Innere des Menschen\, seine Gier\, seine Härte und seine wirklichen Beweggründe\, nach außen kehrt. Die oftmals hässliche Seite von wirtschaftlichem Erfolg wird dadurch sichtbar. \nDer Rezipient wird in die Situation gesetzt\, sich mit seinen eigenen Beweggründen auseinander zu setzten – sein Innerstes selbst zu erforschen. \nDie Ausstellung wird von einer Videoinstallation der Künstlerin Ina Rommel begleitet. \nVernissage: Donnerstag\, den 07.09.2017\, 18–22 Uhr\nAusstellungszeitraum: 07.09. bis 30.09.2017\nOrt: artfein GALLERY Berlin\, Hornstr. 20\, 10963 Berlin \nwww.artfein.com/casey-mckee-robber-barons/ \n
URL:https://www.kunstleben-berlin.de/event/casey-mckee-robber-barons/
LOCATION:artfein GALLERY\, Hornstr. 20\, Berlin\, 10963\, Deutschland
CATEGORIES:Ausstellung
GEO:52.493878;13.3812678
X-APPLE-STRUCTURED-LOCATION;VALUE=URI;X-ADDRESS=artfein GALLERY Hornstr. 20 Berlin 10963 Deutschland;X-APPLE-RADIUS=500;X-TITLE=Hornstr. 20:geo:13.3812678,52.493878
END:VEVENT
END:VCALENDAR