BEGIN:VCALENDAR
VERSION:2.0
PRODID:-//Kunstleben Berlin - das Kunstmagazin - ECPv4.9.13//NONSGML v1.0//EN
CALSCALE:GREGORIAN
METHOD:PUBLISH
X-WR-CALNAME:Kunstleben Berlin - das Kunstmagazin
X-ORIGINAL-URL:https://www.kunstleben-berlin.de
X-WR-CALDESC:Veranstaltungen im Kunstleben Berlin - das Kunstmagazin
BEGIN:VTIMEZONE
TZID:Europe/Berlin
BEGIN:DAYLIGHT
TZOFFSETFROM:+0100
TZOFFSETTO:+0200
TZNAME:CEST
DTSTART:20190331T010000
END:DAYLIGHT
BEGIN:STANDARD
TZOFFSETFROM:+0200
TZOFFSETTO:+0100
TZNAME:CET
DTSTART:20191027T010000
END:STANDARD
END:VTIMEZONE
BEGIN:VEVENT
DTSTART;VALUE=DATE:20190426
DTEND;VALUE=DATE:20190430
DTSTAMP:20260423T201245
CREATED:20190417T112155Z
LAST-MODIFIED:20230419T162219Z
UID:77016-1556236800-1556513999@www.kunstleben-berlin.de
SUMMARY:CHARLOTTENWALK AT BERLIN GALLERY WEEKEND
DESCRIPTION:Vom 26.4. – 28.04.2019 findet der Galerienrundgang Charlottenburg – Wilmersdorf statt\, an dem die Charlottenburger Galerien am Berliner Kunstwochenende interessierte BesucherInnen in Ihre Galerieräume einladen. Die BesucherInnen haben beim Charlottenwalk die Möglichkeit\, an diesem Wochenende zahlreiche Ausstellungseröffnungen und bereits laufende Ausstellungen in ihrem Kiez zu besuchen. Öffnungszeiten: 26.04. verlängert bis 21 Uhr\, 27.04. 11 bis 18 Uhr\, 28.04. 11 bis 18 Uhr \n
URL:https://www.kunstleben-berlin.de/event/charlottenwalk-at-berlin-gallery-weekend/
LOCATION:Wichtendahl Galerie\, Carmerstr. 10\, Berlin\, 10623\, Deutschland
ATTACH;FMTTYPE=image/png:https://www.kunstleben-berlin.de/wp-content/uploads/2019/04/Charlotten-Walk-Gallery-Weekend-Berlin.png
GEO:52.5066397;13.3238402
X-APPLE-STRUCTURED-LOCATION;VALUE=URI;X-ADDRESS=Wichtendahl Galerie Carmerstr. 10 Berlin 10623 Deutschland;X-APPLE-RADIUS=500;X-TITLE=Carmerstr. 10:geo:13.3238402,52.5066397
END:VEVENT
END:VCALENDAR