BEGIN:VCALENDAR
VERSION:2.0
PRODID:-//Kunstleben Berlin - das Kunstmagazin - ECPv4.9.13//NONSGML v1.0//EN
CALSCALE:GREGORIAN
METHOD:PUBLISH
X-WR-CALNAME:Kunstleben Berlin - das Kunstmagazin
X-ORIGINAL-URL:https://www.kunstleben-berlin.de
X-WR-CALDESC:Veranstaltungen im Kunstleben Berlin - das Kunstmagazin
BEGIN:VTIMEZONE
TZID:Europe/Berlin
BEGIN:DAYLIGHT
TZOFFSETFROM:+0100
TZOFFSETTO:+0200
TZNAME:CEST
DTSTART:20220327T010000
END:DAYLIGHT
BEGIN:STANDARD
TZOFFSETFROM:+0200
TZOFFSETTO:+0100
TZNAME:CET
DTSTART:20221030T010000
END:STANDARD
END:VTIMEZONE
BEGIN:VEVENT
DTSTART;VALUE=DATE:20221028
DTEND;VALUE=DATE:20221120
DTSTAMP:20260424T000159
CREATED:20221019T114306Z
LAST-MODIFIED:20221117T062345Z
UID:94414-1666915200-1668902399@www.kunstleben-berlin.de
SUMMARY:Christine Keruth: The lost Caspar David.
DESCRIPTION:In der diesjährigen Solo-Ausstellung im Art Center Berlin präsentiert die Berliner Malerin zwei Werkserien\, an der sie aktuell arbeitet.\nBei der Werkreihe ‚The lost Caspar David‘ reizt sie das Spannungsfeld zwischen Natur und menschlicher Freiheit aus. Die Künstlerin setzt das ikonische Werk von Caspar David Friedrich Das Eismeer als Bildzitat ein. Dabei interessiert sie die Auseinandersetzung der Ästhetik zwischen dem Schönen und dem Erhabenen. Gerade im weltweit aktuellen Diskurs um die vom Menschen versursachte Klimakrise\, machen diese Bilder uns die Kleinheit des Menschen gegenüber den Elementarkräften und zugleich deren gefühlter Wirkmächtigkeit bewusst.\nDie Serie ‚Venice‘ ist eine Hommage auf die fragile Schönheit und Pracht der Lagunenstadt. Die Künstlerin möchte diese jedoch jenseits gängiger Klischees darstellen. So überlagert sie prismenförmig architektonische Elemente des Canal Grande oder zeigt Wasserspiegelungen.\nChristine Keruth studierte Malerei an der renomierten Kunsthochschule Berlin-Weißensee. Sie hat zur Pietà-Ikonik in der Gegenwartskunst – Modifikation und Innovation einer Bildformel promoviert und zu kunsthistorischen sowie zeitgenössischen Themen veröffentlicht.\nNeben zahlreichen nationalen und internationalen Solo- und Gruppenausstellungen in Museen\, Galerien\, Kunstvereinen\, Klöstern und Kirchen sind ihre Werke weltweit in öffentlichen und privaten Sammlungen vertreten. \n
URL:https://www.kunstleben-berlin.de/event/christine-keruth-the-lost-caspar-david/
LOCATION:Art Center Berlin\, Georgenstr. 44\, Berlin\, 10117
CATEGORIES:Ausstellung,Vernissage
ATTACH;FMTTYPE=image/jpeg:https://www.kunstleben-berlin.de/wp-content/uploads/2022/10/Keruth_Lost-Caspar-David-Friedrich-100x140-acrylic-on-canvas-I-2-scaled.jpg
GEO:52.5198938;13.3935072
X-APPLE-STRUCTURED-LOCATION;VALUE=URI;X-ADDRESS=Art Center Berlin Georgenstr. 44 Berlin 10117;X-APPLE-RADIUS=500;X-TITLE=Georgenstr. 44:geo:13.3935072,52.5198938
END:VEVENT
END:VCALENDAR