BEGIN:VCALENDAR
VERSION:2.0
PRODID:-//Kunstleben Berlin - das Kunstmagazin - ECPv4.9.13//NONSGML v1.0//EN
CALSCALE:GREGORIAN
METHOD:PUBLISH
X-WR-CALNAME:Kunstleben Berlin - das Kunstmagazin
X-ORIGINAL-URL:https://www.kunstleben-berlin.de
X-WR-CALDESC:Veranstaltungen im Kunstleben Berlin - das Kunstmagazin
BEGIN:VTIMEZONE
TZID:Europe/Berlin
BEGIN:DAYLIGHT
TZOFFSETFROM:+0100
TZOFFSETTO:+0200
TZNAME:CEST
DTSTART:20260329T010000
END:DAYLIGHT
BEGIN:STANDARD
TZOFFSETFROM:+0200
TZOFFSETTO:+0100
TZNAME:CET
DTSTART:20261025T010000
END:STANDARD
END:VTIMEZONE
BEGIN:VEVENT
DTSTART;VALUE=DATE:20260306
DTEND;VALUE=DATE:20260426
DTSTAMP:20260423T075443
CREATED:20260227T153734Z
LAST-MODIFIED:20260228T122525Z
UID:115137-1772755200-1777161599@www.kunstleben-berlin.de
SUMMARY:Code + Paint
DESCRIPTION:Erstmals zeigen wir Arbeiten von Liat Grayver (*1986)\, darunter ihre Serie Traversing the Threshold\, die aus robotergestützten Tuschezeichnungen auf Reispapier besteht. Computergenerierte Bilder werden in einzelne Pinselbewegungen übersetzt und von einem Roboter ausgeführt. Die Zartheit der Tusche auf Papier kontrastiert mit der industriellen Präzision der Maschine und beleuchtet die Schnittstelle zwischen Geste\, Code und Material. \nGezeigt werden zwei Ölgemälde von Gretta Louw (*1981) aus ihrer Serie Artificial Organisms and Animate Machines. Eine algorithmisch generierte Orchidee bildet den Startpunkt und wird abwechselnd von der Künstlerin und einem Industrieroboterarm gemalt. Zwischen den Leinwänden ‚perfektioniert‘ ein KI-Filter das vorherige Ergebnis subtil und schafft so den Ausgangspunkt für das nächste Werk. Die Orchidee\, geformt durch Evolutuion und Züchtung\, wird zum Ort des Austauschs zwischen ästhetischem Begehren\, maschineller Präzision und malerischer Geste. \nLauren Moffatt (*1982) zeigt Beyond Her Mesh\, eine Arbeit\, in der weibliche Figuren von Kunstobjekten angeeignet und mittels 3D-Scanning und Simulationstechniken reimaginiert werden. Physische Oberflächen weichen digitale Texturen. Es entstehen hybride Körper\, die virtuell fotografiert\, bemalt und in eine virtuelle Dimension integriert werden\, die über Augmented Reality zugänglich ist. Moffatts Projekt reflektiert\, wie digitale Strukturen unsere Wahrnehmung des menschlichen Körpers formen und bisweilen auch verzerren. \n
URL:https://www.kunstleben-berlin.de/event/code-paint/
LOCATION:DAM Projects\, Horstweg 35\, Berlin\, 14059\, Deutschland
CATEGORIES:Ausstellung
ATTACH;FMTTYPE=image/jpeg:https://www.kunstleben-berlin.de/wp-content/uploads/2026/02/Liat-Grayver_chaousbluenoframe-web.jpg
GEO:52.5122276;13.2928203
X-APPLE-STRUCTURED-LOCATION;VALUE=URI;X-ADDRESS=DAM Projects Horstweg 35 Berlin 14059 Deutschland;X-APPLE-RADIUS=500;X-TITLE=Horstweg 35:geo:13.2928203,52.5122276
END:VEVENT
END:VCALENDAR