BEGIN:VCALENDAR
VERSION:2.0
PRODID:-//Kunstleben Berlin - das Kunstmagazin - ECPv4.9.13//NONSGML v1.0//EN
CALSCALE:GREGORIAN
METHOD:PUBLISH
X-WR-CALNAME:Kunstleben Berlin - das Kunstmagazin
X-ORIGINAL-URL:https://www.kunstleben-berlin.de
X-WR-CALDESC:Veranstaltungen im Kunstleben Berlin - das Kunstmagazin
BEGIN:VTIMEZONE
TZID:Europe/Berlin
BEGIN:DAYLIGHT
TZOFFSETFROM:+0100
TZOFFSETTO:+0200
TZNAME:CEST
DTSTART:20220327T010000
END:DAYLIGHT
BEGIN:STANDARD
TZOFFSETFROM:+0200
TZOFFSETTO:+0100
TZNAME:CET
DTSTART:20221030T010000
END:STANDARD
END:VTIMEZONE
BEGIN:VEVENT
DTSTART;VALUE=DATE:20220927
DTEND;VALUE=DATE:20221002
DTSTAMP:20260424T002710
CREATED:20220924T151207Z
LAST-MODIFIED:20221117T062828Z
UID:94023-1664236800-1664668799@www.kunstleben-berlin.de
SUMMARY:Criss Cross Pollination. SomoS.
DESCRIPTION:SomoS freut sich\, Criss-Cross Pollination zu präsentieren\, eine Gruppenausstellung\, die die sozio-politischen Beziehungen zwischen Botanik und Menschen im Rahmen der Migration untersucht. Sie nutzt die Narration als Instrument\, um die anhaltende Kritik an der globalen Migrationspolitik und deren Auswirkungen auf Immigranten zu thematisieren\, wobei es auch um Themen wie Zugehörigkeit\, Identität und Entfremdung geht. \nDie Ausstellung\, die die Ergebnisse botanischer Archivrecherchen und einer Reihe von Umfragen integriert\, baut auf den persönlichen Erfahrungen der Kuratorin und der teilnehmenden Kunstschaffenden bei der Suche nach ethnischer Koexistenz in einem für sie fremden Land auf. \nMit der Botanik als zentraler Metapher erforscht sie die Verbindungen zwischen der Bewegung von Menschen und der von Pflanzen und hebt die lebenswichtige Bedeutung von Vielfalt und Querbestäubungen im Gegensatz zu den negativen Auswirkungen von Monokulturen hervor. \nAn der von Ayça Okay im Rahmen ihres Curatorial Residency bei SomoS kuratierten Ausstellung nehmen namhafte Künstler aus der Türkei\, Deutschland\, Syrien und Ägypten teil: Anwar Al Atrash\, İnci Eviner\, Jasmina Metwaly\, Manaf Halbouni und Verena Kyselka. \nIn dem Projekt stützt sich Okay auf ihre umfangreichen Forschungen zu Urbanismus\, Post-Anthropozentrismus\, Ökokritik\, Verflechtungstheorie (in der Archäologie) und kritischer Kunsttheorie\, um die Rolle der Botanik und des Menschen in der Perspektive des urbanen Lebens zu analysieren. Die Erfahrungen der Kuratorin\, die als türkische Kunstschaffende in Berlin lebte\, beeinflussten das Projekt. Sie erklärt: „Ich habe gelernt\, dass Pflanzen\, wie auch Menschen\, verschiedenen biologischen Einflüssen durch die dominanten Arten des Ökosystems\, in das sie einwandern\, ausgesetzt sind. Diese Migration\, die manchmal verheerend für den Migranten ist\, kann auch für das migrierende Ökosystem verheerend sein. Und auch Pflanzen durchlaufen einen Prozess\, bei dem sie genauso viel ‚Papierkram‘ ausgesetzt sind wie Menschen.“ \nEs ist jedoch klar\, dass das Organische das Legale übertrumpft. Criss-Cross Pollination schlägt neue Sichtweisen auf die Migration vor und lädt das Publikum ein\, den Wert der Mobilität für bestehende soziale Strukturen und Ökosysteme zu bedenken\, da es die Erfahrungen von Individuen berührt\, die sich genau wie Pflanzen anpassen. Auf diese Weise schlägt die Ausstellung in Anlehnung an den französischen Schriftsteller und Dichter Eduard Glissant eine andere Art des Denkens über Migration vor\, indem sie diese durch den Ausdruck „SoJourner“ ersetzt. \nDie Ausstellung greift in ihren verschiedenen künstlerischen Positionen hochaktuelle Themen auf\, die aus der Sicht von Migranten betrachtet und interpretiert werden\, und ist ein Plädoyer für eine zugängliche\, vernetzte globale Welt. \nTeilnehmende Künstler/innen: \nİnci Eviner (TR) – video – https://www.incieviner.net/\nJasmina Metwaly (EG/PL) – video – https://www.re-aligned.net/jasmina-metwaly/\nAnwar Al Atrash (SY) – installation – https://www.anwaralatrash.com/\nVerena Kyselka (DE) -i nstallation – https://verena-kyselka.de/\nManaf Halbouni (SY) – paintings – https://www.manaf-halbouni.com/ \nMehr über die Ausstellung: https://somos.media/u7 \n
URL:https://www.kunstleben-berlin.de/event/criss-cross-pollination-2/
LOCATION:SomoS Arts\, Kottbusser Damm 95\, Berlin\, 10967\, Deutschland
CATEGORIES:Ausstellung,Vernissage
ATTACH;FMTTYPE=image/jpeg:https://www.kunstleben-berlin.de/wp-content/uploads/2022/09/web-newsletter2bsider-2-flat.jpg
GEO:52.4939763;13.4219284
X-APPLE-STRUCTURED-LOCATION;VALUE=URI;X-ADDRESS=SomoS Arts Kottbusser Damm 95 Berlin 10967 Deutschland;X-APPLE-RADIUS=500;X-TITLE=Kottbusser Damm 95:geo:13.4219284,52.4939763
END:VEVENT
END:VCALENDAR