BEGIN:VCALENDAR
VERSION:2.0
PRODID:-//Kunstleben Berlin - das Kunstmagazin - ECPv4.9.13//NONSGML v1.0//EN
CALSCALE:GREGORIAN
METHOD:PUBLISH
X-WR-CALNAME:Kunstleben Berlin - das Kunstmagazin
X-ORIGINAL-URL:https://www.kunstleben-berlin.de
X-WR-CALDESC:Veranstaltungen im Kunstleben Berlin - das Kunstmagazin
BEGIN:VTIMEZONE
TZID:Europe/Berlin
BEGIN:DAYLIGHT
TZOFFSETFROM:+0100
TZOFFSETTO:+0200
TZNAME:CEST
DTSTART:20260329T010000
END:DAYLIGHT
BEGIN:STANDARD
TZOFFSETFROM:+0200
TZOFFSETTO:+0100
TZNAME:CET
DTSTART:20261025T010000
END:STANDARD
END:VTIMEZONE
BEGIN:VEVENT
DTSTART;VALUE=DATE:20260312
DTEND;VALUE=DATE:20260412
DTSTAMP:20260423T075705
CREATED:20260211T132004Z
LAST-MODIFIED:20260215T151609Z
UID:114930-1773273600-1775951999@www.kunstleben-berlin.de
SUMMARY:Crowds
DESCRIPTION:Mit „Crowds“ präsentiert die janinebeangallery Berlin eine konzentrierte Auswahl fotografischer Arbeiten von Nick Zinner. Der Musiker der Band Yeah Yeah Yeahs fotografierte das Publikum während der Konzerte konsequent von der Bühne aus. \nDie analogen Aufnahmen halten einen Moment fest\, in dem Konzerte von kollektiver Aufmerksamkeit und physischer Nähe geprägt waren. \nGezeigt werden ausschließlich Fotografien aus den Jahren 2003 und 2004\, einer prägenden Phase sowohl innerhalb von Zinners künstlerischer Entwicklung als auch im Kontext der internationalen Musik- und Clubkultur der frühen 2000er Jahre. \nNick Zinner ist international bekannt als Gitarrist und Songwriter der New Yorker Band Yeah Yeah Yeahs. Seit der Gründung der Band im Jahr 2000 prägt er deren charakteristischen Sound maßgeblich\, mit präzisem\, oft kantigem Gitarrenspiel\, das zwischen Post-Punk-Energie\, Noise-Elementen und melodischer Zurückhaltung oszilliert. Gemeinsam mit Sängerin Karen O und Schlagzeuger Brian Chase entwickelte Zinner eine musikalische Sprache\, die den internationalen Durchbruch der Band in den frühen 2000er Jahren entscheidend mitbestimmte. \nDie Yeah Yeah Yeahs zählen zu den zentralen Protagonisten der New Yorker Indie-Rock-Szene jener Zeit. Mit dem Debütalbum Fever to Tell (2003) und Songs wie Maps wurde die Band weltweit bekannt. \nIhre Konzerte waren geprägt von intensiver physischer Präsenz\, unmittelbarer Publikumsnähe und einer emotionalen Direktheit\, die das Lebensgefühl einer Generation widerspiegelte. Die Fotografien der Serie Crowds entstanden während der Tourneen mit den Yeah Yeah Yeahs. \nZinner fotografierte konsequent von der Bühne aus\, stets während der Performance des Songs Maps. Der Song fungierte dabei als wiederkehrender zeitlicher und emotionaler Bezugspunkt innerhalb der Konzerte. In seiner reduzierten\, melancholischen Struktur thematisiert Maps Nähe\, Bindung und Verletzlichkeit und bildet damit einen inhaltlichen Resonanzraum für die fotografierten Publikumsreaktionen. \nKonzert als soziale Situation \nDie frühen 2000er Jahre lassen sich besonders für die Yeah Yeah Yeahs als eine Phase hoher physischer und sozialer Präsenz im Konzertkontext beschreiben. Konzerte fungierten als Orte unmittelbarer Begegnung\, geprägt von Nähe zwischen Bühne und Publikum sowie von einer gemeinsamen\, kollektiven Aufmerksamkeit. Die Gesichter\, Blicke und Gesten auf den Fotos von Nick Zinner bildeten zentrale Elemente des Erlebens und strukturierten eine Situation\, die wesentlich durch den geteilten Moment bestimmt war. \nFür die Betrachtenden eröffnet sich dabei eine besondere Perspektive. Durch den Aufnahmeort auf der Bühne nehmen sie faktisch die Position des Musikers ein. Der Blick richtet sich frontal auf das Publikum\, auf Reaktionen und individuelle Präsenz. Diese Perspektivverschiebung ermöglicht eine unmittelbare Auseinandersetzung mit Nähe und kollektiver Wahrnehmung im Live-Kontext. Zugleich entsteht eine zeitliche Verschiebung. \nDie Fotografien eröffnen einen direkten Zugang zu den Jahren 2003 und 2004 und machen eine konkrete historische Situation erfahrbar. Die Arbeiten fungieren damit auch als visuelle Zeitdokumente\, die ein spezifisches kulturelles und soziales Umfeld dieser Jahre nachvollziehbar werden lassen. \nAlle Fotografien der Serie wurden analog aufgenommen. Zinner arbeitete mit Film und analoger Kamera\, was sich in der Bildstruktur\, der Lichtführung und der materiellen Präsenz der Arbeiten zeigt. \nFür die Ausstellung werden die Fotografien als großformatige Abzüge im Format 100 × 150 cm präsentiert\, wodurch die körperliche Wirkung der Bilder zusätzlich verstärkt wird. \nNick Zinner studierte Fotografie am Bard College in Annandale-on-Hudson\, New York\, und setzte sein Studium anschließend in Frankreich fort. Die interdisziplinäre Ausrichtung des Bard College und dessen Nähe zu zeitgenössischer Kunst\, Musik und Theorie prägten Zinners künstlerischen Blick nachhaltig. \nAuch heute ist Nick Zinner weiterhin aktiv als Musiker. Die Yeah Yeah Yeahs feierten 2025 ein Jubiläum\, das mit einer eigenen Tour begangen wurde. Darüber hinaus ist Zinner seit mehreren Jahren fester Gitarrist in der Live-Band von Iggy Pop. In beiden Kontexten bewegt er sich weiterhin zwischen Bühne\, musikalischer Praxis und visueller Beobachtung. \n
URL:https://www.kunstleben-berlin.de/event/crowds/
LOCATION:janinebeangallery\, Torstrasse 154\, Berlin\, 10115\, Deutschland
CATEGORIES:Ausstellung
ATTACH;FMTTYPE=image/jpeg:https://www.kunstleben-berlin.de/wp-content/uploads/2026/02/Nick-Zinner-Fotografie_-APRIL-04-Berlin.jpg
GEO:52.5291053;13.3973186
X-APPLE-STRUCTURED-LOCATION;VALUE=URI;X-ADDRESS=janinebeangallery Torstrasse 154 Berlin 10115 Deutschland;X-APPLE-RADIUS=500;X-TITLE=Torstrasse 154:geo:13.3973186,52.5291053
END:VEVENT
END:VCALENDAR