BEGIN:VCALENDAR
VERSION:2.0
PRODID:-//Kunstleben Berlin - das Kunstmagazin - ECPv4.9.13//NONSGML v1.0//EN
CALSCALE:GREGORIAN
METHOD:PUBLISH
X-WR-CALNAME:Kunstleben Berlin - das Kunstmagazin
X-ORIGINAL-URL:https://www.kunstleben-berlin.de
X-WR-CALDESC:Veranstaltungen im Kunstleben Berlin - das Kunstmagazin
BEGIN:VTIMEZONE
TZID:Europe/Berlin
BEGIN:DAYLIGHT
TZOFFSETFROM:+0100
TZOFFSETTO:+0200
TZNAME:CEST
DTSTART:20240331T010000
END:DAYLIGHT
BEGIN:STANDARD
TZOFFSETFROM:+0200
TZOFFSETTO:+0100
TZNAME:CET
DTSTART:20241027T010000
END:STANDARD
BEGIN:DAYLIGHT
TZOFFSETFROM:+0100
TZOFFSETTO:+0200
TZNAME:CEST
DTSTART:20250330T010000
END:DAYLIGHT
BEGIN:STANDARD
TZOFFSETFROM:+0200
TZOFFSETTO:+0100
TZNAME:CET
DTSTART:20251026T010000
END:STANDARD
END:VTIMEZONE
BEGIN:VEVENT
DTSTART;VALUE=DATE:20241123
DTEND;VALUE=DATE:20250126
DTSTAMP:20260423T212251
CREATED:20241101T091002Z
LAST-MODIFIED:20241101T111216Z
UID:108830-1732320000-1737849599@www.kunstleben-berlin.de
SUMMARY:Curved
DESCRIPTION:Einladung zur Ausstellungseröffnung von „Curved“ (23.11.2024 – 25.01.2025) am Freitag\, den den 22.11.2024 um 19:30 Uhr! \nEine lakonische Expression – experimentell und interaktiv mit einer Seifenblasen Klangperformance der „The Unfamiliarnaires“. \nDie curved π-Objektbilder von Marius D. Kettler übertragen als Schallwandler Klänge und beeinflussen durch Abgabe der Seifenblasen die Komposition der „The Unfamiliarnaires“! \n
URL:https://www.kunstleben-berlin.de/event/curved/
LOCATION:a.i.p. project space – artists in progress\, Suarezstraße 8\, Berlin\, 14057\, Deutschland
CATEGORIES:Ausstellung
ATTACH;FMTTYPE=image/jpeg:https://www.kunstleben-berlin.de/wp-content/uploads/2024/10/curved-Quadr.jpeg
GEO:52.5094656;13.2960381
X-APPLE-STRUCTURED-LOCATION;VALUE=URI;X-ADDRESS=a.i.p. project space – artists in progress Suarezstraße 8 Berlin 14057 Deutschland;X-APPLE-RADIUS=500;X-TITLE=Suarezstraße 8:geo:13.2960381,52.5094656
END:VEVENT
END:VCALENDAR