BEGIN:VCALENDAR
VERSION:2.0
PRODID:-//Kunstleben Berlin - das Kunstmagazin - ECPv4.9.13//NONSGML v1.0//EN
CALSCALE:GREGORIAN
METHOD:PUBLISH
X-WR-CALNAME:Kunstleben Berlin - das Kunstmagazin
X-ORIGINAL-URL:https://www.kunstleben-berlin.de
X-WR-CALDESC:Veranstaltungen im Kunstleben Berlin - das Kunstmagazin
BEGIN:VTIMEZONE
TZID:Europe/Berlin
BEGIN:DAYLIGHT
TZOFFSETFROM:+0100
TZOFFSETTO:+0200
TZNAME:CEST
DTSTART:20230326T010000
END:DAYLIGHT
BEGIN:STANDARD
TZOFFSETFROM:+0200
TZOFFSETTO:+0100
TZNAME:CET
DTSTART:20231029T010000
END:STANDARD
END:VTIMEZONE
BEGIN:VEVENT
DTSTART;VALUE=DATE:20231103
DTEND;VALUE=DATE:20230621
DTSTAMP:20260423T114307
CREATED:20231028T112239Z
LAST-MODIFIED:20240311T114203Z
UID:102720-1698969600-1687219200@www.kunstleben-berlin.de
SUMMARY:CUT by Haus des Papiers
DESCRIPTION:Das Haus des Papiers lädt zur Eröffnung der Herbst-/Winterausstellung 2023/24! \nFeine cuts\, scharfe Kanten\, Leerstellen\, das Spiel mit dem Licht\, das durch gezielt gesetzte Schnitte fällt.  \nDas Messer verletzt das Papier und formt es zugleich. Es steht sinnbildlich für das Leben\, das uns durch Verletzungen\, Trennungen\, Einschnitte zu den Personen formt\, die wir sind. \nAls hätten sie eine stille Vereinbarung getroffen\, haben sich die vier Stipendiatinnen\, Annabel Daou\, Haleh Redjaian\, Nadine Fecht und Serena Alma Ferrario\, in diesem Jahr der paper cut Technik gewidmet. Mal mit dem Messer\, mal mit Feuer.  \nDer Titel der Herbst-/Winterausstellung lautet daher: CUT. \nDie Ausstellung zeigt außerdem u. a. die Arbeiten von Rachel de Joode aus der Sommerresidenz 2022 sowie Positionen aus Papier von Finja Sander\, Johanna Dumet und Solveig Gubser. \nDie Vernissage wird am 2. November um 18 Uhr von Annette Berr\, Direktorin\, und Katharina Grosch\, Museumsleitung\, eröffnet. \nDie Residentinnen werden ihre Arbeiten vor Ort vorstellen\, um somit einen Einblick in ihren Arbeitsprozess während der Paper Residency! zu ermöglichen. Im Laufe des Abends wird zudem Finja Sander ihre massive Skulptur persönlich „aktivieren“. \nDer Eintritt ist an diesem Abend ist frei. \nDas Museum Haus des Papiers freut sich auf Ihren Besuch! \n
URL:https://www.kunstleben-berlin.de/event/cut-by-haus-des-papiers/
LOCATION:Haus des Papiers\, Seydelstraße 30\, Berlin\, 10117\, Deutschland
CATEGORIES:Ausstellung
ATTACH;FMTTYPE=image/webp:https://www.kunstleben-berlin.de/wp-content/uploads/2023/10/CUT_poster.webp
GEO:52.51051;13.40354
X-APPLE-STRUCTURED-LOCATION;VALUE=URI;X-ADDRESS=Haus des Papiers Seydelstraße 30 Berlin 10117 Deutschland;X-APPLE-RADIUS=500;X-TITLE=Seydelstraße 30:geo:13.40354,52.51051
END:VEVENT
END:VCALENDAR