BEGIN:VCALENDAR
VERSION:2.0
PRODID:-//Kunstleben Berlin - das Kunstmagazin - ECPv4.9.13//NONSGML v1.0//EN
CALSCALE:GREGORIAN
METHOD:PUBLISH
X-WR-CALNAME:Kunstleben Berlin - das Kunstmagazin
X-ORIGINAL-URL:https://www.kunstleben-berlin.de
X-WR-CALDESC:Veranstaltungen im Kunstleben Berlin - das Kunstmagazin
BEGIN:VTIMEZONE
TZID:Europe/Berlin
BEGIN:DAYLIGHT
TZOFFSETFROM:+0100
TZOFFSETTO:+0200
TZNAME:CEST
DTSTART:20250330T010000
END:DAYLIGHT
BEGIN:STANDARD
TZOFFSETFROM:+0200
TZOFFSETTO:+0100
TZNAME:CET
DTSTART:20251026T010000
END:STANDARD
END:VTIMEZONE
BEGIN:VEVENT
DTSTART;VALUE=DATE:20250703
DTEND;VALUE=DATE:20250908
DTSTAMP:20260423T151400
CREATED:20250727T131424Z
LAST-MODIFIED:20250727T131424Z
UID:113256-1751500800-1757289599@www.kunstleben-berlin.de
SUMMARY:Das größte internationale Fotofestival des Sommers in Berlin
DESCRIPTION:Das Museum Haus des Papiers (HdP) veranstaltet das Fotofestival Kommunikation und Haltung. Noch bis zum 7. September lädt das Museum an 14 Orten in Berlin sowie in Chemnitz und Basel\, Schweiz\, zu gesellschaftlichem Austausch und kreativen Begegnungen rund um das Medium Fotografie ein. In Berlin bietet das Haus des Papiers von August bis September ein vielfältiges Sommerprogramm. \nIm Zentrum stehen Fragen nach Ausdruck\, Verantwortung und der Rolle der Kunst im öffentlichen Raum. Besucher:innen erwarten an verschiedenen Standorten Führungen\, Vorträge und ein Festival-Rückblick\, bei dem die Arbeiten des Foto-Open-Calls präsentiert werden. \nHöhepunkte des Rahmenprogramms im August und September:\n\nKuratorinnen-Führungen am Holzmarkt (06.08. & 13.08.)\nAusstellungsführungen auf dem Teufelsberg\, jeweils samstags (02.–30.08.)\nArtist Walk mit Dario J Laganà im Stadtteilzentrum Kreativhaus (21.08.)\nKinderworkshops auf der Museumsterrasse HdP: Postkarten-Collagen und Fotobuch-Gestaltung (14.08. & 28.08.)\n„Haltung in Serie – Joseph Beuys’ Multiples als Kommunikationsform“\, Vortrag Dr. Sarah Frost im HdP (05.09.)\nFestivalrückblick mit Diashow + Open Call Präsentation im HdP (06./07.09.)\nBerlin Art Week Special: Kuratorinnengespräch im A TRANS und Haus des Papiers (12.09.)\n\nAlle Informationen\, Eintrittspreise und Anmeldemöglichkeiten unter: www.hausdespapiers.de \nDas Haus des Papiers ist ein privates Museum in Berlin\, das sich seit 2021 der zeitgenössischen skulpturalen Papierkunst widmet. Mit dem Paper Art Award\, der Paper Residency! und starken Partnern wie d’mage\, Hahnemühle und Canon bietet es eine Plattform für etablierte und junge Künstler:innen – und baut eine lebendige Community rund um den Werkstoff Papier auf. \nBeitragsbild: Jorinde Voigt & Olaf Heine Lichtzeichnung/Lightdrawing I\, 2022 Chromogenic Print\, Courtesy: Jorinde Voigt & Olaf Heine © Olaf Heine & Jorinde Voigt / VG Bild-Kunst \nDas größte internationale Fotofestival des Sommers in Berlin\n03.07.2025 – 07.09.2025 \nHdP Haus des Papiers \n
URL:https://www.kunstleben-berlin.de/event/das-groesste-internationale-fotofestival-des-sommers-in-berlin/
LOCATION:Haus des Papiers\, Seydelstraße 30\, Berlin\, 10117\, Deutschland
CATEGORIES:Ausstellung,Kunst- und Kulturfestival
ATTACH;FMTTYPE=image/jpeg:https://www.kunstleben-berlin.de/wp-content/uploads/2025/07/J.-Voigt_O.-Heine_Lichtzeichnung-I_2022-1.jpg
GEO:52.51051;13.40354
X-APPLE-STRUCTURED-LOCATION;VALUE=URI;X-ADDRESS=Haus des Papiers Seydelstraße 30 Berlin 10117 Deutschland;X-APPLE-RADIUS=500;X-TITLE=Seydelstraße 30:geo:13.40354,52.51051
END:VEVENT
END:VCALENDAR