BEGIN:VCALENDAR
VERSION:2.0
PRODID:-//Kunstleben Berlin - das Kunstmagazin - ECPv4.9.13//NONSGML v1.0//EN
CALSCALE:GREGORIAN
METHOD:PUBLISH
X-WR-CALNAME:Kunstleben Berlin - das Kunstmagazin
X-ORIGINAL-URL:https://www.kunstleben-berlin.de
X-WR-CALDESC:Veranstaltungen im Kunstleben Berlin - das Kunstmagazin
BEGIN:VTIMEZONE
TZID:Europe/Berlin
BEGIN:DAYLIGHT
TZOFFSETFROM:+0100
TZOFFSETTO:+0200
TZNAME:CEST
DTSTART:20180325T010000
END:DAYLIGHT
BEGIN:STANDARD
TZOFFSETFROM:+0200
TZOFFSETTO:+0100
TZNAME:CET
DTSTART:20181028T010000
END:STANDARD
END:VTIMEZONE
BEGIN:VEVENT
DTSTART;VALUE=DATE:20180927
DTEND;VALUE=DATE:20180928
DTSTAMP:20260423T143835
CREATED:20180927T010000Z
LAST-MODIFIED:20230711T121611Z
UID:73627-1538006400-1538038800@www.kunstleben-berlin.de
SUMMARY:David Nicholson auf der Art Week. Galerie Michael Haas
DESCRIPTION:Auf der Art Berlin zeigt die Galerie Michael Haas die 2016-2018 entstandene Gemälde-Serie überlebensgroßer Porträts von fünf Amerikanern von David Nicholson: einen General der Union Army\, den General Beauregard des konföderierten Heers\, der Lakota Häuptling Medicine Crow\, ein afroamerikanischer Sklave und ein spanischer Konquistador. Nicholson wurde 1970 in Montreal geboren und lebt in Berlin. Michael Haas präsentiert anlässlich der Berlin Art Week Skulpturen von Auke de Vries (*1937) in der Galerie und im Kunst Lager Haas. \n„Ich habe jede Figur als verdichtetes Porträt der Bevölkerungen ausgewählt\, die auf dem amerikanischen Kontinent um ihre jeweilige Vorherrschaft kämpft. Amerikas Unfähigkeit\, die Menschen\, die unter seiner Verfassung leben\, zu versöhnen\, verfolgt das Land bis heute.“ (Nicholson) \nFLUGHAFEN TEMPELHOF\, Tempelhofer Damm 45\n12101 Berlin \nwww.artberlinfair.com \nERÖFFNUNG\n27 SEP 2018\, 16—20 Uhr \nBESUCHERTAGE\n28—29 SEP 2018\, 11—19 Uhr\n30 SEP 2018\, 11—18 Uhr \nANFAHRT\nEingang Paradestraße\nU6 – Paradestraße \nEINTRITTSPREISE\nEröffnung: 36 €\n28—30 SEP 2018: 18 €\, erm. 12 € \n
URL:https://www.kunstleben-berlin.de/event/david-nicholson-auf-der-art-week-galerie-michael-haas/
LOCATION:Galerie Michael Haas\, Niebuhrstraße 5\, Berlin\, 10629\, Deutschland
CATEGORIES:Ausstellung,Messe
ATTACH;FMTTYPE=image/jpeg:https://www.kunstleben-berlin.de/wp-content/uploads/2018/08/Galerie-Michael-Haas-Nicholson-Butterfields-Lullaby-20161717.jpg
GEO:52.5043913;13.3179203
X-APPLE-STRUCTURED-LOCATION;VALUE=URI;X-ADDRESS=Galerie Michael Haas Niebuhrstraße 5 Berlin 10629 Deutschland;X-APPLE-RADIUS=500;X-TITLE=Niebuhrstraße 5:geo:13.3179203,52.5043913
END:VEVENT
END:VCALENDAR