BEGIN:VCALENDAR
VERSION:2.0
PRODID:-//Kunstleben Berlin - das Kunstmagazin - ECPv4.9.13//NONSGML v1.0//EN
CALSCALE:GREGORIAN
METHOD:PUBLISH
X-WR-CALNAME:Kunstleben Berlin - das Kunstmagazin
X-ORIGINAL-URL:https://www.kunstleben-berlin.de
X-WR-CALDESC:Veranstaltungen im Kunstleben Berlin - das Kunstmagazin
BEGIN:VTIMEZONE
TZID:Europe/Berlin
BEGIN:DAYLIGHT
TZOFFSETFROM:+0100
TZOFFSETTO:+0200
TZNAME:CEST
DTSTART:20220327T010000
END:DAYLIGHT
BEGIN:STANDARD
TZOFFSETFROM:+0200
TZOFFSETTO:+0100
TZNAME:CET
DTSTART:20221030T010000
END:STANDARD
END:VTIMEZONE
BEGIN:VEVENT
DTSTART;VALUE=DATE:20220430
DTEND;VALUE=DATE:20220502
DTSTAMP:20260423T215808
CREATED:20220410T231040Z
LAST-MODIFIED:20221117T065546Z
UID:91476-1651276800-1651449599@www.kunstleben-berlin.de
SUMMARY:Der Antonyme Salon\, No. 1 - Anton Henning: Unverkäuflich anmutige Antiphrasen
DESCRIPTION:Der Antonyme Salon öffnet am Samstag\, den 30. April in Berlin seine Türen: Am Wochenende des Gallery Weekends stellen Anton Henning\, Wolfgang Ullrich und Jana Noritsch die Arbeit des Antonymen Salons vor und regen Gespräche zur Autonomie in der zeitgenössischen Kunst an. Dafür zeigen sie in einer kleinen Kabinettausstellung unverkäufliche Werke von Anton Henning und planen einen öffentlich zugänglichen\, kostenfreien Kiezspaziergang\, der bei im Antonyme Salon startet und durch die nähere Charlottenburger Galerieszene geleitet am Sonntag\, 1. Mai\, ab 12 Uhr. \nDie gemeinnützige Gesellschaft Der Antonyme Salon macht es sich zur Aufgabe\, durch regelmäßige kuratorische Projekte\, Vorträge\, Diskussionsrunden und Publikationen das Fortwirken der Errungenschaften der avantgardistischen und autonomen Kunst des 20. Jahrhunderts in der Gegenwart zu debattieren. Ausgangs- und Bezugspunkt ist dabei das Œuvre von Anton Henning. Wie kaum jemand sonst setzt er sich seit rund dreißig Jahren in Gemälden und Zeichnungen\, aber auch in Skulpturen und anderen Werkformen mit der Klassischen Moderne auseinander: Er greift die in ihr entwickelten Möglichkeiten auf\, führt sie weiter\, steigert und verbindet sie\, geht über sie hinaus. Damit liefert Hennings Werk\, das weltweit in Museen und renommierten Sammlungen vertreten ist\, eine hervorragende Grundlage für Reflexionen und Diskussionen darüber\, was die Moderne war und was sie vielleicht noch immer ist. \nDER ANTONYME SALON © Arthur Henning\nEs gelten die jeweils gültigen Senatsbeschlüsse zu COVID-19. In den Räumlichkeiten liegt ein aktuelles Hygienekonzept aus. \nHinweis zur Barrierefreiheit: Ein Fahrstuhl ist vorhanden\, im Eingangsbereich sind jedoch einige Stufen. \nBeitragsbild: Der Antonyme Salon\, Foto © Arthur Henning \nAnton Henning: Unverkäuflich anmutige Antiphrasen\nGallery Weekend nach Vereinbarung für Samstagnachmittag\, 30. April\, sowie Sonntag tagsüber\, 1. Mai \nDER ANTONYME SALON \n
URL:https://www.kunstleben-berlin.de/event/der-antonyme-salon-no-1-anton-henning-unverkaeuflich-anmutige-antiphrasen/
LOCATION:DER ANTONYME SALON\, Giesebrechtstraße 5\, Berlin\, 10625\, Deutschland
CATEGORIES:Ausstellung,Begleitprogramm zur Ausstellung
ATTACH;FMTTYPE=image/jpeg:https://www.kunstleben-berlin.de/wp-content/uploads/2022/04/PM_Eroeffnungswochenende_Der_Antonyme_Salon_Berlin-1.jpg
GEO:52.5200066;13.404954
X-APPLE-STRUCTURED-LOCATION;VALUE=URI;X-ADDRESS=DER ANTONYME SALON Giesebrechtstraße 5 Berlin 10625 Deutschland;X-APPLE-RADIUS=500;X-TITLE=Giesebrechtstraße 5:geo:13.404954,52.5200066
END:VEVENT
END:VCALENDAR