BEGIN:VCALENDAR
VERSION:2.0
PRODID:-//Kunstleben Berlin - das Kunstmagazin - ECPv4.9.13//NONSGML v1.0//EN
CALSCALE:GREGORIAN
METHOD:PUBLISH
X-WR-CALNAME:Kunstleben Berlin - das Kunstmagazin
X-ORIGINAL-URL:https://www.kunstleben-berlin.de
X-WR-CALDESC:Veranstaltungen im Kunstleben Berlin - das Kunstmagazin
BEGIN:VTIMEZONE
TZID:Europe/Berlin
BEGIN:DAYLIGHT
TZOFFSETFROM:+0100
TZOFFSETTO:+0200
TZNAME:CEST
DTSTART:20170326T010000
END:DAYLIGHT
BEGIN:STANDARD
TZOFFSETFROM:+0200
TZOFFSETTO:+0100
TZNAME:CET
DTSTART:20171029T010000
END:STANDARD
END:VTIMEZONE
BEGIN:VEVENT
DTSTART;TZID=Europe/Berlin:20170707T080000
DTEND;TZID=Europe/Berlin:20171003T170000
DTSTAMP:20260423T202714
CREATED:20170709T050043Z
LAST-MODIFIED:20230810T053848Z
UID:69413-1499414400-1507050000@www.kunstleben-berlin.de
SUMMARY:Deutsche Bank KunstHalle zeigt Schau des Künstlers und Landschaftsarchitekten Roberto Burle Marx
DESCRIPTION:Die Deutsche Bank KunstHalle zeigt in Zusammenarbeit mit The Jewish Museum in New York vom 7. Juli bis 3.Oktober 2017 die erste große Überblicksschau des brasilianischen Künstlers und Landschaftsarchitekten Roberto Burle Marx in Deutschland: Roberto Burle Marx: Tropische Moderne. \n \nIn seinem Heimatland Brasilien wird Roberto Burle Marx (1909-1994) zusammen mit den Architekten Oscar Niemeyer und Lúcio Costa als Wegbereiter der Moderne verehrt. Seine Gartenentwürfe für die Hauptstadt Brasilia und vor allem seine Arbeiten in Rio de Janeiro haben das Gesicht dieser Metropolen nachhaltig geprägt. Die revolutionäre Landschaftsarchitektur von Burle Marx\, die sich an abstrakter Malerei orientiert\, genießt bis heute internationales Ansehen. \nWährend seiner mehr als 60-jährigen Karriere gestaltete er international über 2.000 Gärten. Zu seinen bekanntesten Entwürfen gehören in Rio de Janeiro der Dachgärten des von Niemeyer\, Costa und Le Corbusier erbauten Erziehungs- und Gesundheitsministeriums (1938)\, der Parque do Flamengo (1961) und die wellenförmige Pflasterung der Avenida Atlântica (1970) an der Copacabana. \nRoberto Burle Marx\, Woman in a Pink Slip\, 1933\, oil on canvas\, 39 æ x 28 in. (101 x 71.1 cm). SÌtio Roberto Burle Marx\, Rio de Janeiro.\n  \nDie Schau Roberto Burle Marx: Tropische Moderne\, die 2016 ihre Premiere im Jewish Museum in New York feierte\, zeigt in Deutschland erstmals die ganze Bandbreite seines Schaffens\, in dem es keine Grenzen zwischen unterschiedlichen Medien und Disziplinen gibt. Burle Marx war nicht nur Landschaftsarchitekt\, sondern auch Maler\, Bildhauer\, Bühnenbildner\, Designer\, Umweltaktivist. \nSein universelles Denken inspiriert bis heute die nachfolgenden Generationen. So treten seine Werke in unterschiedlichen Ausstellungssektionen mit Arbeiten internationaler Gegenwartskünstler in Dialog: Juan Araujo\, Paloma Bosquê\, Dominique Gonzalez-Foerster\, Veronika Kellndorfer\, Luisa Lambri\, Arto Lindsay\, Nick Mauss und Beatriz Milhazes. \nDie von Jens Hoffmann\, Director of Special Exhibitions and Public Programs\, und Claudia J. Nahson\, Morris and Eva Feld Curator (beide The Jewish Museum\, New York)\, kuratierte Ausstellung verdeutlicht den tiefen Humanismus und Spiritualität\, die Burle Marx’ abstrakter Kunst zugrunde liegt – den Gedanken eines modernen Garten Edens\, der ihn zeitlebens antrieb. \nDie Ausstellung wurde vom The Jewish Museum\, New York\, organisiert und durch die Deutsche Bank\, The Emanuel and Riane Gruss Charitable Foundation sowie andere großzügige Unterstützer in Teilen ermöglicht. \nBeitragsbild: Roberto Burle Marx\, Dachgarten\, Banco Safra Hauptsitz\, Sao Paolo\, 1983\, Foto © Leonardo Finotti \nRoberto Burle Marx: Tropische Moderne\n7.7.-3.10-2017 \nDeutsche Bank KunstHalle\nUnter den Linden 13/15\n10117 Berlin \n
URL:https://www.kunstleben-berlin.de/event/deutsche-bank-kunsthalle-zeigt-schau-des-kuenstlers-und-landschaftsarchitekten-roberto-burle-marx/
LOCATION:Deutsche Bank KunstHalle\, Unter den Linden 13-15\, Berlin\, 10117
CATEGORIES:Ausstellung
ATTACH;FMTTYPE=image/jpeg:https://www.kunstleben-berlin.de/wp-content/uploads/2017/07/Roberto-Burle-Marx-Dachgarten-Banco-Safra-Hauptsitz-Sao-Paolo-1983-Foto-©-Leonardo-Finotti.jpg
GEO:52.5167735;13.3916479
X-APPLE-STRUCTURED-LOCATION;VALUE=URI;X-ADDRESS=Deutsche Bank KunstHalle Unter den Linden 13-15 Berlin 10117;X-APPLE-RADIUS=500;X-TITLE=Unter den Linden 13-15:geo:13.3916479,52.5167735
END:VEVENT
END:VCALENDAR