BEGIN:VCALENDAR
VERSION:2.0
PRODID:-//Kunstleben Berlin - das Kunstmagazin - ECPv4.9.13//NONSGML v1.0//EN
CALSCALE:GREGORIAN
METHOD:PUBLISH
X-WR-CALNAME:Kunstleben Berlin - das Kunstmagazin
X-ORIGINAL-URL:https://www.kunstleben-berlin.de
X-WR-CALDESC:Veranstaltungen im Kunstleben Berlin - das Kunstmagazin
BEGIN:VTIMEZONE
TZID:Europe/Berlin
BEGIN:DAYLIGHT
TZOFFSETFROM:+0100
TZOFFSETTO:+0200
TZNAME:CEST
DTSTART:20190331T010000
END:DAYLIGHT
BEGIN:STANDARD
TZOFFSETFROM:+0200
TZOFFSETTO:+0100
TZNAME:CET
DTSTART:20191027T010000
END:STANDARD
END:VTIMEZONE
BEGIN:VEVENT
DTSTART;VALUE=DATE:20191101
DTEND;VALUE=DATE:20191103
DTSTAMP:20260423T091751
CREATED:20191024T093600Z
LAST-MODIFIED:20260313T102211Z
UID:80359-1572566400-1572670799@www.kunstleben-berlin.de
SUMMARY:"Die Mysterien von Pompeji"  TransferKunst und Fotografien von Susanne Rikus
DESCRIPTION:Wir laden Sie herzlich ein zur Eröffnung \n„Die Mysterien von Pompeji“ \nTransferKunst und Fotografien von Susanne Rikus \nFreitag\,   1.11.2019\, ab 18 Uhr (open end)\nSamstag\, 2.11.2019\, ab 18 Uhr (open end) \nLiebe Freundinnen und Freund der Kunst\, \nMit ihrer Ausstellung „Mysterien von Pompeji“ möchte die Künstlerin Susanne Rikus Brücken schlagen von unseren alten Wissen um Bewusstsein und Seele und der heutigen Zeit. \nIm März folgte Susanne Rikus der Einladung nach Neapel\, Paestum und Pompeji.\nEine psychoanalytische Gruppe fuhr extra nach Pompeji um sich das Bild über die Mysterien anzuschauen.\nAls der Vesuv im Jahr 79 n. Chr. ausbrach begrub er die italienische Stadt unter einer meterhohen Schicht aus Asche und Gestein. Die Existenz von Pompeji geriet in Vergessenheit. Erst 1600 Jahre später wurden die Ruinen zufällig entdeckt.\nDas Wesen der Dinge zeigt sich in der Kunst\, so auch der Orakelplatz Pompeji.\nMysterien drücken sich nicht in Scheinwerferlicht aus\, sondern zeigen sich in dem Innehalten\, dem Horchen\, dem Spüren-Einer Innenforschung.\nDie Bilder zeigen Ausschnitte des Reiterbildes von Pompeji\, durch die arbeiten von Susanne Rikus interpretiert sie die Zeit und das Mysterien neu\, möchte zum Diskurs einladen…einladen sich mit der Kultur des Inneren zu beschäftigen…ein Gegenpol zu der extrovertierten Selbstdarstellung unserer moderne Zeit. \nDie Künstlerin und Architektin besuchte alte Tempel in Hawaii & Sardinien.\nIn ihrer Ausstellung zeigt sie ausdrucksstarke kraftvolle Fotografien\, in der sich die Architektur und Lichtwirkung antiker Tempel im Dialog mit wilder Schöpfung befindet.\nMit den spirituell-künstlerischen Fotografien will Rikus unsere Kraftmöglichkeiten zur Schaffung eines wahrhaften Lebens betonen.\nDas ursprüngliche Wissen von antiken Architekten trifft auf unsere moderne Gesellschaft und zeigt uns\, wie wir den Alltag in unserer hektischen Gesellschaft durch archetypisches Wissen entschleunigen und bereichern können. \nAuch die eindrucksvollen Malereien der Künstlerin beschäftigen sich mit diesem Thema.\nExpressive\, dynamische aber zugleich auch filigrane Linienführung spiegelt die Bewegung und dem Schwung unseres Lebens. „Eine Linie ist wie Musik\, ein Puls-Impuls\, ein Echo oder Auftakt zum Leben“\, sagt Susanne Rikus. \nAuf 110 Quadratmeter sind Akryl-Gemälde & Transfer-Kunst (auf Glas & Leinwand & Baumwolle) zu sehen und zu erforschen!\nIm Nebenraum gibt es zusätzlich noch weitere Bilder zu sehen\, Aquarelle aus Hawaii\, Kanada\, Italien\, Schottland…weiter auch Akrylbilder aus ihren letzten Ausstellungen. \nDie Art Gallery Susanne Rikus in den Heckmann-Höfen\, Berlin-Mitte wird im November – Dezember einen Dialog zwischen Zeitgeist der Schnelligkeit und Innehalten einleiten. \nLernen Sie bei der Ausstellungseröffnung während mehrerer Live-Performances den Zauber von hawaiianischen Gesängen und Klängen kennen… verbunden auch noch mit einem Spiel auf der „Hang“\, diesem einzigartigen Musik-Instrument… \n„Art Gallery Susanne Rikus“ \nSusanne Rikus arbeitet seit 1994 als freischaffende Künstlerin und bekam im selben Jahr den Kulturpreis für Malerei des Kreises Höxter. \nBekannt wurde sie vor allem durch ihre auf Reisen entstandenen künstlerischen Studien. \nSusanne Rikus lebte und arbeitete in Europa\, Kanada und Hawaii. \nDie internationale Künstlerin zeigte ihre Werke in Ausstellungen in Europa\, Peru und den USA. \nKraft-Orte und Spiritualität spielen in ihrer Kunst eine wichtige Rolle. \nAuch arbeitet sie kreativ mit Lichteffekten und verschiedenen Malerei-Techniken und Schichten\, sowohl künstlerisch als auch auf das Bewusstsein bezogen. \n„Die Bilder der Kulturpreisträgerin Susanne Rikus sprechen ihr Publikum auf eine ganz besondere Weise unmittelbar an. \nEs ist die Kraft einer authentischen und von Weisheit gespeisten\, transformierenden Malerei\, die eine derartige Wirkung erzeugt. \nAls Gegenpol zur allgemeinen Hektik des Alltags schaffen die ausdrucksstarken Arbeiten sofort eine belebende und zugleich beruhigende\, verbindende\, zentrierende und entschleunigende Atmosphäre im Raum. \nDarin können die Betrachter rasch zu sich selbst und in ein Spüren kommen\, das die Botschaft der Bilder entfaltet und sie in den tiefen Schichten des Bewusstseins verstehen lässt.“ \n(Dr. Ingrid Gardill\, Kunsthistorikerin) \nSusanne Rikus über ihre Kunst: \nInterview (2 Minuten): https://youtu.be/Y55DTsX65Hw\nInterview (7 Minuten): https://youtu.be/5fdsyI3timg\nInterview (in English): https://youtu.be/WvzeJPsm2yU\nInterview (in English\, Hong Kong):https://youtu.be/6wnht_dg8C8 \nVon 2014 bis 2016 hatte die Künstlerin in den Heckmann Höfen in Berlin-Mitte ihre eigene Galerie\, zu der tausende Besucher kamen. \nJetzt gibt es ein Wiedersehen: Die Art Gallery Susanne Rikus ist seit Beginn des Jahres wieder fester Bestandteil der berühmten Heckmann Höfe! \nDie Künstlerin zeigt ihre Werke dort erneut in einer eigenen Galerie. \nDieses Mal in dem ehemaligen „Fotostudio“ (gegenüber der „Bonbonmacherei“). \nIn der Galerie werden regelmäßige Ausstellungen\, Kunst-Events und Talks stattfinden. \nWir freuen uns auf Sie! \n
URL:https://www.kunstleben-berlin.de/event/die-mysterien-von-pompeji-transferkunst-und-fotografien-von-susanne-rikus/
LOCATION:Art Gallery Susanne Rikus in den Heckmann Höfen\, Oranienburger Str. 32\, Berlin\, 10117\, Deutschland
CATEGORIES:Begleitprogramm zur Ausstellung
ATTACH;FMTTYPE=image/jpeg:https://www.kunstleben-berlin.de/wp-content/uploads/2019/10/Mysterien-2.1-x1m--scaled.jpg
GEO:52.5255845;13.393975
X-APPLE-STRUCTURED-LOCATION;VALUE=URI;X-ADDRESS=Art Gallery Susanne Rikus in den Heckmann Höfen Oranienburger Str. 32 Berlin 10117 Deutschland;X-APPLE-RADIUS=500;X-TITLE=Oranienburger Str. 32:geo:13.393975,52.5255845
END:VEVENT
END:VCALENDAR