BEGIN:VCALENDAR
VERSION:2.0
PRODID:-//Kunstleben Berlin - das Kunstmagazin - ECPv4.9.13//NONSGML v1.0//EN
CALSCALE:GREGORIAN
METHOD:PUBLISH
X-WR-CALNAME:Kunstleben Berlin - das Kunstmagazin
X-ORIGINAL-URL:https://www.kunstleben-berlin.de
X-WR-CALDESC:Veranstaltungen im Kunstleben Berlin - das Kunstmagazin
BEGIN:VTIMEZONE
TZID:Europe/Berlin
BEGIN:DAYLIGHT
TZOFFSETFROM:+0100
TZOFFSETTO:+0200
TZNAME:CEST
DTSTART:20170326T010000
END:DAYLIGHT
BEGIN:STANDARD
TZOFFSETFROM:+0200
TZOFFSETTO:+0100
TZNAME:CET
DTSTART:20171029T010000
END:STANDARD
END:VTIMEZONE
BEGIN:VEVENT
DTSTART;VALUE=DATE:20170914
DTEND;VALUE=DATE:20171027
DTSTAMP:20260423T200420
CREATED:20170829T152300Z
LAST-MODIFIED:20260313T101722Z
UID:70691-1505347200-1508993999@www.kunstleben-berlin.de
SUMMARY:DIE STADT ALS BÜHNE
DESCRIPTION:DIE STADT ALS BÜHNE\nAusgangspunkt \nIn der europäischen Stadt ist der öffentliche Raum der Ort\, an dem sich ein vielfältiges gesellschaftliches Leben abspielt: Er ist Treffpunkt und Erholungsfläche\, bietet zahlreiche Möglichkeiten für Fortbewegung\, Unterhaltung und Konsum. Die öffentlichen Plätze\, Straßen und Parks sind Bühnen des urbanen Lebens und Ausdruck von gesellschaftlichen Entwicklungen. \nSeit den 1980er Jahren hat sich der öffentliche Raum wesentlich verändert: Er wird zunehmend privatisiert\, kommerzialisiert und aus Sicherheitsaspekten überwacht. Die Folge ist\, dass die öffentlichen Räume zugunsten halbprivater und privater Räume verschwinden. Der Umgang mit Kunst hat sich ebenfalls gewandelt: Kunst wird immer stärker für das Corporate Image eines Unternehmens\, die Marketingstrategien einer Stadt und zur Profilierung einzelner Investoren instrumentalisiert. \nAls Reaktion auf diese Tendenzen hat sich eine Gegenbewegung formiert: Es gibt ein wachsendes Interesse vieler Bürger am öffentlichen Raum und der Stadt als Handlungsraum. Die Rückeroberung des öffentlichen Raumes durch die Bürger hat zu neuen Formen des Öffentlichen geführt\, wie beispielsweise DIY-Urbanismus\, Guerilla Gardening\, Outdoor Clubbing und Parcouring. Bei dieser Entwicklung handelt es sich\, laut Hanno Rauterberg\, um eine Kehrtwende in der Geschichte der urbanen Kultur. \nIm Kontext dieses Wandels stellt sich die Frage\, welche Rolle gegenwärtig die bildende Kunst im öffentlichen Raum spielt und welche Relevanz sie besitzt. Wie greifen Künstler in die Stadt und das urbane Leben ein? Welche künstlerischen Strategien der Aneignung von urbanem Raum gibt es? Welche Aspekte des urbanen Kontextes sind für Künstler interessant? Wie lassen sich Denkanstöße geben\, Wahrnehmungsparameter verändern oder Denk- und Handlungsmuster durchbrechen? Was kann Kunst im 21. Jahrhundert im öffentlichen Raum noch bewirken? \nDiese Fragen sind Anlass für das O&O Depot\, sich in einer Trilogie aus Ausstellung\, Diskussion und Performance mit dem Thema „Die Stadt als Bühne“ zu befassen. \nDr. Anne Schloen \nPROGRAMM\nDie Stadt als Bühne\nTrilogie \nDiskussion\nFreitag\, 15. September | 2017\n20.00 Uhr\nDie Stadt als Bühne\nin Kooperation mit KAP Forum\,\nArchitecture & Urban Development\, Köln\nProf. Friedrich von Borries\n(Architekt\, HFBK Hamburg) \nProf. Andreas Denk (Architekturtheoretiker\, TH Köln)\nAndreas Grosz (Leiter KAP Forum)\nChristian Heuchel (Architekt\, Gesellschafter O&O Baukunst)\nIsa Melsheimer (Künstlerin) \nPerformance\nFreitag\, 15. September | 2017\n21.00 uhr\nSculptress of Sound\nRodeo on the White (35 min)\nEine auditiv-performative Rauminstallation von Sculptress of Sound (Julia Bünnagel\, Tamara Lorenz\, Patricia Köllges). \nAusstellung\nSamstag\, 16. September | 2017\n19.00 uhr\nBeate Gütschow\, Serie S\nEröffnung der Ausstellung von Beate Gütschow\nEinführung: Dr. Anne Schloen (Kuratorin) \nZur Ausstellung erscheint ein Katalog mit der gesamten Dokumentation der Ausstellung\, des Konzerts und des Depogesprächs. \nAusstellung: 14. September bis 26. Oktober \n
URL:https://www.kunstleben-berlin.de/event/die-stadt-als-buehne/
LOCATION:O&O Depot\, Leibnizstraße 60\, Berlin\, 10629\, Deutschland
CATEGORIES:Begleitprogramm zur Ausstellung
ATTACH;FMTTYPE=image/jpeg:https://www.kunstleben-berlin.de/wp-content/uploads/2017/08/S26_2008kl_148x340-cm_©_VG_Bildkunst.jpg
GEO:52.50308;13.31276
X-APPLE-STRUCTURED-LOCATION;VALUE=URI;X-ADDRESS=O&O Depot Leibnizstraße 60 Berlin 10629 Deutschland;X-APPLE-RADIUS=500;X-TITLE=Leibnizstraße 60:geo:13.31276,52.50308
END:VEVENT
END:VCALENDAR