BEGIN:VCALENDAR
VERSION:2.0
PRODID:-//Kunstleben Berlin - das Kunstmagazin - ECPv4.9.13//NONSGML v1.0//EN
CALSCALE:GREGORIAN
METHOD:PUBLISH
X-WR-CALNAME:Kunstleben Berlin - das Kunstmagazin
X-ORIGINAL-URL:https://www.kunstleben-berlin.de
X-WR-CALDESC:Veranstaltungen im Kunstleben Berlin - das Kunstmagazin
BEGIN:VTIMEZONE
TZID:Europe/Berlin
BEGIN:DAYLIGHT
TZOFFSETFROM:+0100
TZOFFSETTO:+0200
TZNAME:CEST
DTSTART:20220327T010000
END:DAYLIGHT
BEGIN:STANDARD
TZOFFSETFROM:+0200
TZOFFSETTO:+0100
TZNAME:CET
DTSTART:20221030T010000
END:STANDARD
END:VTIMEZONE
BEGIN:VEVENT
DTSTART;VALUE=DATE:20220429
DTEND;VALUE=DATE:20220502
DTSTAMP:20260423T151345
CREATED:20220424T220424Z
LAST-MODIFIED:20221116T084303Z
UID:91769-1651190400-1651449599@www.kunstleben-berlin.de
SUMMARY:DIONISIO GONZÁLEZ – Wittgenstein's Cabin
DESCRIPTION:Der spanische Künstler Dionisio González ist ein Meister der phantasievollen Architekturvisualisierung. Er entwirft Strukturen\, die ein wenig zu wild und phantasievoll sind\, um real zu sein. Jetzt stellt er sich retro-futuristische Amphibienhäuser aus Metall vor\, die auf künstlichen Inseln vor der Kulisse malerischer norwegischer Fjorde stehen. \nDie Serie „Wittgensteins Cabin“ ist inspiriert von der abgelegenen Hütte des österreichisch-britischen Philosophen Ludwig Wittgenstein aus dem Jahr 1914. Die am Steilufer des Eidsvatnet-Sees in Skjolden\, Norwegen\, errichtete Hütte lag abgeschieden und diente Wittgenstein als ablenkungsfreier Zufluchtsort\, an dem er bedeutende Werke schrieb. \n„Wittgenstein arbeitete an seinen Studien der Logik auf einem Boot\, das sein Freund David Pinsent im Sognefjord fuhr“\, erzählt González. „Diese Tatsache\, dieses ‚Ereignis‘ der Forschung\, des Lernens und Entsinnens auf einem kleinen aquatischen Transportmittel\, das als Schreibtisch dient\, ließ mich über die Beziehung zwischen Architektur und Wasser und über die Philosophie als ‚amphibisches‘ Unterfangen nachdenken. Wie würde Wittgenstein dieses organische Gebäude\, diese architektonische Konstruktion in einem flüssigen Medium mit den heutigen Medien in Beziehung setzen? Wie sähen zeitgenössische Kabinen in den norwegischen Fjorden wohl aus?“ \nGonzález überträgt diese Qualitäten auf zeitgenössische Gebäude\, indem er ihnen einen amphibischen Charakter verleiht\, der mit dem Wasser\, das sie umgibt\, zusammenarbeitet. Jeder Entwurf ist ein eigenes\, seltsames Refugium\, das schwer zugänglich ist\, aber den BewohnerÏnnen eine Art Einsiedelei bietet\, von der die meisten von uns nur träumen können. Wenn das Wasser um sie herum steigt\, werden Teile dieser Gebäude überflutet\, bleiben jedoch funktionsfähig. Einige sehen aus wie Raumschiffe\, andere wie avantgardistische Architekturexperimente aus den 1960er Jahren. \nDIONISIO GONZÁLEZ – Wittgenstein’s Cabin\nGonzález begann 2020 mit dieser Werkgruppe\, als die Besorgnis über die globale Pandemie viele von uns dazu veranlasste\, darüber nachzudenken\, wie wir uns in der Isolation fühlen: sicher oder verzweifelt und einsam? Der Wunsch\, an einem abgelegenen Ort zu leben\, steht oft im Widerspruch zu unserem Bedürfnis nach Zugang zu Ressourcen\, Dienstleistungen\, Mitmenschen sowie zu Umweltbelangen. Die fremdartigen Gebäude in der unberührten Fjordlandschaft erzeugen ein Gefühl der Spannung\, das im Gegensatz zur Bescheidenheit von Wittgensteins kleiner Holzhütte steht. \nDer in Sevilla (Spanien) lebende Künstler reist um die Welt\, um Gebäude zu fotografieren\, die er später durch Illustration und digitales Design verändert und verschönert. Er konzentriert sich darauf\, Wohnräume für Gebiete zu entwerfen\, die oft übersehen werden\, wie Slums\, Favelas und Gebiete\, die von Naturkatastrophen heimgesucht werden. Sein Ziel ist es\, anregende\, kreative Lösungen zu entwickeln\, die einen positiven sozialen Nutzen haben. Die Ergebnisse sind vielleicht nicht besonders realistisch\, was die tatsächliche Konstruktion angeht\, aber sie verleihen diesen Räumen Würde und Ernsthaftigkeit. González‘ Entwürfe sind skurril und skulptural und erinnern uns daran\, dass es auch angesichts des Klimawandels Spaß machen kann\, die Welt bewohnbarer zu machen. \n– S. A. Rogers \nDIONISIO GONZÁLEZ – Wittgenstein’s Cabin\n29. April 2022 – 1. Mai 2022 \nTaubert Contemporary \n
URL:https://www.kunstleben-berlin.de/event/dionisio-gonzalez-wittgensteins-cabin/
LOCATION:Taubert Contemporary\, Knesebeckstr. 90\, Berlin\, 10623\, Deutschland
CATEGORIES:Ausstellung
ATTACH;FMTTYPE=image/jpeg:https://www.kunstleben-berlin.de/wp-content/uploads/2022/04/b4e5055b5cddac9f6c0be9202aa2b6b9a996605b.jpeg
GEO:52.5062407;13.3979809
X-APPLE-STRUCTURED-LOCATION;VALUE=URI;X-ADDRESS=Taubert Contemporary Knesebeckstr. 90 Berlin 10623 Deutschland;X-APPLE-RADIUS=500;X-TITLE=Knesebeckstr. 90:geo:13.3979809,52.5062407
END:VEVENT
END:VCALENDAR