BEGIN:VCALENDAR
VERSION:2.0
PRODID:-//Kunstleben Berlin - das Kunstmagazin - ECPv4.9.13//NONSGML v1.0//EN
CALSCALE:GREGORIAN
METHOD:PUBLISH
X-WR-CALNAME:Kunstleben Berlin - das Kunstmagazin
X-ORIGINAL-URL:https://www.kunstleben-berlin.de
X-WR-CALDESC:Veranstaltungen im Kunstleben Berlin - das Kunstmagazin
BEGIN:VTIMEZONE
TZID:Europe/Berlin
BEGIN:DAYLIGHT
TZOFFSETFROM:+0100
TZOFFSETTO:+0200
TZNAME:CEST
DTSTART:20260329T010000
END:DAYLIGHT
BEGIN:STANDARD
TZOFFSETFROM:+0200
TZOFFSETTO:+0100
TZNAME:CET
DTSTART:20261025T010000
END:STANDARD
END:VTIMEZONE
BEGIN:VEVENT
DTSTART;VALUE=DATE:20260217
DTEND;VALUE=DATE:20260222
DTSTAMP:20260423T111248
CREATED:20260218T190527Z
LAST-MODIFIED:20260219T072449Z
UID:115057-1771286400-1771718399@www.kunstleben-berlin.de
SUMMARY:ENDLESS EATING TIME
DESCRIPTION:About\nThe installation invites a bodily\, durational form of looking\, in which the visitor’s pacing\, hesitation\, and reorientation become part of the exhibition’s rhythm. Kim’s imagery often carries a surreal charge\, in which everyday scale and spatial logic feel slightly displaced. \nDates and opening hours \nExhibition on view: February 17–21\, 2026\, 2–7 PM\nSoft Opening: February 17\, 2026\, 2–7 PM\nParticipatory performance: Saturday\, February 21\, 2026\, 6–9 PM\nAdmission: Free entry \nAbout the artist \nSeehyun Kim (b. 1991\, Seoul\, South Korea) is a Seoul-based visual artist working across installation\, painting\, performance\, and moving image. Her work is informed by an early engagement with theatre-making and by several years of professional experience in an art furniture studio\, bringing an acute attention to staging\, material presence\, and how people move through settings. \n
URL:https://www.kunstleben-berlin.de/event/endless-eating-time/
LOCATION:SomoS Arts\, Kottbusser Damm 95\, Berlin\, 10967\, Deutschland
CATEGORIES:Ausstellung
ATTACH;FMTTYPE=image/jpeg:https://www.kunstleben-berlin.de/wp-content/uploads/2026/02/633433816_1502178121371495_2424756666885325764_n.jpg
GEO:52.4939763;13.4219284
X-APPLE-STRUCTURED-LOCATION;VALUE=URI;X-ADDRESS=SomoS Arts Kottbusser Damm 95 Berlin 10967 Deutschland;X-APPLE-RADIUS=500;X-TITLE=Kottbusser Damm 95:geo:13.4219284,52.4939763
END:VEVENT
END:VCALENDAR