BEGIN:VCALENDAR
VERSION:2.0
PRODID:-//Kunstleben Berlin - das Kunstmagazin - ECPv4.9.13//NONSGML v1.0//EN
CALSCALE:GREGORIAN
METHOD:PUBLISH
X-WR-CALNAME:Kunstleben Berlin - das Kunstmagazin
X-ORIGINAL-URL:https://www.kunstleben-berlin.de
X-WR-CALDESC:Veranstaltungen im Kunstleben Berlin - das Kunstmagazin
BEGIN:VTIMEZONE
TZID:Europe/Berlin
BEGIN:DAYLIGHT
TZOFFSETFROM:+0100
TZOFFSETTO:+0200
TZNAME:CEST
DTSTART:20180325T010000
END:DAYLIGHT
BEGIN:STANDARD
TZOFFSETFROM:+0200
TZOFFSETTO:+0100
TZNAME:CET
DTSTART:20181028T010000
END:STANDARD
END:VTIMEZONE
BEGIN:VEVENT
DTSTART;VALUE=DATE:20180921
DTEND;VALUE=DATE:20181125
DTSTAMP:20260423T165100
CREATED:20180921T010000Z
LAST-MODIFIED:20230724T124253Z
UID:73805-1537488000-1543035599@www.kunstleben-berlin.de
SUMMARY:Flower Power bei CIRCLE1 - Plattform für Art & Culture
DESCRIPTION:“Flower Power” is a slogan that has become identified with the 1960s as a symbol of passive resistance and nonviolence ideology. It is rooted in the opposition movement to the Vietnam War led by the hippies in the US\, which spread to the rest of the world\, and stands for the idea that flowers and love can be effective in the struggle against violence and war\, the fight for peace\, openness\, equality\, free love\, and brotherhood of all men. \nIts symbols were clothing adorned by flowers in bright colors\, long hair\, psychedelic art and music\, permissive attitudes toward sex\, and use of drugs like cannabis and LSD.\nThe exhibition wishes to borrow the expression\, and use its two parts – flower and power – to present the seductive power of relevant and critical artworks that embody both poles. \n
URL:https://www.kunstleben-berlin.de/event/flower-power-exhibition-opening/
LOCATION:CIRCLE1 – Platform for Art & Culture\, Hauptstraße 101\, Berlin\, 10827\, Deutschland
CATEGORIES:Vernissage
GEO:52.4796359;13.3458442
X-APPLE-STRUCTURED-LOCATION;VALUE=URI;X-ADDRESS=CIRCLE1 – Platform for Art & Culture Hauptstraße 101 Berlin 10827 Deutschland;X-APPLE-RADIUS=500;X-TITLE=Hauptstraße 101:geo:13.3458442,52.4796359
END:VEVENT
END:VCALENDAR