BEGIN:VCALENDAR
VERSION:2.0
PRODID:-//Kunstleben Berlin - das Kunstmagazin - ECPv4.9.13//NONSGML v1.0//EN
CALSCALE:GREGORIAN
METHOD:PUBLISH
X-WR-CALNAME:Kunstleben Berlin - das Kunstmagazin
X-ORIGINAL-URL:https://www.kunstleben-berlin.de
X-WR-CALDESC:Veranstaltungen im Kunstleben Berlin - das Kunstmagazin
BEGIN:VTIMEZONE
TZID:Europe/Berlin
BEGIN:DAYLIGHT
TZOFFSETFROM:+0100
TZOFFSETTO:+0200
TZNAME:CEST
DTSTART:20200329T010000
END:DAYLIGHT
BEGIN:STANDARD
TZOFFSETFROM:+0200
TZOFFSETTO:+0100
TZNAME:CET
DTSTART:20201025T010000
END:STANDARD
END:VTIMEZONE
BEGIN:VEVENT
DTSTART;VALUE=DATE:20201023
DTEND;VALUE=DATE:20201214
DTSTAMP:20260424T002004
CREATED:20201014T212113Z
LAST-MODIFIED:20221212T113558Z
UID:84726-1603411200-1607835599@www.kunstleben-berlin.de
SUMMARY:"Form und Farbe" Galerie Sievi Vernissage: 23. Oktober 2020
DESCRIPTION:„Form und Farbe“ – Die Ausstellung eröffnet am 23. Oktober 2020 um 19 Uhr und zeigt Arbeiten von Norman Gebauer\, Adrian Buba und Natarajaa. Dauer von „Form und Farbe“: 23. Oktober – 12. Dezember 2020. \nNorman Gebauer\nDie Gestalt- und Denkfigur der Inversion ist Gebauers Modell\, wenn es darum geht\, das Verhältnis von Körper und Raum\, Fülle und Leere\, Materie und Geist\, die er als ambivalente Pole des Daseins erlebt\, anschaulich zu machen. \nAdrian Buba\nDas Experimentieren mit einer Form der Malerei\, die vom tiefen Sog das Raumes bestimmt wird und der Geschwindigkeit unserer Zeit standhält lautet das Thema des gebürtigen Rumänen. Seine abstrakte Malerei lässt Formen zerbersten und in ruhigen blau- oder aggressiv rottonigen Leinwänden geballten Explosionen anwachsen. \nNatarajaa\nEs handelt sich um Bilder\, die nach dem Licht in der Dunkelheit\, dem Moment der Offenbarung\, der erlösenden Eingebung des Lichts suchen. Das Schwarze der Bilder ist nie absolut undurchlässig\, es zeigt sich in mehr oder weniger kontrollierten Strukturen; geometrisch\, geordnet\, durchsichtig und letztlich überflutet mit einem Licht\, welches die Ebenen formt und die Zeichnungen bildet. \nSeit mehr als 20 Jahren stellt Galerie Sievi immer neue Beziehungen zwischen Gegenwartskunst\, internationaler Gesellschaft und kritischer Öffentlichkeit her. Der Schwerpunkt der Galeriearbeit ist es\, den Brückenschlag Berlin – Frankreich weiterzuführen. Es wird Grafik\, Malerei\, Zeichnung\, Skulpturen von der figürlichen Abstraktion bis Informel präsentiert. \nÖffnungszeiten:\nMi.- Do.- Fr. 14-19 Uhr\, Sa. 11-16 Uhr\nTelefonisch erreicht ihr Frau Sievi per 030-693 29 97\, ansonsten info@galerie-sievi.de.\nDie Webpräsenz der Galerie findet ihr auf www.galerie-sievi.de. \nBild: Norman Gebauer „Am Scheideweg“\, 60 x 40 cm. \n
URL:https://www.kunstleben-berlin.de/event/form-und-farbe-galerie-sievi/
LOCATION:Galerie Sievi\, Gneisenaustrasse 112\, Berlin\, 10961\, Deutschland
CATEGORIES:Ausstellung
ATTACH;FMTTYPE=image/jpeg:https://www.kunstleben-berlin.de/wp-content/uploads/2020/10/Form-und-Farbe-Galerie-Sievi.jpg
GEO:52.4929399;13.3892226
X-APPLE-STRUCTURED-LOCATION;VALUE=URI;X-ADDRESS=Galerie Sievi Gneisenaustrasse 112 Berlin 10961 Deutschland;X-APPLE-RADIUS=500;X-TITLE=Gneisenaustrasse 112:geo:13.3892226,52.4929399
END:VEVENT
END:VCALENDAR