BEGIN:VCALENDAR
VERSION:2.0
PRODID:-//Kunstleben Berlin - das Kunstmagazin - ECPv4.9.13//NONSGML v1.0//EN
CALSCALE:GREGORIAN
METHOD:PUBLISH
X-WR-CALNAME:Kunstleben Berlin - das Kunstmagazin
X-ORIGINAL-URL:https://www.kunstleben-berlin.de
X-WR-CALDESC:Veranstaltungen im Kunstleben Berlin - das Kunstmagazin
BEGIN:VTIMEZONE
TZID:Europe/Berlin
BEGIN:DAYLIGHT
TZOFFSETFROM:+0100
TZOFFSETTO:+0200
TZNAME:CEST
DTSTART:20240331T010000
END:DAYLIGHT
BEGIN:STANDARD
TZOFFSETFROM:+0200
TZOFFSETTO:+0100
TZNAME:CET
DTSTART:20241027T010000
END:STANDARD
BEGIN:DAYLIGHT
TZOFFSETFROM:+0100
TZOFFSETTO:+0200
TZNAME:CEST
DTSTART:20250330T010000
END:DAYLIGHT
BEGIN:STANDARD
TZOFFSETFROM:+0200
TZOFFSETTO:+0100
TZNAME:CET
DTSTART:20251026T010000
END:STANDARD
END:VTIMEZONE
BEGIN:VEVENT
DTSTART;VALUE=DATE:20241123
DTEND;VALUE=DATE:20250112
DTSTAMP:20260423T233056
CREATED:20241115T155401Z
LAST-MODIFIED:20241115T155401Z
UID:109282-1732320000-1736639999@www.kunstleben-berlin.de
SUMMARY:Franka Hörnschemeyer: Blindtext in der Galerie Thomas Schulte
DESCRIPTION:In der Galerie Thomas Schulte präsentiert Franka Hörnschemeyer ihre begehbare Raumskulptur Blindtext von 2009 zusammen mit einer Auswahl von Zeichnungen im Corner und Window Space der Galerie. Die labyrinthartige Struktur aus Aluminiumwabenelementen auf einem erhöhten Podest nimmt die Form eines Hexagons an. Diese Form spiegelt sich in der Außenarchitektur der Galerie wider und tritt als Raum im Raum in den Vordergrund. Die hohen Schaufenster und die vertikalen\, spiegelnden Metallpaneele der Arbeit interagieren miteinander\, mit den Betrachtern und den Passanten auf der Straße – in einem Wechselspiel zwischen versteckten Blicken und Momenten\, in denen verschiedene strukturelle Schichten durchschaut werden können. Innerhalb dieses Beziehungssystems öffnen sich Zwischenräume\, die eine erfahrbare Auseinandersetzung mit der Gestaltung unserer gebauten Umwelt und der Art und Weise\, wie sie uns ihrerseits formt\, ermöglichen. \n
URL:https://www.kunstleben-berlin.de/event/franka-hoernschemeyer-blindtext/
LOCATION:Galerie Thomas Schulte\, Charlottenstraße 24\, Berlin\, 10117\, Deutschland
CATEGORIES:Ausstellung
ATTACH;FMTTYPE=image/jpeg:https://www.kunstleben-berlin.de/wp-content/uploads/2024/11/Franka-Hoernschemeyer_Blindtext_Installation-at-Hamburger-Kunsthalle-2009-Photo-by-Donat-Schilling-scaled.jpg
GEO:52.5102257;13.392153
X-APPLE-STRUCTURED-LOCATION;VALUE=URI;X-ADDRESS=Galerie Thomas Schulte Charlottenstraße 24 Berlin 10117 Deutschland;X-APPLE-RADIUS=500;X-TITLE=Charlottenstraße 24:geo:13.392153,52.5102257
END:VEVENT
END:VCALENDAR