BEGIN:VCALENDAR
VERSION:2.0
PRODID:-//Kunstleben Berlin - das Kunstmagazin - ECPv4.9.13//NONSGML v1.0//EN
CALSCALE:GREGORIAN
METHOD:PUBLISH
X-WR-CALNAME:Kunstleben Berlin - das Kunstmagazin
X-ORIGINAL-URL:https://www.kunstleben-berlin.de
X-WR-CALDESC:Veranstaltungen im Kunstleben Berlin - das Kunstmagazin
BEGIN:VTIMEZONE
TZID:Europe/Berlin
BEGIN:DAYLIGHT
TZOFFSETFROM:+0100
TZOFFSETTO:+0200
TZNAME:CEST
DTSTART:20240331T010000
END:DAYLIGHT
BEGIN:STANDARD
TZOFFSETFROM:+0200
TZOFFSETTO:+0100
TZNAME:CET
DTSTART:20241027T010000
END:STANDARD
END:VTIMEZONE
BEGIN:VEVENT
DTSTART;VALUE=DATE:20240714
DTEND;VALUE=DATE:20240715
DTSTAMP:20260423T190013
CREATED:20240621T122532Z
LAST-MODIFIED:20240624T111918Z
UID:106485-1720915200-1721001599@www.kunstleben-berlin.de
SUMMARY:Führung  durch den Skulpturenpark „Figuren im Park“ auf dem Gelände der DRK Kliniken Berlin Westend.
DESCRIPTION:Ein kultureller Sonntagsspaziergang mit Kunsthistorikerin Dr. Eva Morawietz\, die Sie durch die museale Skulpturenlandschaft „Figuren im Park“ führen wird. Über 30 Werke international namhafter Künstler wie Rolf Szymanski\, Dietrich Klinge\, Wilhelm Loth\, Alexander Polzin\, Horst Antes\, Fritz Cremer und Leiko Ikemura sind Teil dieser öffentlich zugänglichen Freiluftausstellung auf dem Gelände der DRK Kliniken Berlin Westend. \nDr. Eva Morawietz ist Vorständin der FIGUREN IM PARK – Stiftung von Heidi und Dieter Brusberg mit den DRK Kliniken Berlin Westend und leitet ebenso die LUDES Stiftung in Potsdam. \nTreffpunkt: Haupteingang DRK Kliniken (Spandauer Damm 130)\nTeilnahmegebühr: 5\,00 € / ermäßigt 3\,00 €\nZahlung: vor Ort (bar) \n
URL:https://www.kunstleben-berlin.de/event/fuehrung-durch-den-skulpturenpark-figuren-im-park-auf-dem-gelaende-der-drk-kliniken-berlin-westend/
LOCATION:Käthe-Kollwitz-Museum Berlin\, Spandauer Damm 10\, Berlin\, 14059\, Deutschland
ATTACH;FMTTYPE=image/jpeg:https://www.kunstleben-berlin.de/wp-content/uploads/2024/06/Foto-Roman-Maerz.jpeg
GEO:52.5205346;13.2921468
X-APPLE-STRUCTURED-LOCATION;VALUE=URI;X-ADDRESS=Käthe-Kollwitz-Museum Berlin Spandauer Damm 10 Berlin 14059 Deutschland;X-APPLE-RADIUS=500;X-TITLE=Spandauer Damm 10:geo:13.2921468,52.5205346
END:VEVENT
END:VCALENDAR