BEGIN:VCALENDAR
VERSION:2.0
PRODID:-//Kunstleben Berlin - das Kunstmagazin - ECPv4.9.13//NONSGML v1.0//EN
CALSCALE:GREGORIAN
METHOD:PUBLISH
X-WR-CALNAME:Kunstleben Berlin - das Kunstmagazin
X-ORIGINAL-URL:https://www.kunstleben-berlin.de
X-WR-CALDESC:Veranstaltungen im Kunstleben Berlin - das Kunstmagazin
BEGIN:VTIMEZONE
TZID:Europe/Berlin
BEGIN:DAYLIGHT
TZOFFSETFROM:+0100
TZOFFSETTO:+0200
TZNAME:CEST
DTSTART:20250330T010000
END:DAYLIGHT
BEGIN:STANDARD
TZOFFSETFROM:+0200
TZOFFSETTO:+0100
TZNAME:CET
DTSTART:20251026T010000
END:STANDARD
END:VTIMEZONE
BEGIN:VEVENT
DTSTART;VALUE=DATE:20250307
DTEND;VALUE=DATE:20250330
DTSTAMP:20260423T195936
CREATED:20250223T165550Z
LAST-MODIFIED:20250223T165550Z
UID:111805-1741305600-1743292799@www.kunstleben-berlin.de
SUMMARY:Galerie Gegen & Lücke eröffnet mit der „Opening Show“ – Ein neuer Raum für zeitgenössische Kunst in Berlin-Mitte
DESCRIPTION:Es brodelt am Rosa-Luxemburg-Platz: Ein neuer Intendant für die Volksbühne\, Proteste und Festnahmen bei der Gedenkfeier für Karl Liebknecht und Rosa Luxemburg – und nun auch eine neue Galerie\, die die Kunstszene in Berlin-Mitte bereichert. Mit der Eröffnung der Galerie Gegen & Lücke entsteht ein neuer Raum für zeitgenössische Kunst\, der die Vielfalt der bestehenden Kunsträume rund um den Platz ergänzt. Die Opening Show präsentiert als umfassende Gruppenausstellung Künstler:innen\, die die Galerie künftig vertreten wird: Elisa Breyer\, Lars Fischer\, Esther Grüne\, Björn Heyn\, Fabian Hub\, Kevin Lüdicke und Anna Zachariades. Der Fokus liegt auf jungen Talenten aus den Bereichen Malerei und Bildhauerei. Neben der langfristigen Förderung ihrer Künstler:innen versteht sich die Galerie als offener Raum\, der einen unmittelbaren Zugang zur Kunst ermöglicht. \nDer Standort erweitert das bestehende Kunstvermittlungsangebot der Culterim GmbH\, die mit Ateliergemeinschaften\, Artist-in-Residence-Programmen und der Independent Class eine nachhaltige Infrastruktur für Künstler:innen bietet. Trotz des allgegenwärtigen Mangels an Räumen für Kunstschaffende gelingt es Culterim seit 2021\, leerstehende Flächen für künstlerische Arbeit nutzbar zu machen. Die Galerie wird ihren Gewinn in bestehende Culterim-Projekte reinvestieren und so zur finanziellen Förderung und nachhaltigen Stärkung der Berliner Kulturszene beitragen. \nDie Opening Show braucht keinen prätentiösen Titel – denn sie ist genau das: eine unkomplizierte Einführung in das nahbare Programm der Galerie\, das in den kommenden Jahren stetig ausgebaut werden soll. \nText von Julia Meyer-Brehm \nOpening Show\n07. März 2025 – 29. März 2025Vernissage: 07. März 2025\, 18:00–22:00 Uhr \nMit Werken von:Elisa Breyer\, Björn Heyn\, Fabian Hub\, Anna Zachariades\, Kevin Lüdicke\, Esther Grüne\, Lars Fischer \nGalerie Gegen & Lücke \n
URL:https://www.kunstleben-berlin.de/event/galerie-gegen-luecke-eroeffnet-mit-der-opening-show-ein-neuer-raum-fuer-zeitgenoessische-kunst-in-berlin-mitte/
LOCATION:Galerie Gegen & Lücke\, Rosa-Luxemburg-Straße 35\, Berlin\, Berlin\, 10178\, Deutschland
CATEGORIES:Ausstellung
ATTACH;FMTTYPE=image/jpeg:https://www.kunstleben-berlin.de/wp-content/uploads/2025/02/Grafik-Opening-Show-1-scaled.jpg
GEO:52.5200066;13.404954
X-APPLE-STRUCTURED-LOCATION;VALUE=URI;X-ADDRESS=Galerie Gegen & Lücke Rosa-Luxemburg-Straße 35 Berlin Berlin 10178 Deutschland;X-APPLE-RADIUS=500;X-TITLE=Rosa-Luxemburg-Straße 35:geo:13.404954,52.5200066
END:VEVENT
END:VCALENDAR