BEGIN:VCALENDAR
VERSION:2.0
PRODID:-//Kunstleben Berlin - das Kunstmagazin - ECPv4.9.13//NONSGML v1.0//EN
CALSCALE:GREGORIAN
METHOD:PUBLISH
X-WR-CALNAME:Kunstleben Berlin - das Kunstmagazin
X-ORIGINAL-URL:https://www.kunstleben-berlin.de
X-WR-CALDESC:Veranstaltungen im Kunstleben Berlin - das Kunstmagazin
BEGIN:VTIMEZONE
TZID:Europe/Berlin
BEGIN:DAYLIGHT
TZOFFSETFROM:+0100
TZOFFSETTO:+0200
TZNAME:CEST
DTSTART:20170326T010000
END:DAYLIGHT
BEGIN:STANDARD
TZOFFSETFROM:+0200
TZOFFSETTO:+0100
TZNAME:CET
DTSTART:20171029T010000
END:STANDARD
END:VTIMEZONE
BEGIN:VEVENT
DTSTART;TZID=Europe/Berlin:20170715T080000
DTEND;TZID=Europe/Berlin:20170812T170000
DTSTAMP:20260423T164352
CREATED:20170720T050033Z
LAST-MODIFIED:20230810T053843Z
UID:69949-1500105600-1502557200@www.kunstleben-berlin.de
SUMMARY:Galerie REITER und 401contemporary zeigen How To Slice Reality
DESCRIPTION:Galerie REITER und 401contemporary freuen sich\, zu dieser intergenerativen Ausstellung mit vier Künstlern einzuladen\, die sehr individuelle Methoden entwickeln\, um neue Sichtweisen zu ermöglichen. Adolf Luther\, Carsten Goehring\, Alexei Kostroma\, Claus Stabe… \nDer ZERO-Künstler Adolf Luther (1912-1990) betrieb bereits seit den 1950er Jahren eine radikale Abkehr vom gemalten Bild. Seine „energetische“ Kunst war eine Reaktion auf das durch Wissenschaft und Informationen ins Wanken geratene Wirklichkeitsbild mit dem Ziel\, die Lichtwahrnehmung selbst ins Zentrum des Betrachters zu rücken. Er entwickelte seine Konzeption vor dem Hintergrund der Überlegung\, dass sich der unsichtbare energetische Bereich der Wirklichkeit der Abbildung entzieht. \nNachfolgende Künstlergenerationen erhärten diese Auffassung. So erforscht Alexei Kostroma (*1962) systematisch die Wahrnehmung von Farben. Er dokumentiert mit gelben Pigmentarbeiten seinen individuellen Blick in die Sonne – eine wahre oder trügerische Abbildung auf der Retina? \nIn den Werken von Carsten Goering (*1982) und Claus Stabe (*1984) könnte man eher eine Art „tomografischen Blick“ vermuten\, denn sie untersuchen in ihren Bildern die Zwischenräume der visuellen Eindrücke auf Wahrheitsgehalt und auf weitere individuelle Aufschlüsse. \nBeitragsbild: Galerie REITER und 401contemporary \nHow To Slice Reality\n15. Juli bis 12. August 2017 \n401contemporary\nPotsdamer Strasse 81B\, Haus i\n10785 Berlin \n  \n
URL:https://www.kunstleben-berlin.de/event/galerie-reiter-und-401contemporary-zeigen-how-to-slice-reality-adolf-luther-carsten-goehring-alexei-kostroma-claus-stabe/
CATEGORIES:Ausstellung
ATTACH;FMTTYPE=image/jpeg:https://www.kunstleben-berlin.de/wp-content/uploads/2017/07/HowToSliceReality.jpg
END:VEVENT
END:VCALENDAR