BEGIN:VCALENDAR
VERSION:2.0
PRODID:-//Kunstleben Berlin - das Kunstmagazin - ECPv4.9.13//NONSGML v1.0//EN
CALSCALE:GREGORIAN
METHOD:PUBLISH
X-WR-CALNAME:Kunstleben Berlin - das Kunstmagazin
X-ORIGINAL-URL:https://www.kunstleben-berlin.de
X-WR-CALDESC:Veranstaltungen im Kunstleben Berlin - das Kunstmagazin
BEGIN:VTIMEZONE
TZID:Europe/Berlin
BEGIN:DAYLIGHT
TZOFFSETFROM:+0100
TZOFFSETTO:+0200
TZNAME:CEST
DTSTART:20190331T010000
END:DAYLIGHT
BEGIN:STANDARD
TZOFFSETFROM:+0200
TZOFFSETTO:+0100
TZNAME:CET
DTSTART:20191027T010000
END:STANDARD
END:VTIMEZONE
BEGIN:VEVENT
DTSTART;VALUE=DATE:20190529
DTEND;VALUE=DATE:20190531
DTSTAMP:20260423T164431
CREATED:20190509T050052Z
LAST-MODIFIED:20230419T162154Z
UID:77297-1559088000-1559192399@www.kunstleben-berlin.de
SUMMARY:Grisebach bietet 58 Vintage Abzüge von Georg Stefan Troller in der Auktion „Photographie“ an
DESCRIPTION:Der Schriftsteller und Dokumentarfilmer Georg Stefan Troller (* 1921 Wien) ist dem deutschen Publikum vor allem durch seine langjährigen Fernsehserien „Pariser Journal“ und „Personenbeschreibung“ bestens vertraut. Kaum jemand kennt Paris so gut wie er. Nachdem er sich 1949 dauerhaft an der Seine niedergelassen hatte\, begann Troller mit seiner Leica-Kleinbildkamera die abseitigeren und zum Abriss verurteilten Viertel der Stadt zu erkunden. \nDie verloren geglaubten Original-Abzüge aus der Zeit um 1953-1956 wurden erst 2017 von seiner Tochter wiederentdeckt und liegen uns vollzählig vor. \nAm Mittwoch\, den 29. Mai 2019 bietet Grisebach nun 58 Vintage Abzüge von Georg Stefan Troller in der Auktion „Photographie“ an. \nDiandra Donecker\, Geschäftsführerin und Leiterin der Abteilung Photographie: „Es ist aufregend und etwas besonderes\, nicht nur ein\, zwei Fotos\, sondern gleich ein ganzes Konvolut von 58 Vintage-Abzügen dieses einzigartigen Chronisten anbieten zu dürfen. Georg Stefan Troller hat in diesen Bildern seinen Traum von Paris eingefangen. Mit einem zärtlichen\, intelligenten Blick liefert er die Momentaufnahme einer Stadt\, wie sie heute nicht mehr existiert. Die Fotografien sind Zeugnis seiner Lebensgeschichte und zugleich Dokumentation einer Metropole im Wandel. Die Seltenheit und besondere Provenienz der Aufnahmen werden bei Privatsammlern und Institutionen auf Begeisterung stoßen.“ \nGeorg Stefan Troller liest aus seinem Buch „Pariser Traum“ am Donnerstag\, 9. Mai um 18 Uhr in der Villa Grisebach\, Fasanenstraße 25\, Berlin. \n
URL:https://www.kunstleben-berlin.de/event/grisebach-versteigert-fotografien-von-georg-stefan-troller-aus-seiner-fruehen-pariser-zeit/
ATTACH;FMTTYPE=image/jpeg:https://www.kunstleben-berlin.de/wp-content/uploads/2019/04/Montmartre-Zahnweh-an-der-Rue-Saint-Vincent.jpg
END:VEVENT
END:VCALENDAR