BEGIN:VCALENDAR
VERSION:2.0
PRODID:-//Kunstleben Berlin - das Kunstmagazin - ECPv4.9.13//NONSGML v1.0//EN
CALSCALE:GREGORIAN
METHOD:PUBLISH
X-WR-CALNAME:Kunstleben Berlin - das Kunstmagazin
X-ORIGINAL-URL:https://www.kunstleben-berlin.de
X-WR-CALDESC:Veranstaltungen im Kunstleben Berlin - das Kunstmagazin
BEGIN:VTIMEZONE
TZID:Europe/Berlin
BEGIN:DAYLIGHT
TZOFFSETFROM:+0100
TZOFFSETTO:+0200
TZNAME:CEST
DTSTART:20180325T010000
END:DAYLIGHT
BEGIN:STANDARD
TZOFFSETFROM:+0200
TZOFFSETTO:+0100
TZNAME:CET
DTSTART:20181028T010000
END:STANDARD
END:VTIMEZONE
BEGIN:VEVENT
DTSTART;VALUE=DATE:20180713
DTEND;VALUE=DATE:20180901
DTSTAMP:20260423T151846
CREATED:20180704T113519Z
LAST-MODIFIED:20230724T124351Z
UID:73331-1531440000-1535691599@www.kunstleben-berlin.de
SUMMARY:Guest exhibition | Bodo Buhl – Flashback
DESCRIPTION:Bodo Buhl\, sculptor and photo artist\, studied at the Munich Art Academy (1973–1979). His passionate interest in architecture and the finesse of statics shape the creative years from 1979 to 1992\, inspired by themes from the financial and business world. \nThe conceptual and socio-political content of his work is combined with facets of postmodernism and his typical satirical\, pointed humour. In recent years\, before his untimely death\, he has compiled an impressive graphic oeuvre. International exhibitions and presence on the art market brought him great recognition. \nFor the first time we present his entire work in the context of a contemporary reception and classification in contemporary art in order to make the value of the artist visible to an international audience. The exhibition “Flashback”\, realized by Katharina Andrelang and Ulla Gröne\, shows photographs\, sculptures and drawings by the German artist. \nBodo Buhl\, born 1951 in Marienweiher\, Germany.\nHe lived and worked until his death 2010 in Munich\, Germany. \n
URL:https://www.kunstleben-berlin.de/event/guest-exhibition-bodo-buhl-flashback/
LOCATION:Taubert Contemporary\, Knesebeckstr. 90\, Berlin\, 10623\, Deutschland
CATEGORIES:Ausstellung
GEO:52.5062407;13.3979809
X-APPLE-STRUCTURED-LOCATION;VALUE=URI;X-ADDRESS=Taubert Contemporary Knesebeckstr. 90 Berlin 10623 Deutschland;X-APPLE-RADIUS=500;X-TITLE=Knesebeckstr. 90:geo:13.3979809,52.5062407
END:VEVENT
END:VCALENDAR