BEGIN:VCALENDAR
VERSION:2.0
PRODID:-//Kunstleben Berlin - das Kunstmagazin - ECPv4.9.13//NONSGML v1.0//EN
CALSCALE:GREGORIAN
METHOD:PUBLISH
X-WR-CALNAME:Kunstleben Berlin - das Kunstmagazin
X-ORIGINAL-URL:https://www.kunstleben-berlin.de
X-WR-CALDESC:Veranstaltungen im Kunstleben Berlin - das Kunstmagazin
BEGIN:VTIMEZONE
TZID:Europe/Berlin
BEGIN:DAYLIGHT
TZOFFSETFROM:+0100
TZOFFSETTO:+0200
TZNAME:CEST
DTSTART:20220327T010000
END:DAYLIGHT
BEGIN:STANDARD
TZOFFSETFROM:+0200
TZOFFSETTO:+0100
TZNAME:CET
DTSTART:20221030T010000
END:STANDARD
END:VTIMEZONE
BEGIN:VEVENT
DTSTART;VALUE=DATE:20220429
DTEND;VALUE=DATE:20220619
DTSTAMP:20260423T202330
CREATED:20220403T194725Z
LAST-MODIFIED:20221116T084256Z
UID:91328-1651190400-1655596799@www.kunstleben-berlin.de
SUMMARY:Hamlet Lavastida in der Galerie Crone Berlin
DESCRIPTION:Im Rahmen des Gallery Weekend Berlin eröffnet am 29. April 2022 die Galerie Crone Berlin die Ausstellung „Two Two Three Nine“ von Hamlet Lavastida. Der Kubaner Hamlet Lavastida\, geboren 1983 in Havanna\, zählt zu den einflussreichsten lateinamerikanischen Künstlern der jüngeren Generation. Zusammen mit anderen Intellektuellen initiierte er die Demokratiebewegung „27-N“\, die im vergangenen Jahr zu den größten Massenprotesten in der kubanischen Geschichte führte. \nAls Lavastida im September 2021 von einem Residency-Aufenthalt in Berlin nach Havanna zurückkehrte\, wurde er verhaftet und drei Monate in das berüchtigte Gefängnis „Villa Marista“ gesperrt. Nach wochenlangen folterartigen Verhören wurde er ausgebürgert und in die EU abgeschoben. Seit Januar 2022 lebt er in Berlin im Zwangsexil\, Ende Juni 2022 wird er auf Einladung des Künstlerkollektives „ruangrupa“ im Rahmen des Projekts „Instar“ an der documenta fifteen in Kassel teilnehmen. \nZwei Monate vor der documenta gibt die Ausstellung „Two Two Three Nine“ den Gallery-Weekend-Besuchern nun die Gelegenheit\, sich mit Lavastidas Kunst eingehend zu befassen. Auf rund 150 Quadratmetern sind bei Crone Berlin über 45 neue Arbeiten zu sehen\, die der Künstler seit seiner Ausbürgerung geschaffen hat und die sowohl sein persönliches Erleben als auch die Themen Repression\, Diktatur und Machtmissbrauch im Allgemeinen reflektieren. \nIm Mittelpunkt der Ausstellung steht Lavastidas Manifest „Penitentiary Republic“\, um das er einen Kosmos vielfältiger Werke unterschiedlichster Techniken und Genres gruppiert. Neben den für ihn typischen Scherenschnitten finden sich Videoarbeiten\, Leinwandmalereien\, Stempelzeichnungen und Fototapeten. Sie alle fügen sich zu einer raumfüllenden Installation zusammen\, in der Kunst und Agitation verschmelzen\, in der ästhetischer und politischer Anspruch eine Symbiose eingehen und in der Gestaltungswille sowohl formal als auch inhaltlich begriffen wird – der Überzeugung des Künstlers folgend\, dass vor dem Hintergrund weltweiter Verwerfungen\, Kriege\, Geschichtsverfälschungen und Katastrophen das eine nicht vom anderen getrennt werden kann. \nMit dem Titel „Two Two Three Nine“ unterstreicht Lavastida seine persönliche Involviertheit und Zeugenschaft für das Manifest „Penitentiary Republic“\, das er für die Crone-Ausstellung verfasst und visualisiert hat. „Two Two Three Nine“ ist die Nummer\, die ihm die kubanische Staatssicherheit bei seiner Verhaftung zugeteilt hat. Sie ersetzte im Gefängnis seinen Namen. Sie ist bis heute die einzige Identität\, die ihm sein Heimatland zugesteht. Eine Nummer in den Fängen eines Machtapparats. Eine Nummer wie die vielen Nummern\, die Diktaturen in Menschen sehen und die sie bei Bedarf auslöschen. \nHamlet Lavastida\nEröffnung: Freitag\, 29. April 2022\, 18:00 bis 21:00 Uhr \n29. April – 18. Juni 2022 \nGalerie Crone \n
URL:https://www.kunstleben-berlin.de/event/hamlet-lavastida-in-der-galerie-crone-berlin/
LOCATION:Crone Berlin\, Fasanenstrasse 29\, Berlin\, 10719\, Deutschland
CATEGORIES:Ausstellung
ATTACH;FMTTYPE=image/jpeg:https://www.kunstleben-berlin.de/wp-content/uploads/2022/04/2d7fe83c46ca87a5e91c3e06dc883b40f306d6e5.jpeg.jpg
GEO:52.5070119;13.3914517
X-APPLE-STRUCTURED-LOCATION;VALUE=URI;X-ADDRESS=Crone Berlin Fasanenstrasse 29 Berlin 10719 Deutschland;X-APPLE-RADIUS=500;X-TITLE=Fasanenstrasse 29:geo:13.3914517,52.5070119
END:VEVENT
END:VCALENDAR