BEGIN:VCALENDAR
VERSION:2.0
PRODID:-//Kunstleben Berlin - das Kunstmagazin - ECPv4.9.13//NONSGML v1.0//EN
CALSCALE:GREGORIAN
METHOD:PUBLISH
X-WR-CALNAME:Kunstleben Berlin - das Kunstmagazin
X-ORIGINAL-URL:https://www.kunstleben-berlin.de
X-WR-CALDESC:Veranstaltungen im Kunstleben Berlin - das Kunstmagazin
BEGIN:VTIMEZONE
TZID:Europe/Berlin
BEGIN:DAYLIGHT
TZOFFSETFROM:+0100
TZOFFSETTO:+0200
TZNAME:CEST
DTSTART:20240331T010000
END:DAYLIGHT
BEGIN:STANDARD
TZOFFSETFROM:+0200
TZOFFSETTO:+0100
TZNAME:CET
DTSTART:20241027T010000
END:STANDARD
END:VTIMEZONE
BEGIN:VEVENT
DTSTART;VALUE=DATE:20241107
DTEND;VALUE=DATE:20241112
DTSTAMP:20260423T234236
CREATED:20241101T091001Z
LAST-MODIFIED:20241101T111033Z
UID:108833-1730937600-1731369599@www.kunstleben-berlin.de
SUMMARY:"Heaven on earth"
DESCRIPTION:Exhibition opening hours: \n1. day:\nTHU 7 November 2024\, 6 pm – 9 pm\n(Donnerstag\, 18.00 – 21.00 Uhr)\n2. day:\nFRI 8 November 2024\, 2 pm – 8 pm\n(Freitag\, 14.00 – 20.00 Uhr)\n3. day:\nSAT 9 November 2024\, 5 pm – 9 pm\n(Samstag\, 17.00 – 21.00 Uhr)\n4. day:\nSUN 10 November 2024\, 12 pm – 4 pm\n(Sonntag\, 12 Uhr – 16 Uhr) \nLiebe Kunstliebhaber:innen\, \nSie sind herzlich eingeladen\, sich die neue Ausstellung „Heaven on earth“ mit meinen aktuellen Werken – und einigen aus den letzten Jahrzehnten – anzuschauen und mit mir meine 30 Jahre als freischaffende Künstlerin zu feiern. \nSeit 10 Jahren befindet sich meine Galerie in Berlin-Mitte in den Heckmann Höfen\, in der ich internationalen Sammlern meine Werke zeige. \nDazu schreibt die Kunsthistorikerin Dr. Ingrid Gardill: \n„Anmut und Würde\, aber auch lustvolle Ektase\, Kraft und Leichtigkeit sind durch die Frauenkörper hindurch zu erkennen und zu spüren. Diese weibliche\, zukunftsweisende Kraft möchte Susanne Rikus den Besucherinnen und Besuchern der Ausstellung wieder in Erinnerung rufen\, mit ihnen teilen und feiern.\nTräumerisch und zugleich in klaren\, frischen Farben zeigt sie das Thema in vier\, teils großformatigen Acrylbilder der Serie „Temple of Women“\, wo sich Kultträgerinnen oder Priesterinnen tanzend\, betend und musizierend heiter und vollkommen frei in ihrem heiligen Raum bewegen. \nSusanne Rikus malt sie intuitiv und eher andeutend\, um Räume offen zu halten. Dabei spielt der Titel nicht nur auf den Kultraum im Außen an\, sondern auch auf den weiblichen Körper als Tempel\, dem das Göttliche innewohnt.“ \n„Heaven on earth“ ist eine Ausstellung\, die Wege aufzeigt – von Susanne Rikus. \nWeitere Informationen: \nInstagram: #susannerikus\n#susannerikus.fotografie \nMehrere Webseiten der „Art Gallery Susanne Rikus“ unter: https://linktr.ee/SusanneRikus \nBitte vereinbaren Sie einen Termin\, wenn Sie die Ausstellung an anderen Tagen und zu anderen Zeiten sehen möchten. \nFür Fragen bin ich telefonisch erreichbar: 0172-1974480 \nMit freundlichen Grüßen aus Berlin-Mitte \nIhre Susanne Rikus \n
URL:https://www.kunstleben-berlin.de/event/heaven-on-earth/
LOCATION:Art Gallery Susanne Rikus in den Heckmann Höfen\, Oranienburger Str. 32\, Berlin\, 10117\, Deutschland
CATEGORIES:Ausstellung
ATTACH;FMTTYPE=image/jpeg:https://www.kunstleben-berlin.de/wp-content/uploads/2024/10/IMG_7054-2-scaled.jpg
GEO:52.5255845;13.393975
X-APPLE-STRUCTURED-LOCATION;VALUE=URI;X-ADDRESS=Art Gallery Susanne Rikus in den Heckmann Höfen Oranienburger Str. 32 Berlin 10117 Deutschland;X-APPLE-RADIUS=500;X-TITLE=Oranienburger Str. 32:geo:13.393975,52.5255845
END:VEVENT
END:VCALENDAR