BEGIN:VCALENDAR
VERSION:2.0
PRODID:-//Kunstleben Berlin - das Kunstmagazin - ECPv4.9.13//NONSGML v1.0//EN
CALSCALE:GREGORIAN
METHOD:PUBLISH
X-WR-CALNAME:Kunstleben Berlin - das Kunstmagazin
X-ORIGINAL-URL:https://www.kunstleben-berlin.de
X-WR-CALDESC:Veranstaltungen im Kunstleben Berlin - das Kunstmagazin
BEGIN:VTIMEZONE
TZID:Europe/Berlin
BEGIN:DAYLIGHT
TZOFFSETFROM:+0100
TZOFFSETTO:+0200
TZNAME:CEST
DTSTART:20170326T010000
END:DAYLIGHT
BEGIN:STANDARD
TZOFFSETFROM:+0200
TZOFFSETTO:+0100
TZNAME:CET
DTSTART:20171029T010000
END:STANDARD
END:VTIMEZONE
BEGIN:VEVENT
DTSTART;VALUE=DATE:20170907
DTEND;VALUE=DATE:20171016
DTSTAMP:20260423T162850
CREATED:20170813T062717Z
LAST-MODIFIED:20230810T053815Z
UID:70399-1504742400-1508043599@www.kunstleben-berlin.de
SUMMARY:Henrik Eiben - Cornucopia
DESCRIPTION:Wir laden herzlich ein zur Eröffnung der Einzelausstellung ‚Cornucopia‘ von HENRIK EIBEN (*1975 in Tokyo). Der in Hamburg lebende Künstler wird in seiner zweiten Einzelausstellung bei SCHWARZ CONTEMPORARY zwölf neue Papierarbeiten zeigen. \n
URL:https://www.kunstleben-berlin.de/event/henrik-eiben-cornucopia/
LOCATION:SCHWARZ CONTEMPORARY\, Torstraße 170\, Berlin\, 10115\, Deutschland
CATEGORIES:Ausstellung
GEO:52.4926572;13.4237071
X-APPLE-STRUCTURED-LOCATION;VALUE=URI;X-ADDRESS=SCHWARZ CONTEMPORARY Torstraße 170 Berlin 10115 Deutschland;X-APPLE-RADIUS=500;X-TITLE=Torstraße 170:geo:13.4237071,52.4926572
END:VEVENT
END:VCALENDAR