BEGIN:VCALENDAR
VERSION:2.0
PRODID:-//Kunstleben Berlin - das Kunstmagazin - ECPv4.9.13//NONSGML v1.0//EN
CALSCALE:GREGORIAN
METHOD:PUBLISH
X-WR-CALNAME:Kunstleben Berlin - das Kunstmagazin
X-ORIGINAL-URL:https://www.kunstleben-berlin.de
X-WR-CALDESC:Veranstaltungen im Kunstleben Berlin - das Kunstmagazin
BEGIN:VTIMEZONE
TZID:Europe/Berlin
BEGIN:DAYLIGHT
TZOFFSETFROM:+0100
TZOFFSETTO:+0200
TZNAME:CEST
DTSTART:20230326T010000
END:DAYLIGHT
BEGIN:STANDARD
TZOFFSETFROM:+0200
TZOFFSETTO:+0100
TZNAME:CET
DTSTART:20231029T010000
END:STANDARD
BEGIN:DAYLIGHT
TZOFFSETFROM:+0100
TZOFFSETTO:+0200
TZNAME:CEST
DTSTART:20240331T010000
END:DAYLIGHT
BEGIN:STANDARD
TZOFFSETFROM:+0200
TZOFFSETTO:+0100
TZNAME:CET
DTSTART:20241027T010000
END:STANDARD
END:VTIMEZONE
BEGIN:VEVENT
DTSTART;VALUE=DATE:20230914
DTEND;VALUE=DATE:20240115
DTSTAMP:20260423T233513
CREATED:20230709T210308Z
LAST-MODIFIED:20230711T121541Z
UID:100134-1694649600-1705276799@www.kunstleben-berlin.de
SUMMARY:If the Berlin Wind Blows My Flag. Kunst und Internationalisierung vor dem Mauerfall
DESCRIPTION:Die Ausstellung If the Berlin Wind Blows My Flag nimmt anhand der Geschichte des Berliner Künstlerprogramms (BKP) des DAAD die künstlerischen Szenen in West-Berlin vor dem Mauerfall in den Blick. Im Rahmen des Residenzprogramms wurden ab 1963 internationale Kulturschaffende in die Stadt eingeladen\, um West-Berlin vor der „kulturellen Isolation“ zu bewahren. Eine Ausstellung in drei Kapiteln – in der daadgalerie\, dem n.b.k. und der Galerie im Körnerpark – sowie Veranstaltungen in der Akademie der Künste beleuchten die Rolle\, die das Programm für die Herausbildung und Vernetzung künstlerischer Praktiken während des Kalten Krieges hatte und befragt seine kulturpolitische Ausrichtung\, die sich insbesondere in den Auswahlverfahren bemerkbar machte. \nIn der daadgalerie steht die Befragung der Entstehungsgeschichte und des kulturpolitischen Auftrags des Berliner Künstlerprogramms in seinen ersten zehn Jahren im Vordergrund. Anhand historischer Werke (u. a. von KP Brehmer\, George Rickey oder Bridget Riley) sowie Neuproduktionen in Reaktion auf Dokumente und Ephemera aus dem Archiv des Programms (u. a. von Contemporary & und Sonya Schönberger) werden künstlerische Netzwerke nachgezeichnet und etablierte institutionelle Erzählungen neu verhandelt. \nDie Ausstellung im n.b.k. legt den Fokus auf zentrale Ausstellungen und Kunstrichtungen der 1970er und 1980er Jahre\, die im Dialog mit zeitgenössischen Positionen präsentiert werden. Anhand von historischen Projekten im öffentlichen Raum\, Werken des Kritischen Realismus oder dem internationalen Netzwerk um die EP Galerie Schweinebraden in Ost-Berlin wird das Zusammenspiel der künstlerischen Bewegungen innerhalb und jenseits der Grenzen der geteilten Stadt nachgezeichnet. \nIn der Galerie im Körnerpark spürt die erste deutsche Einzelausstellung Agnes Denes. Early Works seit 1979 den ursprünglichen Ideen der Künstlerin nach\, die sie für ein nie zustande gekommenes BKP-Stipendium entwickelt hatte. Neben einer neu entstandenen Wandarbeit werden frühe fotografische und zeichnerische Werke aus den 1970er und 1980er Jahren gezeigt\, die Denes künstlerisches Programm bis heute prägen und Fragen von Wissenschaft\, Ökologie und Körperpolitik thematisieren. \nMit Werken von Bettina von Arnim\, Gábor Bódy\, KP Brehmer\, Marcel Broodthaers\, Stanley Brouwn\, Wojciech Bruszewski\, Daniel Buren\, Vlassis Caniaris\, Rafael Canogar\, Isaac Chong Wai\, Agnes Denes\, Braco Dimitrijević\, Piero Dorazio\, Ieva Epnere\, Wojciech Fangor\, Robert Filliou\, Terry Fox\, Kasia Fudakowski\, K. H. Hödicke\, Dorothy Iannone\, Joan Jonas\, Wolf Kahlen\, Allan Kaprow\, Edward & Nancy Kienholz\, Milan Knížák\, Jan Kotik\, Shigeko Kubota\, Joan La Barbara\, László Lakner\, Maria Lassnig\, Madeyoulook\, Maina-Miriam Munsky\, Ann Noël\, Eduardo Paolozzi\, A. R. Penck\, Michelangelo Pistoletto\, Suzan Pitt\, Yvonne Rainer\, Remo Remotti\, George Rickey\, Bridget Riley\, Alicja Rogalska\, Sonya Schönberger\, Shelly Silver\, Charles Simonds\, Maija Tabaka\, Endre Tót\, Ben Vautier\, Emilio Vedova\, Wolf Vostell\, Lawrence Weiner\, Stephen Willats\, Emmett Williams\, Ruth Wolf-Rehfeldt\, Constantin Xenakis u. a. \nKuratorinnen: Nóra Lukács\, Melanie Roumiguière\nAssoziierte Kurator*innen: Malte Giesen\, Krisztina Hunya\, Yolanda Kaddu-Mulindwa\, Angela Lammert \nDie Ausstellung If the Berlin Wind Blows My Flag ist ein Projekt des Neuen Berliner Kunstvereins (n.b.k.) und des Berliner Künstlerprogramms des DAAD in Kooperation mit der Akademie der Künste und der Galerie im Körnerpark\, gefördert durch den Hauptstadtkulturfonds \nDas Berliner Künstlerprogramm des DAAD vergibt international höchst renommierte Auszeichnungsstipendien. Seit 1963 haben auf Einladung des BKP über 1.300 herausragende ausländische bildende KünstlerInnen\, SchriftstellerInnen\, FilmemacherInnen\, KomponistInnen und KlangkünstlerInnen in Berlin gelebt und gearbeitet. Im Rahmen seiner nachhaltigen Künstlerförderung präsentiert das Programm Arbeiten aktueller wie ehemaliger Gäste in der daadgalerie in Kreuzberg sowie an Partnerinstitutionen in Berlin\, Deutschland und dem Ausland. \nIf the Berlin Wind Blows My Flag.\nKunst und Internationalisierung vor dem Mauerfall\n14. September 2023 – 14. Januar 2024\nEröffnung am 13. September 2023 \nim Rahmen der Berlin Art Week 2023 \ndaadgalerie \nn.b.k. \nGalerie im Körnerpark \n
URL:https://www.kunstleben-berlin.de/event/if-the-berlin-wind-blows-my-flag-kunst-und-internationalisierung-vor-dem-mauerfall/
LOCATION:DAAD-Galerie\, Zimmerstraße 90\, Berlin\, 10117
CATEGORIES:Ausstellung
ATTACH;FMTTYPE=image/jpeg:https://www.kunstleben-berlin.de/wp-content/uploads/2023/07/c_Endre_Tot_Berlin_TOTalJOYS_Westberlin_1979_sw_Fotografie_Foto__Herta_Paraschin.jpeg.jpg
GEO:52.507845;13.3879767
X-APPLE-STRUCTURED-LOCATION;VALUE=URI;X-ADDRESS=DAAD-Galerie Zimmerstraße 90 Berlin 10117;X-APPLE-RADIUS=500;X-TITLE=Zimmerstraße 90:geo:13.3879767,52.507845
END:VEVENT
END:VCALENDAR