BEGIN:VCALENDAR
VERSION:2.0
PRODID:-//Kunstleben Berlin - das Kunstmagazin - ECPv4.9.13//NONSGML v1.0//EN
CALSCALE:GREGORIAN
METHOD:PUBLISH
X-WR-CALNAME:Kunstleben Berlin - das Kunstmagazin
X-ORIGINAL-URL:https://www.kunstleben-berlin.de
X-WR-CALDESC:Veranstaltungen im Kunstleben Berlin - das Kunstmagazin
BEGIN:VTIMEZONE
TZID:Europe/Berlin
BEGIN:DAYLIGHT
TZOFFSETFROM:+0100
TZOFFSETTO:+0200
TZNAME:CEST
DTSTART:20170326T010000
END:DAYLIGHT
BEGIN:STANDARD
TZOFFSETFROM:+0200
TZOFFSETTO:+0100
TZNAME:CET
DTSTART:20171029T010000
END:STANDARD
END:VTIMEZONE
BEGIN:VEVENT
DTSTART;VALUE=DATE:20170914
DTEND;VALUE=DATE:20170918
DTSTAMP:20260423T200849
CREATED:20170906T170619Z
LAST-MODIFIED:20260313T101907Z
UID:70746-1505347200-1505624399@www.kunstleben-berlin.de
SUMMARY:Internationales Klangkunstfest Berlin - Festival aktueller Klingender Kunst
DESCRIPTION:Kulturaustausch :: Cultural Exchange\nKonzerte-Ausstellung-Soundwalks-Symposium \nDieses Jahr bewegt sich das Festival nicht nur zwischen den bekannten Sparten und Genres\, sondern auch zwischen verschiedenen Kulturen; es spürt Formen\, Strategien und ästhetischen Ausprägungen zeitgenössischen Klangkunstschaffens internationaler\, in Berlin aktiver Künstler*innen nach\, aktuellen interkulturellen Berührungspunkten und kulturellen Wurzeln. \n14. 9. 2017\n19:00h Soundwalk\n20:30h „Kammerensemble ad hoc“ Werke von Susanne Stelzenbach\, John Cage\, Hommage á Karlheinz Stockhausen\, Thomas Gerwin UA \, Martin Daske\, “WAH“ (Weber/Anderson/Helschinger) UA \n15. 9. 2017\n19:00h Soundwalk\n20:30h Robin Hayward UA\, Steve Reich\, Biliana Voutchkova UA\, Eric Wong UA und “BIT“ (Pudelko/Gerwin/Reulecke) UA \n16. 9. 2017\n19:00h Soundwalk\n20:30h Katia Guedes UA\, Helmut Zapf UA\, Ruth Pulgram/Katia Guedes UA\, Akemi Nagao+Michael Tuttle UA \n17. 9. 2017\n11:00-16:00h Symposium\nDr. Julia Schröder\, Dr. Miriam Akkermann + Festival-Künstler_innen\, „Intercultural Music Pool“ UA und Werke von Sten Hanson und Darren Copeland \n14.-17. 9. 2017 Ausstellung (geöffnet Do-Sa 18:30-23:00h / So 10:30-16:30h)\nWerke von Adam Geczy WP\, Thomas Gerwin\, Francis Heery WP\, Seiji Morimoto WP\, Ruth Pulgram WP\, Nicolas Wiese WP \nVeranstalter: inter art project in Kooperation mit Bibliothek am Luisenbad\, Institut für multisensoriale Kunst\, EMF New York und Exploratorium Berlin.\nKünstlerische Leitung: Thomas Gerwin.\nGefördert von ‚initiative neue musik‘ Berlin und Musikfonds. \n
URL:https://www.kunstleben-berlin.de/event/internationales-klangkunstfest-berlin-festival-aktueller-klingender-kunst/
LOCATION:Bibliothek am Luisenbad\, Badstr.39\, Berlin\, 13357\, Deutschland
CATEGORIES:Begleitprogramm zur Ausstellung
GEO:52.55342;13.37871
X-APPLE-STRUCTURED-LOCATION;VALUE=URI;X-ADDRESS=Bibliothek am Luisenbad Badstr.39 Berlin 13357 Deutschland;X-APPLE-RADIUS=500;X-TITLE=Badstr.39:geo:13.37871,52.55342
END:VEVENT
END:VCALENDAR