BEGIN:VCALENDAR
VERSION:2.0
PRODID:-//Kunstleben Berlin - das Kunstmagazin - ECPv4.9.13//NONSGML v1.0//EN
CALSCALE:GREGORIAN
METHOD:PUBLISH
X-WR-CALNAME:Kunstleben Berlin - das Kunstmagazin
X-ORIGINAL-URL:https://www.kunstleben-berlin.de
X-WR-CALDESC:Veranstaltungen im Kunstleben Berlin - das Kunstmagazin
BEGIN:VTIMEZONE
TZID:Europe/Berlin
BEGIN:DAYLIGHT
TZOFFSETFROM:+0100
TZOFFSETTO:+0200
TZNAME:CEST
DTSTART:20170326T010000
END:DAYLIGHT
BEGIN:STANDARD
TZOFFSETFROM:+0200
TZOFFSETTO:+0100
TZNAME:CET
DTSTART:20171029T010000
END:STANDARD
END:VTIMEZONE
BEGIN:VEVENT
DTSTART;TZID=Europe/Berlin:20170706T080000
DTEND;TZID=Europe/Berlin:20170706T170000
DTSTAMP:20260424T000339
CREATED:20170708T050024Z
LAST-MODIFIED:20230810T053849Z
UID:69392-1499328000-1499360400@www.kunstleben-berlin.de
SUMMARY:janinebeangallery präsentiert Grigori Dor mit Falling Empire
DESCRIPTION:Grigori Dor kam bereits 1990 im Rahmen eines DAAD-Stipendiums aus Sibirien nach Berlin. Seine Gemälde wurden national und international in Galerien\, Kunstmessen und Museen gezeigt und sind in verschiedenen privaten und öffentlichen Sammlungen vertreten. \n \nDer Prozess der Malerei von Grigori Dor beginnt mit Collagieren. Seine Quellen sind bedrucktes Papier\, das uns umgibt: Fotografien aus Printmedien\, Abbildungen in Hochglanzmagazinen\, Bilderschnipsel und Informationsreste von den Werbetafeln. Er arrangiert sie in Collagenformationen zu lebendigen Kollisionen der gefundenen Abbildungen. Wiederverwendung und Aneignung der Bilder sind wichtige Elemente in seiner Arbeit. \nGrigori Dor\, Still Life With A Torso 140 x 100 Öl auf Leinwand 2017\n  \nDurch Transformation von Bildern und deren Isolierung aus bestehenden Zusammenhängen\, durch das Neukombinieren\, Abfotografieren und das schließliche Übertragen auf die Leinwand durch Malerei erschafft er neue Kontexte und Realitäten und untersucht das kollektive Bildgedächtnis. \nBeitragsbild: Grigori Dor\, Still Life With Two Likes dypt 190 x 300 cm Ölauf Leinwand 2017 \nGrigori Dor mit Falling Empire\n8. Juli – 26. August 2017 \njaninebeangallery\nTorstrasse 154\n10115 Berlin \n
URL:https://www.kunstleben-berlin.de/event/janinebeangallery-praesentiert-grigori-dor-mit-falling-empire/
CATEGORIES:Ausstellung
ATTACH;FMTTYPE=image/jpeg:https://www.kunstleben-berlin.de/wp-content/uploads/2017/07/Grigori-Dor-Still-Life-With-Two-Likes-dypt-190-x-300-cm-Ölauf-Leinwand-2017.jpg
END:VEVENT
END:VCALENDAR