BEGIN:VCALENDAR
VERSION:2.0
PRODID:-//Kunstleben Berlin - das Kunstmagazin - ECPv4.9.13//NONSGML v1.0//EN
CALSCALE:GREGORIAN
METHOD:PUBLISH
X-WR-CALNAME:Kunstleben Berlin - das Kunstmagazin
X-ORIGINAL-URL:https://www.kunstleben-berlin.de
X-WR-CALDESC:Veranstaltungen im Kunstleben Berlin - das Kunstmagazin
BEGIN:VTIMEZONE
TZID:Europe/Berlin
BEGIN:DAYLIGHT
TZOFFSETFROM:+0100
TZOFFSETTO:+0200
TZNAME:CEST
DTSTART:20250330T010000
END:DAYLIGHT
BEGIN:STANDARD
TZOFFSETFROM:+0200
TZOFFSETTO:+0100
TZNAME:CET
DTSTART:20251026T010000
END:STANDARD
BEGIN:DAYLIGHT
TZOFFSETFROM:+0100
TZOFFSETTO:+0200
TZNAME:CEST
DTSTART:20260329T010000
END:DAYLIGHT
BEGIN:STANDARD
TZOFFSETFROM:+0200
TZOFFSETTO:+0100
TZNAME:CET
DTSTART:20261025T010000
END:STANDARD
END:VTIMEZONE
BEGIN:VEVENT
DTSTART;VALUE=DATE:20251108
DTEND;VALUE=DATE:20260119
DTSTAMP:20260423T203644
CREATED:20251015T154839Z
LAST-MODIFIED:20251015T154839Z
UID:113960-1762560000-1768694400@www.kunstleben-berlin.de
SUMMARY:Käthe Kollwitz - Stille Kraft
DESCRIPTION:Die Son­der­aus­stel­lung prä­sen­tiert sel­te­ne Zeich­nun­gen und Zu­stands­dru­cke von Käthe Kollwitz aus der be­deu­ten­den Pri­vat­samm­lung der Köl­ne­rin Ute Kahl. Der Fo­kus liegt auf jenen Blät­tern\, die sich mit dem As­pekt der Ein­fühl­sam­keit im Œuvre von Käthe Kollwitz be­schäf­ti­gen. So wird ein neuer Blick auf das Werk der Künstlerin er­öff­net.\nZur Aus­stel­lung er­scheint eine Be­gleit­pu­bli­ka­tion. \n
URL:https://www.kunstleben-berlin.de/event/kaethe-kollwitz-stille-kraft/
LOCATION:Käthe-Kollwitz-Museum Berlin\, Spandauer Damm 10\, Berlin\, 14059\, Deutschland
CATEGORIES:Ausstellung
ATTACH;FMTTYPE=image/jpeg:https://www.kunstleben-berlin.de/wp-content/uploads/2025/10/22_NT-592-Selbstbildnis-mit-geschlossenen-Augen-VS-scaled.jpg
GEO:52.5205346;13.2921468
X-APPLE-STRUCTURED-LOCATION;VALUE=URI;X-ADDRESS=Käthe-Kollwitz-Museum Berlin Spandauer Damm 10 Berlin 14059 Deutschland;X-APPLE-RADIUS=500;X-TITLE=Spandauer Damm 10:geo:13.2921468,52.5205346
END:VEVENT
END:VCALENDAR