BEGIN:VCALENDAR
VERSION:2.0
PRODID:-//Kunstleben Berlin - das Kunstmagazin - ECPv4.9.13//NONSGML v1.0//EN
CALSCALE:GREGORIAN
METHOD:PUBLISH
X-WR-CALNAME:Kunstleben Berlin - das Kunstmagazin
X-ORIGINAL-URL:https://www.kunstleben-berlin.de
X-WR-CALDESC:Veranstaltungen im Kunstleben Berlin - das Kunstmagazin
BEGIN:VTIMEZONE
TZID:Europe/Berlin
BEGIN:DAYLIGHT
TZOFFSETFROM:+0100
TZOFFSETTO:+0200
TZNAME:CEST
DTSTART:20170326T010000
END:DAYLIGHT
BEGIN:STANDARD
TZOFFSETFROM:+0200
TZOFFSETTO:+0100
TZNAME:CET
DTSTART:20171029T010000
END:STANDARD
END:VTIMEZONE
BEGIN:VEVENT
DTSTART;TZID=Europe/Berlin:20170429T180000
DTEND;TZID=Europe/Berlin:20170501T180000
DTSTAMP:20260423T150024
CREATED:20170519T172136Z
LAST-MODIFIED:20230810T053901Z
UID:57386-1493488800-1493661600@www.kunstleben-berlin.de
SUMMARY:KLB lädt ein: Hope in der Willner Brauerei meets Kunst gegen Kälte
DESCRIPTION:„Ich weigere mich ohne Hoffnung zu sein!“ Dieser Ausspruch von Nadine Gordimer ist der Grundtenor der diesjährigen Ausstellung PRIESTSandPRAWNS\, die mit HOPE übertitelt ist. Damit das keine leere Phrase bleibt\, haben sich die Macher etwas Besonderes ausgedacht: eine Versteigerung zu Gunsten der Organisation Kunst gegen Kälte. \nKunst kann die Welt verändern\, das sagte schon Joseph Beuys: „Die einzige revolutionäre Kraft ist die Kunst“. Sicher wird die geplante Auktion „Kunst gegen Kälte“ die Welt nicht umkrempeln\, aber die Organisatorinnen\, Romy Campe und Jeannette Hagen\, haben sich auf die Fahne geschrieben\, sie für die Menschen\, die es weniger gut haben als wir\, ein bisschen wärmer\, liebevoller\, gemeinschaftlicher zu gestalten. Dass sie ihr Handwerk verstehen\, haben sie bereits bewiesen\, als sie über eine großangelegte eBay-Auktion 6.000 Euro eingenommen haben und dieses Geld an drei Hilfsorganisationen verteilt haben. \nDas Geld dieser Auktion fließt in ein Projekt\, das ganz konkret Leben rettet. Der Verein Mission Lifeline hat vor ein paar Wochen ein Schiff gekauft und wird – wenn die Mittel ausreichen – damit im Mittelmeer unterwegs sein\, um Geflohene aus seeuntauglichen Schlauchbooten zu bergen. Wie dringend dieses Projekt ist\, zeigt sich bei einem Blick auf die Zahlen: allein in diesem Jahr sind bis März bereits 521 Menschen auf der Flucht ertrunken. Seit 2014 sind es über 10.000. All diese Menschen waren von Hoffnung getragen. Hoffnung auf ein besseres Leben\, Hoffnung auf eine Arbeit\, Hoffnung darauf\, die eigene Familie versorgen zu können. \nDa PRIESTSandPRAWNS im Gegensatz zu traditionellen Ausstellungsorten und Konzepten stets individuelle und unverwechselbare KUNST-EVENTS organisiert\, wird auch die Auktion anders verlaufen\, als gewohnt. Neben den jeweiligen Ausstellungsexponaten werden kleine Boxen stehen\, in die die Gebote per Zettel eingeworfen werden können. \nFreuen Sie sich also auf ein hochwertiges Kunst-Event und auf innovative zeitgenössische Kunst\, die eine klare Sprache spricht\, provoziert und zum Nachdenken anregt. Handverlesene Kunst wird mit Live-Acts und Dj`s kombiniert. \nViele hochkarätige Künstler haben sich bereiterklärt\, etwas zu spenden: Unter anderem Max Riemelt\, Stacy O.\, Pal B. Stock\, MASCH\, Romy Campe…\nWir stellen alle teilnehmenden Künstler in den nächsten Wochen hier auf KUNSTLEBEN BERLIN vor.\nDie Kunst gegen Kälte Kunst-Auktion findet im Zuge des Gallery Weekends statt! \nHOPE von PRIESTSandPRAWNS\nOPENING:  29.04.2017 / 18 – 22 Uhr\nAUSSTELLUNG: 30.04.2017 / 18 – 22 Uhr\nCLOSING: 01.05.2017 / 15 – 18 Uhr \nWillner Brauerei\nBerliner Straße 80-82\, 13189 Berlin\nPOWERED BY: PRIESTSandPRAWNS \n
URL:https://www.kunstleben-berlin.de/event/klb-laedt-ein-hope-in-der-willner-brauerei-meets-kunst-gegen-kaelte/
LOCATION:Willner Brauerei\, Berliner Straße 80-82\, Berlin\, 13189\, Deutschland
CATEGORIES:Ausstellung
ATTACH;FMTTYPE=image/jpeg:https://www.kunstleben-berlin.de/wp-content/uploads/2017/04/priestsandprawns-kunstleben-berlin.jpg
GEO:52.5560546;13.4147942
X-APPLE-STRUCTURED-LOCATION;VALUE=URI;X-ADDRESS=Willner Brauerei Berliner Straße 80-82 Berlin 13189 Deutschland;X-APPLE-RADIUS=500;X-TITLE=Berliner Straße 80-82:geo:13.4147942,52.5560546
END:VEVENT
END:VCALENDAR